BEGIN:VCALENDAR
VERSION:2.0
PRODID:-//British Judo Association - ECPv6.15.18//NONSGML v1.0//EN
CALSCALE:GREGORIAN
METHOD:PUBLISH
X-ORIGINAL-URL:https://www.britishjudo.org.uk
X-WR-CALDESC:Events for British Judo Association
REFRESH-INTERVAL;VALUE=DURATION:PT1H
X-Robots-Tag:noindex
X-PUBLISHED-TTL:PT1H
BEGIN:VTIMEZONE
TZID:Europe/London
BEGIN:DAYLIGHT
TZOFFSETFROM:+0000
TZOFFSETTO:+0100
TZNAME:BST
DTSTART:20240331T010000
END:DAYLIGHT
BEGIN:STANDARD
TZOFFSETFROM:+0100
TZOFFSETTO:+0000
TZNAME:GMT
DTSTART:20241027T010000
END:STANDARD
BEGIN:DAYLIGHT
TZOFFSETFROM:+0000
TZOFFSETTO:+0100
TZNAME:BST
DTSTART:20250330T010000
END:DAYLIGHT
BEGIN:STANDARD
TZOFFSETFROM:+0100
TZOFFSETTO:+0000
TZNAME:GMT
DTSTART:20251026T010000
END:STANDARD
BEGIN:DAYLIGHT
TZOFFSETFROM:+0000
TZOFFSETTO:+0100
TZNAME:BST
DTSTART:20260329T010000
END:DAYLIGHT
BEGIN:STANDARD
TZOFFSETFROM:+0100
TZOFFSETTO:+0000
TZNAME:GMT
DTSTART:20261025T010000
END:STANDARD
BEGIN:DAYLIGHT
TZOFFSETFROM:+0000
TZOFFSETTO:+0100
TZNAME:BST
DTSTART:20270328T010000
END:DAYLIGHT
BEGIN:STANDARD
TZOFFSETFROM:+0100
TZOFFSETTO:+0000
TZNAME:GMT
DTSTART:20271031T010000
END:STANDARD
END:VTIMEZONE
BEGIN:VEVENT
DTSTART;VALUE=DATE:20260228
DTEND;VALUE=DATE:20260301
DTSTAMP:20260421T173706
CREATED:20241024T073521Z
LAST-MODIFIED:20251118T104153Z
UID:456347-1772236800-1772323199@www.britishjudo.org.uk
SUMMARY:BJA Level 1 Coaching Course - 28th Feb and 1st Mar 2026 - Bristol - FULLY BOOKED
DESCRIPTION:This course is now fully booked please email coaching@britishjudo.org.uk to be placed on the reserve list.\nThe BJA Level 1 award is the starting point for your coaching journey in judo.\nIf you are new to coaching judo\, have limited coaching knowledge or want to get more involved in your club\, then this is the course for you. \nThe course focuses on the ‘how to coach skills’ using practical technical examples (where relevant) to apply these skills; basic technical principles of ne-waza and tachi-waza; health and safety; and basic judo rules. \nOn successful completion of this course candidates will receive a British Judo Association Level 1 coaching award and will be equipped to work under supervision of BJA Level 2 or higher valid coach on any relevant coaching sessions. Once they have turned 18 years of age\, a BJA Level 1 coach may\, upon the discretion of BJA Level 2 or higher valid coach\, also work independently under supervised instruction. \nThe course will run across two dates\, you will need to attend both days. \nVenue: Yate Star\, Yate Community Centre\, 100 Station Road\, Yate\, Bristol BS37 4PQ U \nDay One: 28th Feb 2026 \nDay Two / Assessment: 1st March 2026 \nWhat do you need before you can sign up?\n\nBe at least 16 years of age\nBe a current member of the British Judo Association\nHold a minimum British Judo Association 2nd Kyu Grade\nHave a good knowledge of the British Judo Mon and Kyu Grade Syllabi\nBe able to communicate effectively in English (listening\, speaking\, reading and writing)\n\nCourse details\nCandidates are required to complete a Portfolio Tasks within six month of their assessment. These tasks include: \n\nFour session plans (minimum of two session plans to be completed before assessment day)\nTwo ne-waza and two tachi-waza coaching point diagrams\nHealth and Safety task – facility check and basic first aid\nSafeguarding and Protecting Children\nContest Rules\n\nFor more information about the course\, please contact dermot.heslop@britishjudo.org.uk\nFor further information on how we handle your data\, please read our Privacy Notice: https://www.britishjudo.org.uk/privacy-policy/
URL:https://www.britishjudo.org.uk/event/bja-level-1-coaching-course-28feb-1mar-26/
LOCATION:Yate Star Judo Club\, Yate Community Centre\, 100 Station Road\, Yate\, Bristol\, BS37 4PQ\, United Kingdom
ORGANIZER;CN="Dermot Heslop":MAILTO:dermot.heslop@britishjudo.org.uk
GEO:51.5405771;-2.4226671
X-APPLE-STRUCTURED-LOCATION;VALUE=URI;X-ADDRESS=Yate Star Judo Club Yate Community Centre 100 Station Road Yate Bristol BS37 4PQ United Kingdom;X-APPLE-RADIUS=500;X-TITLE=Yate Community Centre\, 100 Station Road:geo:-2.4226671,51.5405771
END:VEVENT
BEGIN:VEVENT
DTSTART;VALUE=DATE:20260125
DTEND;VALUE=DATE:20260126
DTSTAMP:20260421T173706
CREATED:20250502T104635Z
LAST-MODIFIED:20251120T133152Z
UID:460923-1769299200-1769385599@www.britishjudo.org.uk
SUMMARY:Technical Grading Level 1 & Technical Grading Level 2 – 25 Jan 26 - Bristol\, Yate Star
DESCRIPTION:Technical Grading Level 1 \n09:00 – 12:45 \nThe aim of this module is to deliver\, discuss and work with the technical requirement of British Judo’s ‘Mon and Kyu Grading Syllabus’ 1st to 9th Mon and the Kyu grade equivalent in order that coaches can confidently prepare and grade players Novice to 6th Mon and Novice to 5th Kyu. \nTechnical Grading Level 2 \n13:15 – 17:00 \nThe aim of this module is to deliver\, discuss and work with the technical requirement of British Judo’s ‘Mon and Kyu Grading Syllabus’ 10th to 18th Mon and the Kyu grade equivalent) in order that coaches can confidently prepare athletes for examination. \nUse the booking form below to complete your registration. \nCost: £20 each or £30 for both \nThis is a British Judo Association Licensed Coach Education Course \n  \nIf the form does not appear below it is likely due to your device settings.\nPlease clear your “Cookies” and/or open this page in a private window IE. Incognito/InPrivate mode.
URL:https://www.britishjudo.org.uk/event/technical-grading-level-1-technical-grading-level-2-25-jan-26-yate-star/
LOCATION:Yate Star Judo Club\, Yate Community Centre\, 100 Station Road\, Yate\, Bristol\, BS37 4PQ\, United Kingdom
ORGANIZER;CN="Keith Merrick":MAILTO:Keith.merrick@britishjudo.org.uk
GEO:51.5405771;-2.4226671
X-APPLE-STRUCTURED-LOCATION;VALUE=URI;X-ADDRESS=Yate Star Judo Club Yate Community Centre 100 Station Road Yate Bristol BS37 4PQ United Kingdom;X-APPLE-RADIUS=500;X-TITLE=Yate Community Centre\, 100 Station Road:geo:-2.4226671,51.5405771
END:VEVENT
BEGIN:VEVENT
DTSTART;VALUE=DATE:20250920
DTEND;VALUE=DATE:20250922
DTSTAMP:20260421T173706
CREATED:20241024T075316Z
LAST-MODIFIED:20250528T091317Z
UID:456355-1758326400-1758499199@www.britishjudo.org.uk
SUMMARY:British Judo 1st4Sport Level Two Coaching Course: 20th and 21st September\, 18th and 19th October and 16th November 2025 - Bristol
DESCRIPTION:The 1st4Sport Level 2 Award in Coaching Judo is the second step on British Judo’s coaching pathway.\nThis course aims to provide candidates with an introduction to the processes and principles of coaching judo to adults and children. \nIf you are already a qualified coach and are looking to develop your knowledge and skills to deliver better and more sessions at your club\, then this is the course for you. \nOn successful completion of this course candidates will receive a 1st4Sport Level 2 coaching award and will be equipped to deliver sessions independently and work alongside a 1st4Sport Level 3 judo coach during club or other relevant coaching sessions. 1st4Sport Level 2 coaches are also able to set up their own judo club(s).  \nThe course will run on two weekends. \nWeekend 1: 20th and 21st September 2025\nWeekend 2: 18th and 19th October 2025 \n(Assessment Day: 16th November 2025) \nVenue: Yate Star Judo Club\, Yate Community Centre\, 100 Station Road Yate\, Bristol\, BS37 4PQ \nWhat do you need before you can sign up?\n\nBe at least 18 years old\nBe a current member of the British Judo Association\nHold a minimum British Judo Association 1st Kyu Grade\nIt is recommended that candidates hold a BJA Level 1 coaching award\nBe able to communicate effectively in English (listening\, speaking\, reading and writing)\n\nCourse details\nCandidates are required to complete the 15 module programme\, a mock assessment and a personal action planning process as part of the training. This will be followed by a period of extended study and logged coaching practice prior to the final assessment. Candidates will work through the following units as part of this course: \n\nUnderstanding the Fundamentals of Coaching Sport\nUnderstanding how to Develop Participants through Coaching Sport\nSupporting Participants’ Lifestyle through Coaching Sport\nUnderstanding the Principles of Safe and Equitable Coaching Practice\nPlan a Series of Judo Coaching Sessions\nPrepare the Judo Coaching Environment\nDeliver a Series of Judo Coaching Sessions\nMonitor and Evaluate Judo Coaching Sessions\n\nThe final assessment day is held approximately 8 weeks after the learning programme has finished. \nFor more information about the course\, please contact dermot.heslop@britishjudo.org.uk\nPlease book your place below.\n\n\nFor further information on how we handle your data\, please read our Privacy Notice: https://www.britishjudo.org.uk/privacy-policy/
URL:https://www.britishjudo.org.uk/event/british-judo-1st4sport-level-two-coaching-course-20th-and-21st-september-18th-and-19th-october-and-16th-november-2025-bristol/
LOCATION:Yate Star Judo Club\, Yate Community Centre\, 100 Station Road\, Yate\, Bristol\, BS37 4PQ\, United Kingdom
CATEGORIES:Coaching,Course
ORGANIZER;CN="Dermot Heslop":MAILTO:dermot.heslop@britishjudo.org.uk
GEO:51.5405771;-2.4226671
X-APPLE-STRUCTURED-LOCATION;VALUE=URI;X-ADDRESS=Yate Star Judo Club Yate Community Centre 100 Station Road Yate Bristol BS37 4PQ United Kingdom;X-APPLE-RADIUS=500;X-TITLE=Yate Community Centre\, 100 Station Road:geo:-2.4226671,51.5405771
END:VEVENT
END:VCALENDAR