BEGIN:VCALENDAR
VERSION:2.0
PRODID:-//British Judo Association - ECPv6.15.18//NONSGML v1.0//EN
CALSCALE:GREGORIAN
METHOD:PUBLISH
X-ORIGINAL-URL:https://www.britishjudo.org.uk
X-WR-CALDESC:Events for British Judo Association
REFRESH-INTERVAL;VALUE=DURATION:PT1H
X-Robots-Tag:noindex
X-PUBLISHED-TTL:PT1H
BEGIN:VTIMEZONE
TZID:Europe/London
BEGIN:DAYLIGHT
TZOFFSETFROM:+0000
TZOFFSETTO:+0100
TZNAME:BST
DTSTART:20240331T010000
END:DAYLIGHT
BEGIN:STANDARD
TZOFFSETFROM:+0100
TZOFFSETTO:+0000
TZNAME:GMT
DTSTART:20241027T010000
END:STANDARD
BEGIN:DAYLIGHT
TZOFFSETFROM:+0000
TZOFFSETTO:+0100
TZNAME:BST
DTSTART:20250330T010000
END:DAYLIGHT
BEGIN:STANDARD
TZOFFSETFROM:+0100
TZOFFSETTO:+0000
TZNAME:GMT
DTSTART:20251026T010000
END:STANDARD
BEGIN:DAYLIGHT
TZOFFSETFROM:+0000
TZOFFSETTO:+0100
TZNAME:BST
DTSTART:20260329T010000
END:DAYLIGHT
BEGIN:STANDARD
TZOFFSETFROM:+0100
TZOFFSETTO:+0000
TZNAME:GMT
DTSTART:20261025T010000
END:STANDARD
END:VTIMEZONE
BEGIN:VEVENT
DTSTART;TZID=Europe/London:20251012T100000
DTEND;TZID=Europe/London:20251012T130000
DTSTAMP:20260421T171704
CREATED:20250417T073115Z
LAST-MODIFIED:20251002T113023Z
UID:460719-1760263200-1760274000@www.britishjudo.org.uk
SUMMARY:First Aid - Worcester - 12 Oct 25 - FULLY BOOKED
DESCRIPTION:This course is now fully booked\nFirst Aid Course \nWorcester Judo Club\, Unit 12\, Lowesmoor Wharf\, Worcester\, WR1 2RS \nSunday 12th October 10.00am – 1.00pm \nCost – £35 \nA First Aid course satisfying the requirements of BJA Coaches seeking revalidation. \n  \n\n  \n 
URL:https://www.britishjudo.org.uk/event/first-aid-worcester-12-oct-25/
LOCATION:Worcester Judo Club\, Unit 12\, Lowesmoor Wharf\,\, Worcester\, Worcester\, WR1 2RS\, United Kingdom
CATEGORIES:First Aid
ORGANIZER;CN="Laurence Kenyon":MAILTO:Laurence.kenyon@britishjudo.org.uk
GEO:52.1957117;-2.2223063
X-APPLE-STRUCTURED-LOCATION;VALUE=URI;X-ADDRESS=Worcester Judo Club Unit 12 Lowesmoor Wharf Worcester Worcester WR1 2RS United Kingdom;X-APPLE-RADIUS=500;X-TITLE=Unit 12\, Lowesmoor Wharf\,:geo:-2.2223063,52.1957117
END:VEVENT
BEGIN:VEVENT
DTSTART;TZID=Europe/London:20250921T100000
DTEND;TZID=Europe/London:20250921T150000
DTSTAMP:20260421T171704
CREATED:20250423T105158Z
LAST-MODIFIED:20250528T091458Z
UID:460750-1758448800-1758466800@www.britishjudo.org.uk
SUMMARY:Judo Fit - 21 Sep 25 - Worcester
DESCRIPTION:To encourage BJA judo players and potential members to participate in the sport of judo in a non-contact (novice) or contact (experienced player’s) style while working to the beat of music. \nNon judo people are very welcome to participate in the workshop. \n21st September 2025 from 10:00 – 15:00 \nCourse organiser: Dermot Heslop – dermot.heslop@britishjudo.org.uk – 07976 216 447 \nThis is a British Judo Association Licensed Coach Education/Revalidation Course
URL:https://www.britishjudo.org.uk/event/judo-fit-21-sep-25-worcester/
LOCATION:Worcester Judo Club\, Unit 12\, Lowesmoor Wharf\,\, Worcester\, Worcester\, WR1 2RS\, United Kingdom
CATEGORIES:Other
ORGANIZER;CN="Dermot Heslop":MAILTO:dermot.heslop@britishjudo.org.uk
GEO:52.1957117;-2.2223063
X-APPLE-STRUCTURED-LOCATION;VALUE=URI;X-ADDRESS=Worcester Judo Club Unit 12 Lowesmoor Wharf Worcester Worcester WR1 2RS United Kingdom;X-APPLE-RADIUS=500;X-TITLE=Unit 12\, Lowesmoor Wharf\,:geo:-2.2223063,52.1957117
END:VEVENT
BEGIN:VEVENT
DTSTART;TZID=Europe/London:20250601T100000
DTEND;TZID=Europe/London:20250601T160000
DTSTAMP:20260421T171704
CREATED:20250414T094408Z
LAST-MODIFIED:20250528T081836Z
UID:460657-1748772000-1748793600@www.britishjudo.org.uk
SUMMARY:Finding Your Feet Coach Education Workshop – Worcester Judo Club – 1 June 2025
DESCRIPTION:In 2023 British Judo launched the Finding Your Feet programme\, giving coaches an opportunity that not only enhances a coaching portfolio but also allows them to make a significant impact upon individuals’ lives in within their community. \nDeveloped in collaboration with the University of Hertfordshire and Anglia Ruskin University\, “Finding Your Feet”\, is a program designed to revolutionise how we approach falls among older adults. \nWe are now pleased to launch the second batch of “Finding Your Feet” Coach Education Workshop. These workshops are designed to help coaches upskill in delivering safer falls/falls prevention sessions to elderly participants. \nLearn the essential techniques and strategies to ensure the safety and well-being of your participants while enhancing their physical fitness and confidence. \nDon’t miss out on this valuable workshop that will equip you with the knowledge and tools to make a positive impact in the lives of our senior community members. \nCost: £30 \nDate/Times: Sunday 1st June 2025 – 10:00-16:00 \nVenue: Worcester Judo Club\, Unit 12\, Lowesmoor Wharf\, Worcester WR1 2RS \nFor more information\, contact Laurence Kenyon – Club Support Officer – laurence.kenyon@britishjudo.org.uk or 07854 215 654 \nThis is a British Judo Association Licensed Coach Education / Revalidation Course
URL:https://www.britishjudo.org.uk/event/finding-your-feet-coach-education-workshop-worcester-judo-club-1-june-2025/
LOCATION:Worcester Judo Club\, Unit 12\, Lowesmoor Wharf\,\, Worcester\, Worcester\, WR1 2RS\, United Kingdom
CATEGORIES:Course,Other,Veterans (30+)
ORGANIZER;CN="Laurence Kenyon":MAILTO:Laurence.kenyon@britishjudo.org.uk
GEO:52.1957117;-2.2223063
X-APPLE-STRUCTURED-LOCATION;VALUE=URI;X-ADDRESS=Worcester Judo Club Unit 12 Lowesmoor Wharf Worcester Worcester WR1 2RS United Kingdom;X-APPLE-RADIUS=500;X-TITLE=Unit 12\, Lowesmoor Wharf\,:geo:-2.2223063,52.1957117
END:VEVENT
END:VCALENDAR