BEGIN:VCALENDAR
VERSION:2.0
PRODID:-//British Judo Association - ECPv6.15.18//NONSGML v1.0//EN
CALSCALE:GREGORIAN
METHOD:PUBLISH
X-ORIGINAL-URL:https://www.britishjudo.org.uk
X-WR-CALDESC:Events for British Judo Association
REFRESH-INTERVAL;VALUE=DURATION:PT1H
X-Robots-Tag:noindex
X-PUBLISHED-TTL:PT1H
BEGIN:VTIMEZONE
TZID:Europe/London
BEGIN:DAYLIGHT
TZOFFSETFROM:+0000
TZOFFSETTO:+0100
TZNAME:BST
DTSTART:20250330T010000
END:DAYLIGHT
BEGIN:STANDARD
TZOFFSETFROM:+0100
TZOFFSETTO:+0000
TZNAME:GMT
DTSTART:20251026T010000
END:STANDARD
BEGIN:DAYLIGHT
TZOFFSETFROM:+0000
TZOFFSETTO:+0100
TZNAME:BST
DTSTART:20260329T010000
END:DAYLIGHT
BEGIN:STANDARD
TZOFFSETFROM:+0100
TZOFFSETTO:+0000
TZNAME:GMT
DTSTART:20261025T010000
END:STANDARD
BEGIN:DAYLIGHT
TZOFFSETFROM:+0000
TZOFFSETTO:+0100
TZNAME:BST
DTSTART:20270328T010000
END:DAYLIGHT
BEGIN:STANDARD
TZOFFSETFROM:+0100
TZOFFSETTO:+0000
TZNAME:GMT
DTSTART:20271031T010000
END:STANDARD
END:VTIMEZONE
BEGIN:VEVENT
DTSTART;VALUE=DATE:20260704
DTEND;VALUE=DATE:20260705
DTSTAMP:20260422T203534
CREATED:20251121T100512Z
LAST-MODIFIED:20260331T101659Z
UID:464662-1783123200-1783209599@www.britishjudo.org.uk
SUMMARY:British National Team Championships 2026
DESCRIPTION:Venue: Walsall Sports Centre\, The University of Wolverhampton\, Broadway\, Walsall WS1 3EZ \nCategories:  \nPre-Cadets and Minors: Born 2012\, 2013\, 2014\, 2015\nMin Grade: 7th Mon / Orange Belt (3 min contests\, no arm locks or strangles allowed) \nCadets and Juniors: Born 2008\, 2009\, 2010\, 2011\nMin Grade: 10th Mon / Green Belt (4 min contests\, arm locks and strangles allowed) \nSeniors (Must be a minimum of 14 years of age on day of event)\nMinimum Grade: 1st Kyu / Brown Belt (4 min contest) \nWeigh In/ Registration  \nSaturday 4th July 2026\nCadet /Juniors: 08:15 – 08.45\nTo be followed by\nMinor/Pre-Cadet Teams and Senior Teams: The precise weigh time for these will be published and communicated via the BJA website after the closing date. \nAll players will be weighed in an OPEN weigh in with judogi trousers and t-shirt (0.8 kg allowance). \nCadets competing in the Cadet/Junior Team also competing in Senior Team will have their weight carried over\, no need to re-weigh. \n**CLOSING DATE TO ENTER TEAMS: FRIDAY 19TH JUNE 2026** (or when entry reaches its limit) \n**DETAILS OF THE TEAMS (NAMES) MUST BE ENTERED BY FRIDAY 26TH JUNE 2026** \nBy entering and/or attending this event you agree to abide by all British Judo Association policies and codes of conduct. This includes but is not limited to:  \n\nTransgender policy https://www.britishjudo.org.uk/what-we-do/policies/transgender-eligibility-and-participation-in-competition-policy/\nCodes of conduct https://www.britishjudo.org.uk/membership-terms-conditions/\nContest rules https://www.britishjudo.org.uk/compete/organising-a-competition/contest-rules/\n\nhttps://www.britishjudo.org.uk/roles-and-clubs/roles/referees/resources/\n\n\nStoma bags: https://www.britishjudo.org.uk/participation-in-competition-with-stoma-bags/\nProsthetic limbs: https://www.britishjudo.org.uk/participation-in-competition-with-prosthetic-limbs/\n\nYou must contact the organisers and events@bririshjudo.org.uk if you require any support at the event or have any questions regarding the above points. \nPlease note that failure to comply with these policies and codes of conduct may result in not being able to compete/attend this event\, or removal from the event\, and notification to the British Judo Association.  \nThese policies and codes of conduct are in place to ensure everyone attending the event have a good experience. \n>>EVENT OUTLINES<<\n>>TEAM ENTRY FORM<<\n>>TEAM DETAILS FORM<<\n 
URL:https://www.britishjudo.org.uk/event/british-national-team-championships-2026/
LOCATION:Walsall Sports Centre\, Walsall Campus\, Broadway\, Walsall\, West Midlands\, WS1 3EZ
CATEGORIES:Competition,Teams
GEO:52.5694105;-1.9674868
X-APPLE-STRUCTURED-LOCATION;VALUE=URI;X-ADDRESS=Walsall Sports Centre Walsall Campus Broadway Walsall West Midlands WS1 3EZ;X-APPLE-RADIUS=500;X-TITLE=Broadway:geo:-1.9674868,52.5694105
END:VEVENT
BEGIN:VEVENT
DTSTART;TZID=Europe/London:20260705T080000
DTEND;TZID=Europe/London:20260705T170000
DTSTAMP:20260422T203534
CREATED:20260420T134204Z
LAST-MODIFIED:20260420T134204Z
UID:467373-1783238400-1783270800@www.britishjudo.org.uk
SUMMARY:L3/L4 - Midland Area Senior Open\, Veteran Teams and Kyu Grade Competition
DESCRIPTION:Venue: Walsall Sports Centre\, WLV Gym\, The University of Wolverhampton\, Magdalene Road\, Walsall WS1 3TA \nVeteran Teams (players should be 2 Kyu and above) \nF1/M1 30-34 (1996-1992) and F2/M2 35-39 (1991-1987) \nFemale players -63Kg\, +63Kg\,\nMale players -66Kg\, -73kg\, -81Kg\, -90Kg\, +90Kg \nF3/M3 40-44 (1986-1982) and F4/M4 45-49 (1981-1977) \nFemale players -63Kg\, +63Kg\,\nMale players -66Kg\, -73kg\, -81Kg\, -90Kg\, +90Kg \nF5/M5 50-54 (1976-1972) and F6/M6 55-59 (1971 – 1967) \nFemale players -63Kg\, +63Kg\,\nMale players -66Kg\, -73kg\, -81Kg\, -90Kg\, +90Kg \nF7/M7 60 – 64 (1966-1962)\, F8/M8 65 – 69 (1961-1957) and F9/M9 70+ (1956 or earlier)\n(no shime-waza / strangles) \nFemale players -63Kg\, +63Kg\,\nMale players -66Kg\, -73kg\, -81Kg\, -90Kg\, +90Kg \nSenior Open (Must be a minimum of 14 years of age on day of event)\nMinimum Grade 10 Mon / 3 Kyu \nKyu Grade Intermediate\n4 Kyu – 2 Kyu: \nKyu Grade Novice (Technical restrictions will apply)\n5 Kyu & 6 Kyu:\nMale – Players will be grouped by age (on the day)\, weight and grade\nFemale – Players will be grouped by age (on the day)\, weight and grade\nThe organisers reserve the right to combine categories where numbers dictate. \n**CLOSING DATE: MONDAY 22ND JUNE 2026** (or when entry reaches its limit) \n>>EVENT OUTLINES<<\n 
URL:https://www.britishjudo.org.uk/event/l3-l4-midland-area-senior-open-veteran-teams-and-kyu-grade-competition/
LOCATION:Walsall Sports Centre\, Walsall Campus\, Broadway\, Walsall\, West Midlands\, WS1 3EZ
CATEGORIES:Competition,Seniors (14+),Teams,Veterans (30+)
GEO:52.5694105;-1.9674868
X-APPLE-STRUCTURED-LOCATION;VALUE=URI;X-ADDRESS=Walsall Sports Centre Walsall Campus Broadway Walsall West Midlands WS1 3EZ;X-APPLE-RADIUS=500;X-TITLE=Broadway:geo:-1.9674868,52.5694105
END:VEVENT
END:VCALENDAR