BEGIN:VCALENDAR
VERSION:2.0
PRODID:-//British Judo Association - ECPv6.15.18//NONSGML v1.0//EN
CALSCALE:GREGORIAN
METHOD:PUBLISH
X-ORIGINAL-URL:https://www.britishjudo.org.uk
X-WR-CALDESC:Events for British Judo Association
REFRESH-INTERVAL;VALUE=DURATION:PT1H
X-Robots-Tag:noindex
X-PUBLISHED-TTL:PT1H
BEGIN:VTIMEZONE
TZID:Europe/London
BEGIN:DAYLIGHT
TZOFFSETFROM:+0000
TZOFFSETTO:+0100
TZNAME:BST
DTSTART:20240331T010000
END:DAYLIGHT
BEGIN:STANDARD
TZOFFSETFROM:+0100
TZOFFSETTO:+0000
TZNAME:GMT
DTSTART:20241027T010000
END:STANDARD
BEGIN:DAYLIGHT
TZOFFSETFROM:+0000
TZOFFSETTO:+0100
TZNAME:BST
DTSTART:20250330T010000
END:DAYLIGHT
BEGIN:STANDARD
TZOFFSETFROM:+0100
TZOFFSETTO:+0000
TZNAME:GMT
DTSTART:20251026T010000
END:STANDARD
BEGIN:DAYLIGHT
TZOFFSETFROM:+0000
TZOFFSETTO:+0100
TZNAME:BST
DTSTART:20260329T010000
END:DAYLIGHT
BEGIN:STANDARD
TZOFFSETFROM:+0100
TZOFFSETTO:+0000
TZNAME:GMT
DTSTART:20261025T010000
END:STANDARD
END:VTIMEZONE
BEGIN:VEVENT
DTSTART;TZID=Europe/London:20251109T080000
DTEND;TZID=Europe/London:20251109T170000
DTSTAMP:20260423T122142
CREATED:20250806T093039Z
LAST-MODIFIED:20250806T093039Z
UID:462721-1762675200-1762707600@www.britishjudo.org.uk
SUMMARY:L3 - London Area Adaptive and VI Championships
DESCRIPTION:Venue: SportsDock\, University of East London\, Docklands Campus\, University Way\, London E16 2RD \nWeigh- in:\nAll competitors under age 18 MUST present themselves to the weigh-in wearing competition acceptable judogi trousers and a Plain White T-shirt. Please see updated allowance in table below. \nWeigh-in Time: 08:15AM – 09:00AM \n**CLOSING DATE: FRIDAY 24TH OCTOBER 2025** (or when entry reaches its limit)  \n>>ENTRY OUTLINE<<
URL:https://www.britishjudo.org.uk/event/l3-london-area-adaptive-and-vi-championships/
LOCATION:University of East London Sports Centre\, Docklands\, 4-6 University Way\, London\, E16 2RD\, United Kingdom
CATEGORIES:Adaptive & Visually Impaired,Competition
ORGANIZER;CN="London Area":MAILTO:londonjudotournaments@gmail.com
GEO:51.5076332;0.0624729
X-APPLE-STRUCTURED-LOCATION;VALUE=URI;X-ADDRESS=University of East London Sports Centre Docklands 4-6 University Way London E16 2RD United Kingdom;X-APPLE-RADIUS=500;X-TITLE=Docklands\, 4-6 University Way:geo:0.0624729,51.5076332
END:VEVENT
BEGIN:VEVENT
DTSTART;TZID=Europe/London:20251109T080000
DTEND;TZID=Europe/London:20251109T170000
DTSTAMP:20260423T122142
CREATED:20250806T091341Z
LAST-MODIFIED:20251105T080603Z
UID:462717-1762675200-1762707600@www.britishjudo.org.uk
SUMMARY:L3 - London Area Senior Open
DESCRIPTION:Venue: SportsDock\, University of East London\, 4-6 University Way\, London\, E16 2RD \nCategories: \nGroup A: Senior Men Novice to 5th Kyu \nGroup B: Senior Men 4th Kyu to 2nd Kyu \nGroup C: Senior Men 1st Kyu and Above \nGroup D: Senior Women Novice to 5th Kyu \nGroup E: Senior Women 4th Kyu to 2nd Kyu \nGroup F: Senior Women 1st Kyu and Above \n**UPDATE – Weigh in times** \nAdaptive & VI Judoka                             08:15AM – 09:00AM \nSenior Men Group A                               09:30AM – 10:15AM \nSenior Men Group B                               10:30AM – 11:15AM \nSenior Female Group                             11:30AM – 12:15PM \nSenior Men Group C                               13:00PM – 14:00PM \n**CLOSING DATE: FRIDAY 24TH OCTOBER 2025** (or when entry reaches its limit)  \n>>EVENT OUTLINES<<
URL:https://www.britishjudo.org.uk/event/l3-london-area-senior-open-2/
LOCATION:University of East London Sports Centre\, Docklands\, 4-6 University Way\, London\, E16 2RD\, United Kingdom
CATEGORIES:Competition,Seniors (14+)
ORGANIZER;CN="London Area":MAILTO:londonjudotournaments@gmail.com
GEO:51.5076332;0.0624729
X-APPLE-STRUCTURED-LOCATION;VALUE=URI;X-ADDRESS=University of East London Sports Centre Docklands 4-6 University Way London E16 2RD United Kingdom;X-APPLE-RADIUS=500;X-TITLE=Docklands\, 4-6 University Way:geo:0.0624729,51.5076332
END:VEVENT
BEGIN:VEVENT
DTSTART;TZID=Europe/London:20251108T080000
DTEND;TZID=Europe/London:20251108T170000
DTSTAMP:20260423T122142
CREATED:20250806T085215Z
LAST-MODIFIED:20250806T100857Z
UID:462710-1762588800-1762621200@www.britishjudo.org.uk
SUMMARY:L3 - London Area Regional Schools Championships
DESCRIPTION:Venue: SportsDock\, University of East London\, 4-6 University Way\, London\, E16 2RD \n  \nCategories:  \nAcademic Years 4 & 5: (born 1st September 2015 to 31st August 2017) Technical Restrictions. Please note that these players are not eligible for the British Schools National Championships \nAcademic Years 6 & 7 (born 1 September 2013 to 31 August 2015) Technical Restrictions \nAcademic Years 8 & 9 (born 1 September 2011 to 31 August 2013) \nAcademic Years 10 to 13 (born 1 September 2007 to 31 August 2011) \n**EARLY ENTRY CLOSING DATE: TUESDAY 30TH SEPTMEBER 2025** \n**LATE ENTRY CLOSIG DATE: FRIDAY 24TH OCTOBER 2025** (or when entry reaches its limit) \n>>EVENT OUTLINES<<
URL:https://www.britishjudo.org.uk/event/l3-london-area-regional-schools-championships-2/
LOCATION:University of East London Sports Centre\, Docklands\, 4-6 University Way\, London\, E16 2RD\, United Kingdom
CATEGORIES:Competition
ORGANIZER;CN="London Area":MAILTO:londonjudotournaments@gmail.com
GEO:51.5076332;0.0624729
X-APPLE-STRUCTURED-LOCATION;VALUE=URI;X-ADDRESS=University of East London Sports Centre Docklands 4-6 University Way London E16 2RD United Kingdom;X-APPLE-RADIUS=500;X-TITLE=Docklands\, 4-6 University Way:geo:0.0624729,51.5076332
END:VEVENT
BEGIN:VEVENT
DTSTART;TZID=Europe/London:20250906T080000
DTEND;TZID=Europe/London:20250907T170000
DTSTAMP:20260423T122142
CREATED:20250501T100623Z
LAST-MODIFIED:20250901T183322Z
UID:460886-1757145600-1757264400@www.britishjudo.org.uk
SUMMARY:L4 - English Closed
DESCRIPTION:  \n>> Entry List <<\nVenue: SportsDock\, University of East London\, Docklands Campus\, University Way\, London\, E16 2RD \nCategories: \nPre Cadets : 2012/ 2013 – Minimum Grade 7th Mon \nCadets: 2009/ 2010/ 2011 – Minimum Grade 9th Mon \nJuniors: 2006/ 2007/ 2008/ 2009/ 2010/ 2011 – Minimum Grade 12th Mon \nSeniors: Must be a minimum of 14 years or older on the day of the event \nRegistration and Weigh In   \nSaturday 06th September 2025\nPre-Cadet Males – 08:15am – 09:00am\nPre-Cadet Females – 09:45am – 10:15am\nCadet Males – 10:30am – 11:30am\nCadet Females – 14:00pm – 14:30pm \nSunday 07th September 2025\nJunior Males – 08:15am – 09:00am\nJunior Females – 10:45am – 11:15am\nSenior Males – 11:45am – 12:30pm\nSenior Females – 13:45pm – 14:15pm \n 
URL:https://www.britishjudo.org.uk/event/l4-english-closed/
LOCATION:University of East London Sports Centre\, Docklands\, 4-6 University Way\, London\, E16 2RD\, United Kingdom
CATEGORIES:Cadets (14-16),Competition,Juniors (14-19),Pre Cadet (12-13),Seniors (14+)
ORGANIZER;CN="London Area":MAILTO:londonjudotournaments@gmail.com
GEO:51.5076332;0.0624729
X-APPLE-STRUCTURED-LOCATION;VALUE=URI;X-ADDRESS=University of East London Sports Centre Docklands 4-6 University Way London E16 2RD United Kingdom;X-APPLE-RADIUS=500;X-TITLE=Docklands\, 4-6 University Way:geo:0.0624729,51.5076332
END:VEVENT
BEGIN:VEVENT
DTSTART;TZID=Europe/London:20250517T080000
DTEND;TZID=Europe/London:20250518T170000
DTSTAMP:20260423T122142
CREATED:20250311T133042Z
LAST-MODIFIED:20250503T205702Z
UID:460143-1747468800-1747587600@www.britishjudo.org.uk
SUMMARY:L4 - London Open 2025
DESCRIPTION:Venue: SportsDock\, University of East London\, Docklands Campus\, University Way\, London\, E16 2RD \nCategories: \nGroup 1 – Minors 2013 to 2016 (L3) \nGroup 2 – Pre-Cadets 2011 to 2012 (L3) \nGroup 3 – Cadets 2008 to 2010 (L3) \nGroup 4 – Juniors 2005 to 2010 (L4) \nGroup 5 – Seniors Minimum age of 14 years (L4) \n**CLOSING DATE: FRIDAY 2ND MAY 2025** \n  \n 
URL:https://www.britishjudo.org.uk/event/l4-london-open-2025/
LOCATION:University of East London Sports Centre\, Docklands\, 4-6 University Way\, London\, E16 2RD\, United Kingdom
GEO:51.5076332;0.0624729
X-APPLE-STRUCTURED-LOCATION;VALUE=URI;X-ADDRESS=University of East London Sports Centre Docklands 4-6 University Way London E16 2RD United Kingdom;X-APPLE-RADIUS=500;X-TITLE=Docklands\, 4-6 University Way:geo:0.0624729,51.5076332
END:VEVENT
BEGIN:VEVENT
DTSTART;VALUE=DATE:20250329
DTEND;VALUE=DATE:20250330
DTSTAMP:20260423T122142
CREATED:20241021T133903Z
LAST-MODIFIED:20250325T140551Z
UID:456316-1743206400-1743292799@www.britishjudo.org.uk
SUMMARY:L3 - British Veteran Open
DESCRIPTION:Venue: University of East London SportsDock \nMinimum grade: 2nd Kyu and above (Blue belt and above) \nWeigh-In/ Registration \nFriday 28th March 2025\nAll Groups: 19:30 – 20:30 \nSaturday 29th March 2025 – *UPDATED WEIGH IN TIMES* \nM1 & M2: 08:30 – 09:15 \nM3 & M4: 09:45 – 10:30 \nM5 & M6: 11:15 – 12:00 \nAll Females: 12:30 – 13:00 \nM7\, M8 & M9: 13:00 – 13:45 \nLive Entry – (First entry list updates will be in January) \n>>TIMETABLE<<\n**EARLY CLOSING DATE (EXTENDED): SUNDAY 16TH FEBRUARY 2025 AT MIDNIGHT** \n**LATE CLOSING DATE: FRIDAY 14TH MARCH 2025**
URL:https://www.britishjudo.org.uk/event/l3-british-veteran-open/
LOCATION:University of East London Sports Centre\, Docklands\, 4-6 University Way\, London\, E16 2RD\, United Kingdom
GEO:51.5076332;0.0624729
X-APPLE-STRUCTURED-LOCATION;VALUE=URI;X-ADDRESS=University of East London Sports Centre Docklands 4-6 University Way London E16 2RD United Kingdom;X-APPLE-RADIUS=500;X-TITLE=Docklands\, 4-6 University Way:geo:0.0624729,51.5076332
END:VEVENT
END:VCALENDAR