BEGIN:VCALENDAR
VERSION:2.0
PRODID:-//British Judo Association - ECPv6.15.18//NONSGML v1.0//EN
CALSCALE:GREGORIAN
METHOD:PUBLISH
X-ORIGINAL-URL:https://www.britishjudo.org.uk
X-WR-CALDESC:Events for British Judo Association
REFRESH-INTERVAL;VALUE=DURATION:PT1H
X-Robots-Tag:noindex
X-PUBLISHED-TTL:PT1H
BEGIN:VTIMEZONE
TZID:Europe/London
BEGIN:DAYLIGHT
TZOFFSETFROM:+0000
TZOFFSETTO:+0100
TZNAME:BST
DTSTART:20250330T010000
END:DAYLIGHT
BEGIN:STANDARD
TZOFFSETFROM:+0100
TZOFFSETTO:+0000
TZNAME:GMT
DTSTART:20251026T010000
END:STANDARD
BEGIN:DAYLIGHT
TZOFFSETFROM:+0000
TZOFFSETTO:+0100
TZNAME:BST
DTSTART:20260329T010000
END:DAYLIGHT
BEGIN:STANDARD
TZOFFSETFROM:+0100
TZOFFSETTO:+0000
TZNAME:GMT
DTSTART:20261025T010000
END:STANDARD
BEGIN:DAYLIGHT
TZOFFSETFROM:+0000
TZOFFSETTO:+0100
TZNAME:BST
DTSTART:20270328T010000
END:DAYLIGHT
BEGIN:STANDARD
TZOFFSETFROM:+0100
TZOFFSETTO:+0000
TZNAME:GMT
DTSTART:20271031T010000
END:STANDARD
END:VTIMEZONE
BEGIN:VEVENT
DTSTART;TZID=Europe/London:20260516T080000
DTEND;TZID=Europe/London:20260517T170000
DTSTAMP:20260421T153753
CREATED:20260127T102314Z
LAST-MODIFIED:20260127T104023Z
UID:465931-1778918400-1779037200@www.britishjudo.org.uk
SUMMARY:L4 - London Area Open
DESCRIPTION:Venue: SportsDock\, University of East London\, Docklands Campus\, 4-6 University Way\, London\, E16 2RD \nDates: \nSaturday 16th May 2026 – Minors\, Pre-Cadets\, Cadets \nSunday 17th May 2026 – Juniors and Seniors \nCategories: \nMinors (2014 – 2018): Minimum Grade 4th Mon \nPre-Cades (2012 & 2013) Minimum Grade 6th Mon \nCadets (2009 – 2011): Minimum Grade 10th Mon/ 3rd Kyu \nJuniors (2006 – 2011): Minimum Grade 10th Mon/ 3rd Kyu \nSeniors (14 years +): Minimum Grade 10th Mon/ 3rd Kyu \n**CLOSING DATE: FRIDAY 01ST MAY 2026** (or when entry reaches its limit) \n>>EVENT OUTLINES<<\n\n\n                \n                        \n                            London Area Open 2026\n                             \n                        \n                        Entrants Name*\n                            \n                            \n                                                    \n                                                    First\n                                                \n                            \n                            \n                                                    \n                                                    Last\n                                                \n                            \n                        Date of Birth*DayDay12345678910111213141516171819202122232425262728293031MonthMonth123456789101112YearYear202720262025202420232022202120202019201820172016201520142013201220112010200920082007200620052004200320022001200019991998199719961995199419931992199119901989198819871986198519841983198219811980197919781977197619751974197319721971197019691968196719661965196419631962196119601959195819571956195519541953195219511950194919481947194619451944194319421941194019391938193719361935193419331932193119301929192819271926192519241923192219211920What is the participant’s sex at birth:*MaleFemaleDoes the participant identify as:*Please selectWoman/ GirlMan/ BoyOtherPlease enter identity here:By ticking this box I confirm I have read the British Judo Association policy for Head Injury and Strangulation Management.https://www.britishjudo.org.uk/what-we-do/policies/head-injury-protocol/\n								\n								Agree\n							Phone*Email*\n                            \n                        Licence Number:*Grade*Novice1st Mon Red belt2nd Mon Red Belt3rd Mon Red Belt4th Mon Yellow Belt5th Mon Yellow Belt6th Mon Yellow Belt7th Mon Orange Belt8th Mon Orange Belt9th Mon Orange Belt10th Mon Green Belt11th Mon Green Belt12th Mon Green Belt13th Mon Blue Belt14th Mon Blue Belt15th Mon Blue Belt16th Mon Brown Belt17th Mon Brown Belt18th Mon Brown Belt6th Kyu Red Belt5th Kyu Yellow Belt4th Kyu Orange Belt3rd Kyu Green Belt2nd Kyu Blue Belt1st Kyu Brown Belt1st Dan Black Belt2nd Dan Black Belt3rd Dan Black Belt4th Dan Black BeltPlease select the group you are entering:*Group 1 - Male Minors (2014 to 2018)Group 1 - Female Minors (2014 to 2018)Group 2 - Male Pre-Cadets (2012 to 2013)Group 2 - Female Pre-Cadets (2012 to 2013)Group 3 - Male Cadets (2009 to 2011)Group 3 - Female Cadets (2009 to 2011)Group 4 - Male Junior (2004 to 2011)Group 4 - Female Junior (2004 to 2011)Group 5 - Male SeniorsGroup 5 - Female SeniorsMale Minors - Weight Category Entering*Please select the weight category you are entering-27kg Male Minors-30kg Male Minors-34kg Male Minors-38kg Male Minors-42kg Male Minors-46kg Male Minors-50kg Male Minors-55kg Male Minors-60kg Male Minors+60kg Male MinorsFemale Minors - Weight Category Entering*Please select which weight category you are entering-25kg Female Minors-28kg Female Minors-32kg Female Minors-36kg Female Minors-40kg Female Minors-44kg Female Minors-48kg Female Minors-52kg Female Minors-57kg Female Minors+57kg Female MinorsMale Pre-Cadets - Weigh Category Entering*Please select the weight category you are entering-34kg Male Pre-Cadet-38kg Male Pre-Cadet-42kg Male Pre-Cadet-46kg Male Pre-Cadet-50kg Male Pre-Cadet-55kg Male Pre-Cadet-60kg Male Pre-Cadet-66kg Male Pre-Cadet-73kg Male Pre-Cadet+73kg Male Pre-CadetFemale Pre-Cadets - Weight Category Entering*Please select the weight category you are entering-32kg Female Pre-Cadet-36kg Female Pre-Cadet-40kg Female Pre-Cadet-44kg Female Pre-Cadet-48kg Female Pre-Cadet-52kg Female Pre-Cadet-57kg Female Pre-Cadet-63kg Female Pre-Cadet-70kg Female Pre-Cadet+70kg Female Pre-CadetMale Cadets - Weight Category Entering*Please select the weight category you are entering-42kg Male Cadet-46kg Male Cadet-50kg Male Cadet-55kg Male Cadet-60kg Male Cadet-66kg Male Cadet-73kg Male Cadet-81kg Male Cadet-90kg Male Cadet+90kg Male CadetFemale Cadets - Weight Category Entering*Please select the weight category you are entering-40kg Female Cadet-44kg Female Cadet-48kg Female Cadet-52kg Female Cadet-57kg Female Cadet-63kg Female Cadet-70kg Female Cadet+70kg Female CadetMale Juniors  - Weight Category Entering*Please select the weight category you are entering-55kg Male Juniors-60kg Male Juniors-66kg Male Juniors-73kg Male Juniors-81kg Male Juniors-90kg Male Juniors-100kg Male Juniors+100kg Male JuniorsFemale Juniors - Weight Category Entering*Please select the weight category you are entering-44kg Female Juniors-48kg Female Juniors-52kg Female Juniors-57kg Female Juniors-63kg Female Juniors-70kg Female Juniors-78kg Female Juniors+78kg Female JuniorsMale Seniors - Weight Category Entering*Please select the weight category you are entering-60kg Male Seniors-66kg Male Seniors-73kg Male Seniors-81kg Male Seniors-90kg Male Seniors-100kg Male Seniors+100kg Male SeniorsFemale Seniors - Weight Category Entering*Please select the weight category you are entering-48kg Female Seniors-52kg Female Seniors-57kg Female Seniors-63kg Female Seniors-70kg Female Seniors-78kg Female Seniors+78kg Female SeniorsIf you wish to enter a second category select the age group and gender you are entering:*Not RequiredSecond Entry Junior MaleSecond Entry Junior FemaleSecond Entry Senior MaleSecond Entry Senior FemaleSecond Entry Male Juniors  - Weight Category Entering*Please select the weight category you are entering-55kg Male Juniors-60kg Male Juniors-66kg Male Juniors-73kg Male Juniors-81kg Male Juniors-90kg Male Juniors-100kg Male Juniors+100kg Male JuniorsSecond Entry Female Juniors - Weight Category Entering*Please select the weight category you are entering-44kg Female Juniors-48kg Female Juniors-52kg Female Juniors-57kg Female Juniors-63kg Female Juniors-70kg Female Juniors-78kg Female Juniors+78kg Female JuniorsSecond Entry Male Seniors - Weight Category Entering*Please select the weight category you are entering-60kg Male Seniors-66kg Male Seniors-73kg Male Seniors-81kg Male Seniors-90kg Male Seniors-100kg Male Seniors+100kg Male SeniorsSecond Entry Female Seniors - Weight Category Entering*Please select the weight category you are entering-48kg Female Seniors-52kg Female Seniors-57kg Female Seniors-63kg Female Seniors-70kg Female Seniors-78kg Female Seniors+78kg Female SeniorsIf you wish to enter a third category select the age group and gender you are entering:*Not RequiredThird Entry Senior MaleThird Entry Senior FemaleThird Entry Male Seniors - Weight Category Entering*Please select the weight category you are entering-60kg Male Seniors-66kg Male Seniors-73kg Male Seniors-81kg Male Seniors-90kg Male Seniors-100kg Male Seniors+100kg Male SeniorsThird Entry Female Seniors - Weight Category Entering*Please select the weight category you are entering-48kg Female Seniors-52kg Female Seniors-57kg Female Seniors-63kg Female Seniors-70kg Female Seniors-78kg Female Seniors+78kg Female SeniorsPlease put the exact weight of entrant in kgs:*Name of Club:*Name of Area:*Name of Coach:*Coaches licence number:Entry Fee:*Single Entry London Open '26Double Entry London Open '26Triple Entry London Open '26Terms and Conditions* I agree to the below terms and conditions1. Consent\n1.1. Parental Consent for Minors:\n(Herein after "Parent" refers to a parent\, guardian\, or carer who has parental responsibility for the competitor).\nIf the competitor is under 18 years of age\, I\, as the competitor’s Parent\, confirm that the competitor has my authorisation to participate in this British Judo event.\n1.2. Personal Consent for Adults:\nIf the competitor is 18 years of age or older\, I\, as the competitor\, confirm my own consent to participate in this British Judo event.\n1.3. Health and Participation:\nI (or the Parent if the competitor is under 18) further confirm and warrant that\, to the best of my knowledge and belief\, the competitor is fit and able to participate in the Judo event. I understand that the event may be live-streamed\, and I acknowledge that there is no expectation of privacy regarding the live stream. British Judo may use this live stream for promoting judo or for applying for funds to support these purposes.\n1.4. Medical Authorisation:\nIf a medical emergency arises during the competitor’s participation in this event when I (or the Parent if the competitor is under 18) am not present\, I hereby authorise the Competition Organiser and Chief Medical Officer to take necessary measures to ensure the competitor receives any emergency medical treatment\, including hospitalisation\, deemed advisable to protect the competitor’s health and well-being.\n\n2. Declaration of Consent - Competitor Aged 16 or Over\n2.1. Media Consent:\nI consent to the following uses of my image\, likeness\, and details:\n•	My photograph\, video and audio recordings may be used by British Judo for display purposes\, on their website\, and on social media pages\, in the promotion of judo.\n•	My photograph and video may be used in other printed publications in the promotion of judo.\n•	My video may be used for training or analysis purposes.\n•	My personal details (including full name\, weight\, age category\, club name\, and Area/Home Nation) may be used in pre-event entry lists and event results\, both online and on social media.\n2.2. Data Sharing Consent:\nI consent to my personal details being shared with the competition organiser.\n2.3. Awareness of Media Storage:\nI confirm that I have read\, or been made aware of\, how these details\, images\, videos or audio recordings will be stored within British Judo\n\n3. Declaration of Consent - Parent/Carer of Competitor Under 16\n3.1. Media Consent:\nAs the parent/carer\, I consent to the following uses of my child’s image\, likeness\, and details:\n•	My child’s photograph and video may be used within British Judo for display purposes\, on their website\, and on social media pages.\n•	My child’s photograph and video may be used in other printed publications.\n•	My child’s video may be used for training or analysis purposes.\n•	My child’s personal details (including full name\, weight\, age category\, club name\, and Area/Home Nation) may be used in pre-event entry lists and event results\, both online and on social media.\n3.2. Data Sharing Consent:\nI consent to my child’s personal details being shared with the competition organiser.\n3.3. Awareness of Media Storage:\nI confirm that I have read\, or been made aware of\, how these details\, images\, videos or audio recordings will be stored within British Judo\n\n4. Email and Contact\n4.1. Communication:\nContact will be made using the details provided in this form submission\, including pre-event\, in event and post event information. If you do not wish to be contacted regarding this event or future events\, please contact the events team.\n\n5. Prohibited Activities\n5.1. Restricted Areas:\nParticipants\, parents\, guardians\, and spectators are prohibited from taking pictures in changing rooms\, toilet areas\, and during the weigh-in portion of the competition.\n5.2. Social Media Restrictions:\nPhotographs taken for personal use must not be posted on social media if doing so may adversely affect participants\, particularly where there are safeguarding concerns.\n\n6. Disclaimer and Agreement\n6.1. Media and Live Stream:\nA dedicated media team will be present at the event\, and the event may be live-streamed. Those conducting the filming and photography will have undergone the necessary checks. By entering the event\, all participants and their parents or guardians consent to photography\, video and audio recording by British Judo or an official contractor\, with no expectation of privacy. These photographs\, videos or audio recordings may be used in future British Judo social media\, publications\, or by contractors to promote the sport.\n6.2. Opt-Out:\nIf you wish to opt-out of the above\, please contact events@britishjudo.org.uk or speak to a member of BJA staff at the event.\n\n7. Contact Information\nFor any inquiries\, please contact the Events Team:\n•	Phone: +44 (0)121 728 6920\n•	Email: events@britishjudo.org.uk\nFor further information on how we handle your data\, please read our Privacy Notice: British Judo Privacy Policy\nTotal\n							£ 0.00\n							\n						Credit Card*
URL:https://www.britishjudo.org.uk/event/l4-london-area-open/
LOCATION:University of East London
CATEGORIES:Cadets (14-16),Competition,Juniors (14-19),Minors (8-11),Pre Cadet (12-13),Seniors (14+)
ORGANIZER;CN="London Area":MAILTO:londonjudotournaments@gmail.com
END:VEVENT
BEGIN:VEVENT
DTSTART;TZID=Europe/London:20260905T080000
DTEND;TZID=Europe/London:20260906T170000
DTSTAMP:20260421T153753
CREATED:20251029T104554Z
LAST-MODIFIED:20251029T104554Z
UID:464188-1788595200-1788714000@www.britishjudo.org.uk
SUMMARY:L3/L4 - English Closed
DESCRIPTION:More details to follow soon!
URL:https://www.britishjudo.org.uk/event/l3-l4-english-closed/
LOCATION:University of East London
CATEGORIES:Cadets (14-16),Competition,Juniors (14-19),Pre Cadet (12-13),Seniors (14+)
ORGANIZER;CN="London Area":MAILTO:londonjudotournaments@gmail.com
END:VEVENT
BEGIN:VEVENT
DTSTART;TZID=Europe/London:20261010T080000
DTEND;TZID=Europe/London:20261010T170000
DTSTAMP:20260421T153753
CREATED:20251029T105343Z
LAST-MODIFIED:20251029T105343Z
UID:464190-1791619200-1791651600@www.britishjudo.org.uk
SUMMARY:L3 - British Minors Closed Championships
DESCRIPTION:More details to follow soon!
URL:https://www.britishjudo.org.uk/event/l3-british-minors-closed-championships/
LOCATION:University of East London
CATEGORIES:Competition,Minors (8-11)
ORGANIZER;CN="London Area":MAILTO:londonjudotournaments@gmail.com
END:VEVENT
END:VCALENDAR