BEGIN:VCALENDAR
VERSION:2.0
PRODID:-//British Judo Association - ECPv6.15.18//NONSGML v1.0//EN
CALSCALE:GREGORIAN
METHOD:PUBLISH
X-WR-CALNAME:British Judo Association
X-ORIGINAL-URL:https://www.britishjudo.org.uk
X-WR-CALDESC:Events for British Judo Association
REFRESH-INTERVAL;VALUE=DURATION:PT1H
X-Robots-Tag:noindex
X-PUBLISHED-TTL:PT1H
BEGIN:VTIMEZONE
TZID:Europe/London
BEGIN:DAYLIGHT
TZOFFSETFROM:+0000
TZOFFSETTO:+0100
TZNAME:BST
DTSTART:20240331T010000
END:DAYLIGHT
BEGIN:STANDARD
TZOFFSETFROM:+0100
TZOFFSETTO:+0000
TZNAME:GMT
DTSTART:20241027T010000
END:STANDARD
BEGIN:DAYLIGHT
TZOFFSETFROM:+0000
TZOFFSETTO:+0100
TZNAME:BST
DTSTART:20250330T010000
END:DAYLIGHT
BEGIN:STANDARD
TZOFFSETFROM:+0100
TZOFFSETTO:+0000
TZNAME:GMT
DTSTART:20251026T010000
END:STANDARD
BEGIN:DAYLIGHT
TZOFFSETFROM:+0000
TZOFFSETTO:+0100
TZNAME:BST
DTSTART:20260329T010000
END:DAYLIGHT
BEGIN:STANDARD
TZOFFSETFROM:+0100
TZOFFSETTO:+0000
TZNAME:GMT
DTSTART:20261025T010000
END:STANDARD
END:VTIMEZONE
BEGIN:VEVENT
DTSTART;TZID=Europe/London:20250713T100000
DTEND;TZID=Europe/London:20250713T160000
DTSTAMP:20260423T102613
CREATED:20241218T135628Z
LAST-MODIFIED:20250528T090304Z
UID:458433-1752400800-1752422400@www.britishjudo.org.uk
SUMMARY:Club Accelerator Day - Bristol - 13th Jul 25
DESCRIPTION:Discussions are structured around financial sustainability\, people management\, marketing and communication functions and club programs. The workshop will also include insight speakers with applied examples of good practice\, innovation and proven development processes. \nThe Club Accelerator Day is open to all staff and volunteers from judo clubs and businesses but also counts as a coach revalidation event for licensed coaches. The aim of the event is to provide a platform for individuals to come together in a focused and energetic environment to propel their club’s growth and potential collectively. The workshop is packed full of positive discussions about improving all aspects of club management and is delivered as part of a conference with opportunities to network and share ideas. \nUsually priced at £50 per person to attend\, British Judo is pleased to be able to offer subsidised places for the first 12 individuals who register for the Accelerator Day. To benefit from the subsided place\, enter discount code CLUBACC when registering using the form below. \nDate / Times: Sunday 13th July 2025 – 10:00-16:00 \nVenue: The Vassall Centre\, Gill Ave\, Bristol BS16 2QQ \nThis is a British Judo Association Licensed Coach Education / Revalidation Course
URL:https://www.britishjudo.org.uk/event/club-accelerator-day-bristol-13th-jul-25/
LOCATION:The Vassall Centre\, Gill Ave\, Bristol\, BS16 2QQ\, United Kingdom
CATEGORIES:Course,Other,Revalidation
ORGANIZER;CN="Nick Shepherd":MAILTO:nick.shepherd@britishjudo.org.uk
END:VEVENT
END:VCALENDAR