BEGIN:VCALENDAR
VERSION:2.0
PRODID:-//British Judo Association - ECPv6.15.18//NONSGML v1.0//EN
CALSCALE:GREGORIAN
METHOD:PUBLISH
X-WR-CALNAME:British Judo Association
X-ORIGINAL-URL:https://www.britishjudo.org.uk
X-WR-CALDESC:Events for British Judo Association
REFRESH-INTERVAL;VALUE=DURATION:PT1H
X-Robots-Tag:noindex
X-PUBLISHED-TTL:PT1H
BEGIN:VTIMEZONE
TZID:Europe/London
BEGIN:DAYLIGHT
TZOFFSETFROM:+0000
TZOFFSETTO:+0100
TZNAME:BST
DTSTART:20240331T010000
END:DAYLIGHT
BEGIN:STANDARD
TZOFFSETFROM:+0100
TZOFFSETTO:+0000
TZNAME:GMT
DTSTART:20241027T010000
END:STANDARD
BEGIN:DAYLIGHT
TZOFFSETFROM:+0000
TZOFFSETTO:+0100
TZNAME:BST
DTSTART:20250330T010000
END:DAYLIGHT
BEGIN:STANDARD
TZOFFSETFROM:+0100
TZOFFSETTO:+0000
TZNAME:GMT
DTSTART:20251026T010000
END:STANDARD
BEGIN:DAYLIGHT
TZOFFSETFROM:+0000
TZOFFSETTO:+0100
TZNAME:BST
DTSTART:20260329T010000
END:DAYLIGHT
BEGIN:STANDARD
TZOFFSETFROM:+0100
TZOFFSETTO:+0000
TZNAME:GMT
DTSTART:20261025T010000
END:STANDARD
BEGIN:DAYLIGHT
TZOFFSETFROM:+0000
TZOFFSETTO:+0100
TZNAME:BST
DTSTART:20270328T010000
END:DAYLIGHT
BEGIN:STANDARD
TZOFFSETFROM:+0100
TZOFFSETTO:+0000
TZNAME:GMT
DTSTART:20271031T010000
END:STANDARD
END:VTIMEZONE
BEGIN:VEVENT
DTSTART;VALUE=DATE:20260301
DTEND;VALUE=DATE:20260302
DTSTAMP:20260424T084436
CREATED:20260106T090204Z
LAST-MODIFIED:20260223T081821Z
UID:465301-1772323200-1772409599@www.britishjudo.org.uk
SUMMARY:(CANCELLED) L3 - Shinsei Judo Kyu & Dan Grades
DESCRIPTION:Venue: South Lakes Leisure Centre\, 1 Lake Road\, Craigavon\, BT64 1AS \nCategories: \nDan Grades \nKyu Grades – Brown Belt (Maximum Grade 1st Kyu/ 18th Mon) \nKyu Grades will be sorted into the following categories (depending on entry numbers)\nMiddle Kyu – 2nd & 3rd (Blue & Green Belts) Kyu grades\nLower Kyu – 4th 5th 6th Kyu grades (Orange\, Yellow\, Red and White Belts) \n 
URL:https://www.britishjudo.org.uk/event/l3-shinsei-judo-kyu-dan-grades/
LOCATION:South Lakes Leisure Centre\, 1 Lake Road\, Craigavon\, BT64 1AS
CATEGORIES:Competition,Seniors (14+)
GEO:54.449686;-6.3839945
X-APPLE-STRUCTURED-LOCATION;VALUE=URI;X-ADDRESS=South Lakes Leisure Centre 1 Lake Road Craigavon BT64 1AS;X-APPLE-RADIUS=500;X-TITLE=1 Lake Road\, Craigavon:geo:-6.3839945,54.449686
END:VEVENT
BEGIN:VEVENT
DTSTART;TZID=Europe/London:20251019T080000
DTEND;TZID=Europe/London:20251019T170000
DTSTAMP:20260424T084436
CREATED:20250822T083756Z
LAST-MODIFIED:20250918T072129Z
UID:462946-1760860800-1760893200@www.britishjudo.org.uk
SUMMARY:(CANCELLED) L3 - Shinsei Judo Kyu and Dan Grades
DESCRIPTION:Venue: South Lakes Leisure Centre\, 1 Lake Road\, Craigavon\, BT64 1AS \nCategories:  \nDan Grades – \nMale -60kgs\, -66kgs\, -73kgs\, -81kgs\, -90kgs\, -100kgs\, +100kgs\nFemale -48kgs\, -52kgs\, -57kgs\, -63kgs\, -70kgs\, -78kgs\, +78kgs \nKyu Grades – \nThere are no set weight categories. All players will be sorted into groups based on weight and grade depending on entries.\nKyu Grades will be sorted into the following categories (depending on entry numbers)\nUpper Kyu – 1st (Brown Belts) Kyu grades\nMiddle Kyu – 2nd & 3rd (Blue & Green Belts) Kyu grades\nLower Kyu – 4th 5th 6th Kyu grades (Orange\, Yellow\, Red and White Belts) \n**CLOSING DATE: MONDAY 13TH OCTOBER 2025** (or when entry reaches its limit) \n>>ENTRY OUTLINES<<
URL:https://www.britishjudo.org.uk/event/l3-shinsei-judo-kyu-and-dan-grades/
LOCATION:South Lakes Leisure Centre\, 1 Lake Road\, Craigavon\, BT64 1AS
CATEGORIES:Competition,Seniors (14+)
GEO:54.449686;-6.3839945
X-APPLE-STRUCTURED-LOCATION;VALUE=URI;X-ADDRESS=South Lakes Leisure Centre 1 Lake Road Craigavon BT64 1AS;X-APPLE-RADIUS=500;X-TITLE=1 Lake Road\, Craigavon:geo:-6.3839945,54.449686
END:VEVENT
BEGIN:VEVENT
DTSTART;TZID=Europe/London:20250518T080000
DTEND;TZID=Europe/London:20250518T170000
DTSTAMP:20260424T084436
CREATED:20250324T090626Z
LAST-MODIFIED:20250324T090626Z
UID:460387-1747555200-1747587600@www.britishjudo.org.uk
SUMMARY:L3 - Shinsei Judo Kyu and Mon Grades
DESCRIPTION:Venue: South Lakes Leisure Centre\, 1 Lake Road\, Craigavon\, BT64 1AS \nCategories: \nKyu Grades: Players must be minimum 14 years old. Maximum Grade: 1st Kyu/ 18th Mon (Brown Belt) \nMon Grades: 8-13 years old. Maximum Grade: 12th Mon\, IJA 8th Mon (Green Belt) \n**CLOSING DATE: MONDAY 12TH MAY**(or when entry reaches its limit)
URL:https://www.britishjudo.org.uk/event/l3-shinsei-judo-kyu-and-mon-grades-2/
LOCATION:South Lakes Leisure Centre\, 1 Lake Road\, Craigavon\, BT64 1AS
GEO:54.449686;-6.3839945
X-APPLE-STRUCTURED-LOCATION;VALUE=URI;X-ADDRESS=South Lakes Leisure Centre 1 Lake Road Craigavon BT64 1AS;X-APPLE-RADIUS=500;X-TITLE=1 Lake Road\, Craigavon:geo:-6.3839945,54.449686
END:VEVENT
BEGIN:VEVENT
DTSTART;TZID=Europe/London:20250209T080000
DTEND;TZID=Europe/London:20250209T170000
DTSTAMP:20260424T084436
CREATED:20250122T080639Z
LAST-MODIFIED:20250122T080639Z
UID:459097-1739088000-1739120400@www.britishjudo.org.uk
SUMMARY:L3 - Shinsei Judo Kyu and Mon Grades
DESCRIPTION:Venue: South Lakes Leisure Centre\, 1 Lake Road\, Craigavon\, BT64 1AS \nCategories: \nKyu Grades – Players must 14 years old and above\, maximum grade brown belt ( 1st Kyu/ 18th Mon) \nMon Grades: Players must be 8 years old and a the maximum age is 13\, Novice/ white belt to 12th Mon/ green belt \n  \n**CLOSING DATE: MONDAY 3RD FEBRUARY 2025**
URL:https://www.britishjudo.org.uk/event/l3-shinsei-judo-kyu-and-mon-grades/
LOCATION:South Lakes Leisure Centre\, 1 Lake Road\, Craigavon\, BT64 1AS
GEO:54.449686;-6.3839945
X-APPLE-STRUCTURED-LOCATION;VALUE=URI;X-ADDRESS=South Lakes Leisure Centre 1 Lake Road Craigavon BT64 1AS;X-APPLE-RADIUS=500;X-TITLE=1 Lake Road\, Craigavon:geo:-6.3839945,54.449686
END:VEVENT
END:VCALENDAR