BEGIN:VCALENDAR
VERSION:2.0
PRODID:-//British Judo Association - ECPv6.15.18//NONSGML v1.0//EN
CALSCALE:GREGORIAN
METHOD:PUBLISH
X-WR-CALNAME:British Judo Association
X-ORIGINAL-URL:https://www.britishjudo.org.uk
X-WR-CALDESC:Events for British Judo Association
REFRESH-INTERVAL;VALUE=DURATION:PT1H
X-Robots-Tag:noindex
X-PUBLISHED-TTL:PT1H
BEGIN:VTIMEZONE
TZID:Europe/London
BEGIN:DAYLIGHT
TZOFFSETFROM:+0000
TZOFFSETTO:+0100
TZNAME:BST
DTSTART:20250330T010000
END:DAYLIGHT
BEGIN:STANDARD
TZOFFSETFROM:+0100
TZOFFSETTO:+0000
TZNAME:GMT
DTSTART:20251026T010000
END:STANDARD
BEGIN:DAYLIGHT
TZOFFSETFROM:+0000
TZOFFSETTO:+0100
TZNAME:BST
DTSTART:20260329T010000
END:DAYLIGHT
BEGIN:STANDARD
TZOFFSETFROM:+0100
TZOFFSETTO:+0000
TZNAME:GMT
DTSTART:20261025T010000
END:STANDARD
BEGIN:DAYLIGHT
TZOFFSETFROM:+0000
TZOFFSETTO:+0100
TZNAME:BST
DTSTART:20270328T010000
END:DAYLIGHT
BEGIN:STANDARD
TZOFFSETFROM:+0100
TZOFFSETTO:+0000
TZNAME:GMT
DTSTART:20271031T010000
END:STANDARD
END:VTIMEZONE
BEGIN:VEVENT
DTSTART;TZID=Europe/London:20260801T100000
DTEND;TZID=Europe/London:20260801T160000
DTSTAMP:20260424T141236
CREATED:20250814T084215Z
LAST-MODIFIED:20250814T110011Z
UID:462824-1785578400-1785600000@www.britishjudo.org.uk
SUMMARY:NHC Kata Weekend – Kime-no-kata & Nage-no-kata - 1 Aug 26 - Wokingham
DESCRIPTION:The aim of this course is to introduce players to Kime-no-kata (the kata of real fighting). This kata consists of 15 techniques and it teaches the theory of the skilful application of flexibility in order to defeat strength and it was developed to study how to lift up a body and understand the ways of different fighting methods. Ju no Kata was developed at the Kodokan in 1887. \nThis is a British Judo Association Licensed Coach Education Course which is worth one credit. All applicants must hold a current FULL BJA (or affiliated body) membership & be a minimum grade of 3rd Kyu (Green Belt). Ideally you would attend with a partner to practice with\, however we will endeavour to pair up individuals who attend the course. \nNage-no-kata is one of the two randori-no-kata free practice forms of Kodokan Judo. It is intended as an illustration of the various concepts of nage-waza (throwing techniques) that exist in judo. The kata is composed of 3 techniques each from the five classifications of throws in judo. Each of these 15 techniques is performed twice in the specified order\, both right and left handed. \n\n Te-waza (hand techniques)\n Koshi-waza (hip techniques)\n Ashi-waza (foot techniques)\n Ma-sutemi-waza (rear sacrifice techniques)\nYoko-sutemi-waza (side sacrifice techniques)\n\n1st August 2026 – 10:00-16:00 \nPinewood Judo Club\, Old Wokingham Rd\, Wokingham RG40 3AQ \nBooking Link \nThis is a British Judo Association Licensed Coach Education/Revalidation Course \n  \n 
URL:https://www.britishjudo.org.uk/event/nhc-kata-weekend-kime-no-kata-nage-no-kata-1-aug-26-wokingham/
LOCATION:Pinewood Judo Club\, Pinewood Leisure Centre Old Wokingham Road\, Wokingham\, Berkshire\, RG40 3AQ\, England
CATEGORIES:Kata,Revalidation
ORGANIZER;CN="BJA Northern Home Counties":MAILTO:nhccomps@gmail.com
GEO:51.3862762;-0.7953221
X-APPLE-STRUCTURED-LOCATION;VALUE=URI;X-ADDRESS=Pinewood Judo Club Pinewood Leisure Centre Old Wokingham Road Wokingham Berkshire RG40 3AQ England;X-APPLE-RADIUS=500;X-TITLE=Pinewood Leisure Centre Old Wokingham Road:geo:-0.7953221,51.3862762
END:VEVENT
BEGIN:VEVENT
DTSTART;TZID=Europe/London:20260802T100000
DTEND;TZID=Europe/London:20260802T160000
DTSTAMP:20260424T141236
CREATED:20250814T084536Z
LAST-MODIFIED:20260205T071233Z
UID:462826-1785664800-1785686400@www.britishjudo.org.uk
SUMMARY:NHC Kata Weekend – Ju-no-kata & Katame-no-kata - 2 Aug 26 - Wokingham
DESCRIPTION:The aim of this course is to introduce players to Juno-no-kata (Forms of gentleness). It consists in three sets of 5 techniques each. \nThis is a British Judo Association Licensed Coach Education Course which is worth one credit. All applicants must hold a current FULL BJA (or affiliated body) membership & be a minimum grade of 3rd Kyu (Green Belt). Ideally you would attend with a partner to practice with\, however we will endeavour to pair up individuals who attend the course. \nKatame no Kata was developed at the Kodokan between 1884 and 1887 following the development of the Nage no Kata. It is composed of three groups of grappling techniques each with five representative techniques. Katame-no-kata consists of 15 techniques\, grouped in three categories: \n\n Osaekomi-waza (holding or pinning techniques)\n Shime-waza (strangulation techniques)\n Kansetsu-waza (Joint techniques (locks)\n\n2nd August 2026 – 10:00-16:00 \nPinewood Judo Club\, Old Wokingham Rd\, Wokingham RG40 3AQ \nBooking Link \nThis is a British Judo Association Licensed Coach Education/Revalidation Course \n 
URL:https://www.britishjudo.org.uk/event/nhc-kata-weekend-ju-no-kata-katame-no-kata-2-aug-26-wokingham/
LOCATION:Pinewood Judo Club\, Pinewood Leisure Centre Old Wokingham Road\, Wokingham\, Berkshire\, RG40 3AQ\, England
CATEGORIES:Kata,Revalidation
ORGANIZER;CN="BJA Northern Home Counties - Paul":MAILTO:pauljor61jc@hotmail.co.uk
GEO:51.3862762;-0.7953221
X-APPLE-STRUCTURED-LOCATION;VALUE=URI;X-ADDRESS=Pinewood Judo Club Pinewood Leisure Centre Old Wokingham Road Wokingham Berkshire RG40 3AQ England;X-APPLE-RADIUS=500;X-TITLE=Pinewood Leisure Centre Old Wokingham Road:geo:-0.7953221,51.3862762
END:VEVENT
END:VCALENDAR