BEGIN:VCALENDAR
VERSION:2.0
PRODID:-//British Judo Association - ECPv6.15.18//NONSGML v1.0//EN
CALSCALE:GREGORIAN
METHOD:PUBLISH
X-ORIGINAL-URL:https://www.britishjudo.org.uk
X-WR-CALDESC:Events for British Judo Association
REFRESH-INTERVAL;VALUE=DURATION:PT1H
X-Robots-Tag:noindex
X-PUBLISHED-TTL:PT1H
BEGIN:VTIMEZONE
TZID:Europe/London
BEGIN:DAYLIGHT
TZOFFSETFROM:+0000
TZOFFSETTO:+0100
TZNAME:BST
DTSTART:20240331T010000
END:DAYLIGHT
BEGIN:STANDARD
TZOFFSETFROM:+0100
TZOFFSETTO:+0000
TZNAME:GMT
DTSTART:20241027T010000
END:STANDARD
BEGIN:DAYLIGHT
TZOFFSETFROM:+0000
TZOFFSETTO:+0100
TZNAME:BST
DTSTART:20250330T010000
END:DAYLIGHT
BEGIN:STANDARD
TZOFFSETFROM:+0100
TZOFFSETTO:+0000
TZNAME:GMT
DTSTART:20251026T010000
END:STANDARD
BEGIN:DAYLIGHT
TZOFFSETFROM:+0000
TZOFFSETTO:+0100
TZNAME:BST
DTSTART:20260329T010000
END:DAYLIGHT
BEGIN:STANDARD
TZOFFSETFROM:+0100
TZOFFSETTO:+0000
TZNAME:GMT
DTSTART:20261025T010000
END:STANDARD
END:VTIMEZONE
BEGIN:VEVENT
DTSTART;TZID=Europe/London:20250803T090000
DTEND;TZID=Europe/London:20250807T170000
DTSTAMP:20260419T191950
CREATED:20250108T105412Z
LAST-MODIFIED:20250528T090830Z
UID:458587-1754211600-1754586000@www.britishjudo.org.uk
SUMMARY:16th John Davies Summer Camp - Pro Judo
DESCRIPTION:Pro Judo will be hosting the 16th John Davies Western Area Camp for 2025. This camp is suitable for children from ages 10 – 18 years of age. \n\nOur Judo Summer Camp offers an incredible mix of training\, outdoor adventures\, and social experiences\, providing something for everyone to enjoy. Here’s what your week at camp will look like \n\n\nCAMP SCHEDULE\n\nSunday: Arrival & Masterclass with guest coaches\nMonday: Conditioning & Judo training sessions\nTuesday: Outdoor adventures (hillwalking\, kayaking\, & swimming)\nWednesday: BBQ & Highland Games\nThursday: Light Judo sessions\, yoga\, presentations\, & departure\n\nACTIVITY HIGHLIGHTS\n\nWorld-Class Judo Training: Receive expert coaching designed for all skill levels\, ensuring you grow in confidence and technique.\nOutdoor Adventures: Experience Scotland’s stunning landscapes with activities like kayaking and hillwalking.\nSocial Events: Connect with others during BBQ nights\, Highland Games\, and team-building exercises.\nYoga & Recovery: Focus on flexibility\, mindfulness\, and injury prevention to support your overall well-being.\n\nThis thoughtfully designed schedule ensures a balance of athletic growth\, personal development\, and unforgettable experiences. \nDon’t miss out on this incredible experience — secure your place today!
URL:https://www.britishjudo.org.uk/event/16th-john-davies-summer-camp-pro-judo/
LOCATION:Lomond School\, Helensburgh\, 10 Stafford St\, Helensburgh\, G84 9JX\, United Kingdom
CATEGORIES:Other
ORGANIZER;CN="Pro Judo":MAILTO:supprt@projudo.co.uk
END:VEVENT
END:VCALENDAR