BEGIN:VCALENDAR
VERSION:2.0
PRODID:-//British Judo Association - ECPv6.15.18//NONSGML v1.0//EN
CALSCALE:GREGORIAN
METHOD:PUBLISH
X-ORIGINAL-URL:https://www.britishjudo.org.uk
X-WR-CALDESC:Events for British Judo Association
REFRESH-INTERVAL;VALUE=DURATION:PT1H
X-Robots-Tag:noindex
X-PUBLISHED-TTL:PT1H
BEGIN:VTIMEZONE
TZID:Europe/London
BEGIN:DAYLIGHT
TZOFFSETFROM:+0000
TZOFFSETTO:+0100
TZNAME:BST
DTSTART:20240331T010000
END:DAYLIGHT
BEGIN:STANDARD
TZOFFSETFROM:+0100
TZOFFSETTO:+0000
TZNAME:GMT
DTSTART:20241027T010000
END:STANDARD
BEGIN:DAYLIGHT
TZOFFSETFROM:+0000
TZOFFSETTO:+0100
TZNAME:BST
DTSTART:20250330T010000
END:DAYLIGHT
BEGIN:STANDARD
TZOFFSETFROM:+0100
TZOFFSETTO:+0000
TZNAME:GMT
DTSTART:20251026T010000
END:STANDARD
BEGIN:DAYLIGHT
TZOFFSETFROM:+0000
TZOFFSETTO:+0100
TZNAME:BST
DTSTART:20260329T010000
END:DAYLIGHT
BEGIN:STANDARD
TZOFFSETFROM:+0100
TZOFFSETTO:+0000
TZNAME:GMT
DTSTART:20261025T010000
END:STANDARD
BEGIN:DAYLIGHT
TZOFFSETFROM:+0000
TZOFFSETTO:+0100
TZNAME:BST
DTSTART:20270328T010000
END:DAYLIGHT
BEGIN:STANDARD
TZOFFSETFROM:+0100
TZOFFSETTO:+0000
TZNAME:GMT
DTSTART:20271031T010000
END:STANDARD
END:VTIMEZONE
BEGIN:VEVENT
DTSTART;VALUE=DATE:20260131
DTEND;VALUE=DATE:20260201
DTSTAMP:20260421T171635
CREATED:20250804T090100Z
LAST-MODIFIED:20251023T132513Z
UID:462614-1769817600-1769903999@www.britishjudo.org.uk
SUMMARY:2026 National Dan Gradings - Sat 31 Jan 26 - High Wycombe
DESCRIPTION:VENUE: High Wycombe Judo Centre\, Barry Close\, High Wycombe\, HP12 4UE \nDATE: Saturday 31st January 2026 – Online Entry closes Midday 28.01.26 \nCOST: £25 prior entries – online entry \nPLEASE NOTE THAT ONLINE ENTRY WILL CLOSE 3 DAYS PRIOR TO THE GRADING \nENTRY AFTER THIS DATE WILL STILL BE POSSIBLE BUT MUST BE PAID IN CASH ON THE DAY \n£30 on the day (CASH ONLY) \nGrading + Theory:  Additional £10.00 \nTHEORY EXAMS TO BE CARRIED OUT WHEN MAT AVAILABLE \nBOOK-IN:   1st Kyu & Dan Grades – Women     8.30 – 9.00 \nDan Grades – Men                           8.30 – 9.00 \n1st Kyu – Men                                   12.30 – 13.00 \nWEIGH-IN: All candidates will be weighed \nIf there are enough veterans on the day\, they will be graded as a separate group \nPLEASE NOTE:  WHITE SUITS ONLY MUST BE WORN \nContest duration will be four minutes. \nFor further information\, please contact Kim Tilley:  07710 846864 or email kimothy2812@gmail.com \nNO CALLS AFTER 9PM \nIf the form does not appear below it is likely due to your device settings.\nPlease clear your “Cookies” and/or open this page in a private window IE. Incognito/InPrivate mode.\n\n 
URL:https://www.britishjudo.org.uk/event/2026-national-dan-gradings-sat-31-jan-26-high-wycombe/
LOCATION:High Wycombe Judo Centre\, Barry Close\, High Wycombe\, Buckinghamshire\, HP12 4UE\, England
CATEGORIES:Dan Gradings
ORGANIZER;CN="Kim Tilley":MAILTO:kimothy2812@gmail.com
GEO:51.6162634;-0.7871284
X-APPLE-STRUCTURED-LOCATION;VALUE=URI;X-ADDRESS=High Wycombe Judo Centre Barry Close High Wycombe Buckinghamshire HP12 4UE England;X-APPLE-RADIUS=500;X-TITLE=Barry Close:geo:-0.7871284,51.6162634
END:VEVENT
BEGIN:VEVENT
DTSTART;TZID=Europe/London:20251025T080000
DTEND;TZID=Europe/London:20251025T170000
DTSTAMP:20260421T171635
CREATED:20240820T085540Z
LAST-MODIFIED:20251023T132224Z
UID:460467-1761379200-1761411600@www.britishjudo.org.uk
SUMMARY:National Dan Grading 2025
DESCRIPTION:VENUE: High Wycombe Judo Centre\, Barry Close\, High Wycombe\, HP12 4UE \nDATES: \nSaturday 1st February 2025 – Online bookings closed \nSaturday 5th April 2025 – Online bookings closed \nSaturday 12th July 2025 – Online bookings closed \nSaturday 25th October 2025 – Online bookings closed \nCOST: £25 prior entries \nPLEASE NOTE THAT ONLINE ENTRY WILL CLOSE 1 WEEK PRIOR TO THE GRADING \nENTRY AFTER THEST DATES WILL STILL BE POSSIBLE BUT MUST BE PAID IN CASH ON THE DAY – £30 on the day (CASH ONLY) \nGrading + Theory: Additional £5.00 \nCompetitive Theory Only: £10.00 (Must be pre-booked. Please bring a partner if possible) \nTHEORY EXAMS TO BE CARRIED OUT WHEN MAT AVAILABLE \n\nBOOK-IN: \n1st Kyu & Dan Grades – Women: 08.30– 09.00\nDan Grades – Men: 08.30 – 09.00\n1st Kyu – Men: 12.30 – 13:00 \nWEIGH-IN: All candidates will be weighed \nIf there are enough veterans on the day\, they will be graded as a separate group \nPLEASE NOTE:  WHITE SUITS ONLY MUST BE WORN \nContest duration will be four minutes. \nFor further information\, please contact Kim Tilley:  07710 846864 or email Kim Tilley kimothy2812@gmail.com \nNO CALLS AFTER 9PM \nPaid fees will not be refunded if you fail to attend this event after registering. If you are no longer able to attend\, please contact kimothy2812@gmail.com in the earliest instance.
URL:https://www.britishjudo.org.uk/event/national-dan-grading-2025/2025-10-25/
LOCATION:High Wycombe Judo Centre\, Barry Close\, High Wycombe\, Buckinghamshire\, HP12 4UE\, England
CATEGORIES:Dan Gradings
ORGANIZER;CN="Kim Tilley":MAILTO:kimothy2812@gmail.com
GEO:51.6162634;-0.7871284
X-APPLE-STRUCTURED-LOCATION;VALUE=URI;X-ADDRESS=High Wycombe Judo Centre Barry Close High Wycombe Buckinghamshire HP12 4UE England;X-APPLE-RADIUS=500;X-TITLE=Barry Close:geo:-0.7871284,51.6162634
END:VEVENT
BEGIN:VEVENT
DTSTART;TZID=Europe/London:20250315T093000
DTEND;TZID=Europe/London:20250315T133000
DTSTAMP:20260421T171635
CREATED:20250129T121926Z
LAST-MODIFIED:20250129T122028Z
UID:459296-1742031000-1742045400@www.britishjudo.org.uk
SUMMARY:NHC Area Training
DESCRIPTION:Date: Saturday 15th March \nVenue: High Wycombe Judo Centre\, Barry Close\, High Wycombe HP12 4UE. \n  \nDetails: \n0930-1115am – Session 1 \n\nU10’s born 2015-2016 (minimum age 8yr’s)\nMinors born 2013-2014\nPre-Cadets born 2011-2012\n\n1130-1315pm – Session 2 \n\nCadets born 2008-2010\nJuniors born 2005-2007\nSeniors (2004+)\,\nMasters (30yr’s +)\n\nCost: £5 \nAll judokas must register in advance using the following Jot form  https://form.jotform.com/233154612909355 \n  \nOrganiser: Northern Home Counties Area \nLead: Martin Rance NHC Technical and Coaching Lead \nEmail: nhccoaching@gmail.com
URL:https://www.britishjudo.org.uk/event/nhc-area-training-2/
LOCATION:High Wycombe Judo Centre\, Barry Close\, High Wycombe\, Buckinghamshire\, HP12 4UE\, England
ORGANIZER;CN="NHC Squad Manager":MAILTO:nhcteamandsquadmanager@gmail.com
GEO:51.6162634;-0.7871284
X-APPLE-STRUCTURED-LOCATION;VALUE=URI;X-ADDRESS=High Wycombe Judo Centre Barry Close High Wycombe Buckinghamshire HP12 4UE England;X-APPLE-RADIUS=500;X-TITLE=Barry Close:geo:-0.7871284,51.6162634
END:VEVENT
BEGIN:VEVENT
DTSTART;VALUE=DATE:20250104
DTEND;VALUE=DATE:20250105
DTSTAMP:20260421T171635
CREATED:20241023T090634Z
LAST-MODIFIED:20241104T130907Z
UID:456332-1735948800-1736035199@www.britishjudo.org.uk
SUMMARY:NHC Area Training
DESCRIPTION:Date: Saturday 4th January \nVenue: High Wycombe Judo Centre\, Barry Close\, High Wycombe HP12 4UE \nTimes: \n0930-1115am – Session 1\nU10’s born 2015-2016 (minimum age 8yr’s)\nMinors born 2013-2014\nPre-Cadets born 2011-2012 \n1130-1315pm – Session 2\nCadets born 2008-2010\nJuniors born 2005-2007\nSeniors (2004+)\,\nMasters (30yr’s +) \nCost: £5 \nBooking form:  https://form.jotform.com/233154612909355 \nContact name: Martin Rance \nContact address: nhccoaching@gmail.com
URL:https://www.britishjudo.org.uk/event/nhc-area-training/
LOCATION:High Wycombe Judo Centre\, Barry Close\, High Wycombe\, Buckinghamshire\, HP12 4UE\, England
ORGANIZER;CN="NHC Squad Manager":MAILTO:nhcteamandsquadmanager@gmail.com
GEO:51.6162634;-0.7871284
X-APPLE-STRUCTURED-LOCATION;VALUE=URI;X-ADDRESS=High Wycombe Judo Centre Barry Close High Wycombe Buckinghamshire HP12 4UE England;X-APPLE-RADIUS=500;X-TITLE=Barry Close:geo:-0.7871284,51.6162634
END:VEVENT
END:VCALENDAR