BEGIN:VCALENDAR
VERSION:2.0
PRODID:-//British Judo Association - ECPv6.15.18//NONSGML v1.0//EN
CALSCALE:GREGORIAN
METHOD:PUBLISH
X-WR-CALNAME:British Judo Association
X-ORIGINAL-URL:https://www.britishjudo.org.uk
X-WR-CALDESC:Events for British Judo Association
REFRESH-INTERVAL;VALUE=DURATION:PT1H
X-Robots-Tag:noindex
X-PUBLISHED-TTL:PT1H
BEGIN:VTIMEZONE
TZID:Europe/London
BEGIN:DAYLIGHT
TZOFFSETFROM:+0000
TZOFFSETTO:+0100
TZNAME:BST
DTSTART:20250330T010000
END:DAYLIGHT
BEGIN:STANDARD
TZOFFSETFROM:+0100
TZOFFSETTO:+0000
TZNAME:GMT
DTSTART:20251026T010000
END:STANDARD
BEGIN:DAYLIGHT
TZOFFSETFROM:+0000
TZOFFSETTO:+0100
TZNAME:BST
DTSTART:20260329T010000
END:DAYLIGHT
BEGIN:STANDARD
TZOFFSETFROM:+0100
TZOFFSETTO:+0000
TZNAME:GMT
DTSTART:20261025T010000
END:STANDARD
BEGIN:DAYLIGHT
TZOFFSETFROM:+0000
TZOFFSETTO:+0100
TZNAME:BST
DTSTART:20270328T010000
END:DAYLIGHT
BEGIN:STANDARD
TZOFFSETFROM:+0100
TZOFFSETTO:+0000
TZNAME:GMT
DTSTART:20271031T010000
END:STANDARD
END:VTIMEZONE
BEGIN:VEVENT
DTSTART;TZID=Europe/London:20260514T180000
DTEND;TZID=Europe/London:20260514T190000
DTSTAMP:20260421T165301
CREATED:20260421T101001Z
LAST-MODIFIED:20260421T101329Z
UID:467406-1778781600-1778785200@www.britishjudo.org.uk
SUMMARY:Kofi Josephs workshop - 14 May 26 - Online
DESCRIPTION:Elite Athlete\, Model\, Mental Health Advocate\, Inspirational Speaker: https://www.whynoti.co.uk/ \nHelping organisations\, schools\, and communities unlock resilience\, wellbeing\, and performance through lived experience. \nWhat This Session Will Cover \n\n The reality of mental health in elite sport \n My personal journey as a professional athlete \n Why current systems often miss early signs \n Understanding athletes as people\, not just performers \n Introduction to Why Not I and the platform \n How organisations can better support athletes proactively\n\nDate/Times: Thursday 12th May 2026 – 18:00-19:00 via Google Meet \nExternal Stakeholders are welcome \n\n  \n  \n  \n  \n  \n  \n  \n  \n  \n\n  \n  \n  \n  \n  \nIf the form does not appear below it is likely due to your device settings.\nPlease clear your “Cookies” and/or open this page in a private window IE. Incognito/InPrivate mode.\n\n\n                \n                        \n                            Kofi Josephs workshop - 14 May 26 - Online\n                             \n                        \n                        Name(Required)\n                            \n                            \n                                                    First\n                                                    \n                                                \n                            \n                            \n                                                            Last\n                                                            \n                                                        \n                            \n                        Email(Required)\n                                \n                                    Enter Email\n                                    \n                                \n                                \n                                    Confirm Email\n                                    \n                                \n                                \n                            BJA Membership numberPlease provide your BJA Membership number if you have one. External Stakeholders are welcome.Contact Phone(Required)Club(Required)If you do not have a club put N/AAnti-Spam(Required)Please tick this box\n								\n								Yes\, please book me on this event\n							Kofi Josephs workshop - 14 May 26 - Online\n					\n					\n						Price:\n						\n					\n					\n				Total\n							£ 0.00\n							\n						\n          \n            \n            \n            \n            \n            \n            \n            \n            \n            \n            \n            \n            \n            \n        \n                        \n                        \n\nFor further information on how we handle your data\, please read our Privacy Notice: https://www.britishjudo.org.uk/privacy-policy/
URL:https://www.britishjudo.org.uk/event/kofi-josephs-workshop-14-may-26-online/
LOCATION:Google Meet
ORGANIZER;CN="British Judo Safeguarding":MAILTO:safeguarding@britishjudo.org.uk
END:VEVENT
END:VCALENDAR