BEGIN:VCALENDAR
VERSION:2.0
PRODID:-//British Judo Association - ECPv6.15.18//NONSGML v1.0//EN
CALSCALE:GREGORIAN
METHOD:PUBLISH
X-ORIGINAL-URL:https://www.britishjudo.org.uk
X-WR-CALDESC:Events for British Judo Association
REFRESH-INTERVAL;VALUE=DURATION:PT1H
X-Robots-Tag:noindex
X-PUBLISHED-TTL:PT1H
BEGIN:VTIMEZONE
TZID:Europe/London
BEGIN:DAYLIGHT
TZOFFSETFROM:+0000
TZOFFSETTO:+0100
TZNAME:BST
DTSTART:20250330T010000
END:DAYLIGHT
BEGIN:STANDARD
TZOFFSETFROM:+0100
TZOFFSETTO:+0000
TZNAME:GMT
DTSTART:20251026T010000
END:STANDARD
BEGIN:DAYLIGHT
TZOFFSETFROM:+0000
TZOFFSETTO:+0100
TZNAME:BST
DTSTART:20260329T010000
END:DAYLIGHT
BEGIN:STANDARD
TZOFFSETFROM:+0100
TZOFFSETTO:+0000
TZNAME:GMT
DTSTART:20261025T010000
END:STANDARD
BEGIN:DAYLIGHT
TZOFFSETFROM:+0000
TZOFFSETTO:+0100
TZNAME:BST
DTSTART:20270328T010000
END:DAYLIGHT
BEGIN:STANDARD
TZOFFSETFROM:+0100
TZOFFSETTO:+0000
TZNAME:GMT
DTSTART:20271031T010000
END:STANDARD
END:VTIMEZONE
BEGIN:VEVENT
DTSTART;TZID=Europe/London:20260719T080000
DTEND;TZID=Europe/London:20260719T170000
DTSTAMP:20260421T144537
CREATED:20260312T084457Z
LAST-MODIFIED:20260312T084457Z
UID:466811-1784448000-1784480400@www.britishjudo.org.uk
SUMMARY:Midland Area Kata Masterclass 2026 - Katame-No-Kata
DESCRIPTION:Midland Area Kata Masterclass 2026 – Katame-No-Kata \n– with Lewis Hannington & Jim Compton \nLocation:  British Judo National Performance Centre\, Walsall\, West Midlands WS1 3BD \nThis course will introduce players to Katame-No Kata\, which satisfies the Kata requirements for 2nd Dan. (Level 1 certificate is required for competitive\, Level 2 for Technical). \nAttendees can be assessed up to level 3\, but must have had 6 months between each examination level. \nThis is a British Judo Association licensed coach education course worth one credit for revalidation. \nAll applicants must hold a current FULL BJA membership and be a minimum grade of 10th Mon or 3rd Kyu (Green Belt). \nWhite judogi are to be worn on the day. 6th Dan and above are requested to wear their black belt. \nBook here: https://www.trybooking.com/uk/GBGI \nLimited to 60 places. \nCost: £30 \n(£25 with early bird booking discount until 31st March. Use promotional code KATA26)About Lewis and Jim: \nLewis and Jim have been competing on the international Kata circuit for a number of years in Katame-no-Kata\, including multiple European and World Championships\, and achieved multiple international medals. They both have a wealth experience with Katame-no-Kata\, and Kata in general\, and this course will give you a great opportunity to learn from some of the best in the country.
URL:https://www.britishjudo.org.uk/event/midland-area-kata-masterclass-2026-katame-no-kata/
LOCATION:British Judo Centre of Excellence\, University of Wolverhampton\, Walsall Campus Gorway Road\, Walsall\, West Midlands\, WS1 3BD\, England
GEO:52.5715171;-1.9689208
X-APPLE-STRUCTURED-LOCATION;VALUE=URI;X-ADDRESS=British Judo Centre of Excellence University of Wolverhampton Walsall Campus Gorway Road Walsall West Midlands WS1 3BD England;X-APPLE-RADIUS=500;X-TITLE=University of Wolverhampton\, Walsall Campus Gorway Road:geo:-1.9689208,52.5715171
END:VEVENT
END:VCALENDAR