BEGIN:VCALENDAR
VERSION:2.0
PRODID:-//British Judo Association - ECPv6.15.18//NONSGML v1.0//EN
CALSCALE:GREGORIAN
METHOD:PUBLISH
X-WR-CALNAME:British Judo Association
X-ORIGINAL-URL:https://www.britishjudo.org.uk
X-WR-CALDESC:Events for British Judo Association
REFRESH-INTERVAL;VALUE=DURATION:PT1H
X-Robots-Tag:noindex
X-PUBLISHED-TTL:PT1H
BEGIN:VTIMEZONE
TZID:Europe/London
BEGIN:DAYLIGHT
TZOFFSETFROM:+0000
TZOFFSETTO:+0100
TZNAME:BST
DTSTART:20230326T010000
END:DAYLIGHT
BEGIN:STANDARD
TZOFFSETFROM:+0100
TZOFFSETTO:+0000
TZNAME:GMT
DTSTART:20231029T010000
END:STANDARD
BEGIN:DAYLIGHT
TZOFFSETFROM:+0000
TZOFFSETTO:+0100
TZNAME:BST
DTSTART:20240331T010000
END:DAYLIGHT
BEGIN:STANDARD
TZOFFSETFROM:+0100
TZOFFSETTO:+0000
TZNAME:GMT
DTSTART:20241027T010000
END:STANDARD
BEGIN:DAYLIGHT
TZOFFSETFROM:+0000
TZOFFSETTO:+0100
TZNAME:BST
DTSTART:20250330T010000
END:DAYLIGHT
BEGIN:STANDARD
TZOFFSETFROM:+0100
TZOFFSETTO:+0000
TZNAME:GMT
DTSTART:20251026T010000
END:STANDARD
BEGIN:DAYLIGHT
TZOFFSETFROM:+0000
TZOFFSETTO:+0100
TZNAME:BST
DTSTART:20260329T010000
END:DAYLIGHT
BEGIN:STANDARD
TZOFFSETFROM:+0100
TZOFFSETTO:+0000
TZNAME:GMT
DTSTART:20261025T010000
END:STANDARD
END:VTIMEZONE
BEGIN:VEVENT
DTSTART;TZID=Europe/London:20250528T133000
DTEND;TZID=Europe/London:20250528T143000
DTSTAMP:20260421T170147
CREATED:20250414T093022Z
LAST-MODIFIED:20250415T065521Z
UID:460654-1748439000-1748442600@www.britishjudo.org.uk
SUMMARY:Finding Your Feet for those with Parkinsons – 23 April 25 start for six weeks – Walsall
DESCRIPTION:Course Title: Finding Your Feet for those with Parkinsons \nDate/Time: 23rd April 2025 start for 6 weeks – 13:30-14:30\, you can start on any of these dates: \n\n23rd April 2025\n30th April 2025\n7th May 2025\n14th May 2025\n21st May 2025\n28th May 2025\n\nVenue: The Dojo\, BJA Centre of Excellence\, University of Wolverhampton (Walsall Campus)\, Gorway Road\, Walsall\, WS1 3BD \nCost: The sessions are free \nCourse Description: A practical session with Wayne McDonald a leading coach in the area that will aim to help participants lessen the impact of a fall using basic Judo ‘Breakfall’ techniques\, as well as improving balance and coordination. There will also be the opportunity for a free coffee/tea after the session. \nPartners and or carers are also welcome to come along and join in if they wish. \nFor further information please contact Laurence Kenyon – Laurence.kenyon@britishjudo.org.uk – 07854 215 654
URL:https://www.britishjudo.org.uk/event/finding-your-feet-for-those-with-parkinsons-23-april-25-start-for-six-weeks-walsall/2025-05-28/
LOCATION:British Judo Centre of Excellence\, University of Wolverhampton\, Walsall Campus Gorway Road\, Walsall\, West Midlands\, WS1 3BD\, England
ORGANIZER;CN="Laurence Kenyon":MAILTO:Laurence.kenyon@britishjudo.org.uk
GEO:52.5715171;-1.9689208
X-APPLE-STRUCTURED-LOCATION;VALUE=URI;X-ADDRESS=British Judo Centre of Excellence University of Wolverhampton Walsall Campus Gorway Road Walsall West Midlands WS1 3BD England;X-APPLE-RADIUS=500;X-TITLE=University of Wolverhampton\, Walsall Campus Gorway Road:geo:-1.9689208,52.5715171
END:VEVENT
BEGIN:VEVENT
DTSTART;TZID=Europe/London:20250402T133000
DTEND;TZID=Europe/London:20250402T143000
DTSTAMP:20260421T170147
CREATED:20250128T083653Z
LAST-MODIFIED:20250128T083653Z
UID:460208-1743600600-1743604200@www.britishjudo.org.uk
SUMMARY:Finding Your Feet for those with Parkinsons - 26 Feb 25 start for six weeks - Walsall
DESCRIPTION:Course Title: Finding Your Feet for those with Parkinsons \nDate/Time: 26th February start for 6 weeks – 13:30-14:30 \nVenue: The Dojo\, BJA Centre of Excellence\, University of Wolverhampton (Walsall Campus)\, Gorway Road\, Walsall\, WS1 3BD \nCost: The sessions are free \nCourse Description: A practical session with Wayne McDonald a leading coach in the area that will aim to help participants lessen the impact of a fall using basic Judo ‘Breakfall’ techniques\, as well as improving balance and coordination. There will also be the opportunity for a free coffee/tea after the session. \nFor further information please contact Laurence Kenyon – Laurence.kenyon@britishjudo.org.uk – 07854 215 654 \n\n 
URL:https://www.britishjudo.org.uk/event/finding-your-feet-for-those-with-parkinsons-26-feb-25-start-for-six-weeks-walsall/2025-04-02/
LOCATION:British Judo Centre of Excellence\, University of Wolverhampton\, Walsall Campus Gorway Road\, Walsall\, West Midlands\, WS1 3BD\, England
ORGANIZER;CN="Laurence Kenyon":MAILTO:Laurence.kenyon@britishjudo.org.uk
GEO:52.5715171;-1.9689208
X-APPLE-STRUCTURED-LOCATION;VALUE=URI;X-ADDRESS=British Judo Centre of Excellence University of Wolverhampton Walsall Campus Gorway Road Walsall West Midlands WS1 3BD England;X-APPLE-RADIUS=500;X-TITLE=University of Wolverhampton\, Walsall Campus Gorway Road:geo:-1.9689208,52.5715171
END:VEVENT
BEGIN:VEVENT
DTSTART;TZID=Europe/London:20241130T093000
DTEND;TZID=Europe/London:20241130T143000
DTSTAMP:20260421T170147
CREATED:20240314T095701Z
LAST-MODIFIED:20240314T095701Z
UID:455851-1732959000-1732977000@www.britishjudo.org.uk
SUMMARY:Randori 2024 - BJA Midland Area - Walsall
DESCRIPTION:BJA Midland Area Open Randori – 2024 dates\nSunday 14th April – Green belt and above only \nSaturday 1st June \nSunday 4th August \nSunday 29th September \nSaturday 30th November \nTimes:\nSession 1: Minors & Pre-Cadets – Registration 09:30 – Duration 10:00-12:00 \nSession 2: Cadets\, Juniors & Seniors – Registration 12:00 – Duration 12:30-14:30 \nSession 2B – Masters – Registration 12:00 – Duration 12:30-14:30 \nFor further details contact Bill Kelly – BKELJUDO@ICLOUD.COM – 07831 498 134 \n\n\n                \n                        \n                            Midland Area Open Randori 2024\n                             \n                        \n                        Name*\n                            \n                            \n                                                    \n                                                    First\n                                                \n                            \n                            \n                                                    \n                                                    Last\n                                                \n                            \n                        Email*\n                                \n                                    \n                                    Enter Email\n                                \n                                \n                                    \n                                    Confirm Email\n                                \n                                \n                            Phone number*Age*Grade*Which sessions do you wish to attend?*\n						\n						Select All\n					\n								\n								Sunday 14th April 2024\n							\n								\n								Saturday 1st June 2024\n							\n								\n								Sunday 4th August 2024\n							\n								\n								Sunday 29th September 2024\n							\n								\n								Saturday 30th November 2024\n							Do you wish to participate or are you a coach that wants to assist on the day?*\n						\n						Select All\n					\n								\n								Participant\n							\n								\n								Coach to assist on the day
URL:https://www.britishjudo.org.uk/event/randori-2024-bja-midland-area-walsall/2024-11-30/
LOCATION:British Judo Centre of Excellence\, University of Wolverhampton\, Walsall Campus Gorway Road\, Walsall\, West Midlands\, WS1 3BD\, England
ORGANIZER;CN="Bill Kelly":MAILTO:bkeljudo@icloud.com
GEO:52.5715171;-1.9689208
X-APPLE-STRUCTURED-LOCATION;VALUE=URI;X-ADDRESS=British Judo Centre of Excellence University of Wolverhampton Walsall Campus Gorway Road Walsall West Midlands WS1 3BD England;X-APPLE-RADIUS=500;X-TITLE=University of Wolverhampton\, Walsall Campus Gorway Road:geo:-1.9689208,52.5715171
END:VEVENT
END:VCALENDAR