BEGIN:VCALENDAR
VERSION:2.0
PRODID:-//British Judo Association - ECPv6.15.18//NONSGML v1.0//EN
CALSCALE:GREGORIAN
METHOD:PUBLISH
X-WR-CALNAME:British Judo Association
X-ORIGINAL-URL:https://www.britishjudo.org.uk
X-WR-CALDESC:Events for British Judo Association
REFRESH-INTERVAL;VALUE=DURATION:PT1H
X-Robots-Tag:noindex
X-PUBLISHED-TTL:PT1H
BEGIN:VTIMEZONE
TZID:Europe/London
BEGIN:DAYLIGHT
TZOFFSETFROM:+0000
TZOFFSETTO:+0100
TZNAME:BST
DTSTART:20240331T010000
END:DAYLIGHT
BEGIN:STANDARD
TZOFFSETFROM:+0100
TZOFFSETTO:+0000
TZNAME:GMT
DTSTART:20241027T010000
END:STANDARD
BEGIN:DAYLIGHT
TZOFFSETFROM:+0000
TZOFFSETTO:+0100
TZNAME:BST
DTSTART:20250330T010000
END:DAYLIGHT
BEGIN:STANDARD
TZOFFSETFROM:+0100
TZOFFSETTO:+0000
TZNAME:GMT
DTSTART:20251026T010000
END:STANDARD
BEGIN:DAYLIGHT
TZOFFSETFROM:+0000
TZOFFSETTO:+0100
TZNAME:BST
DTSTART:20260329T010000
END:DAYLIGHT
BEGIN:STANDARD
TZOFFSETFROM:+0100
TZOFFSETTO:+0000
TZNAME:GMT
DTSTART:20261025T010000
END:STANDARD
BEGIN:DAYLIGHT
TZOFFSETFROM:+0000
TZOFFSETTO:+0100
TZNAME:BST
DTSTART:20270328T010000
END:DAYLIGHT
BEGIN:STANDARD
TZOFFSETFROM:+0100
TZOFFSETTO:+0000
TZNAME:GMT
DTSTART:20271031T010000
END:STANDARD
END:VTIMEZONE
BEGIN:VEVENT
DTSTART;TZID=Europe/London:20260314T100000
DTEND;TZID=Europe/London:20260315T170000
DTSTAMP:20260423T040052
CREATED:20260127T164714Z
LAST-MODIFIED:20260127T171017Z
UID:465961-1773482400-1773594000@www.britishjudo.org.uk
SUMMARY:Judo Manager - Running a Competition (Theory and Practical Learning Course)
DESCRIPTION:More information to come soon.
URL:https://www.britishjudo.org.uk/event/judo-manager-running-a-competition-theory-and-practical-learning-course/
LOCATION:BJA National Training Centre Walsall\, British Judo National Training Centre\, University of Wolverhampton (Walsall Campus)\, Gorway Road\, Walsall\, Walsall\, WS1 3BD\, United Kingdom
CATEGORIES:Course,Officials,Other
ATTACH;FMTTYPE=image/jpeg:https://www.britishjudo.org.uk/wp-content/uploads/2026/01/2023-Cadet-Pre-Cadet-172-scaled.jpg
GEO:52.5720336;-1.97105
X-APPLE-STRUCTURED-LOCATION;VALUE=URI;X-ADDRESS=BJA National Training Centre Walsall British Judo National Training Centre University of Wolverhampton (Walsall Campus) Gorway Road Walsall Walsall WS1 3BD United Kingdom;X-APPLE-RADIUS=500;X-TITLE=British Judo National Training Centre\, University of Wolverhampton (Walsall Campus)\, Gorway Road\, Walsall:geo:-1.97105,52.5720336
END:VEVENT
BEGIN:VEVENT
DTSTART;TZID=Europe/London:20260215T080000
DTEND;TZID=Europe/London:20260215T170000
DTSTAMP:20260423T040052
CREATED:20251104T084139Z
LAST-MODIFIED:20251208T112212Z
UID:464254-1771142400-1771174800@www.britishjudo.org.uk
SUMMARY:Midland Area Open Randori
DESCRIPTION:Venue: British Judo National Performance Centre\, University of Wolverhampton (Walsall Campus)\, Gorway Road Walsall\, West Midlands WS1 3BD \nOPEN TO ALL JUDOKA FROM ALL AREAS! \n10:00 – 12:00  Minors and Pre-Cadets \n(Registration from 9:30) \n12:30 – 14:30 Cadet\, Junior\, Senior and Veterans \n(Registration from 12:00) \nPre-register here:  https://forms.office.com/r/zVNxVeXG14 \nFollow our social media channels for updates for the event!!! \n>>POSTER<<
URL:https://www.britishjudo.org.uk/event/midland-area-open-randori/
LOCATION:BJA National Training Centre Walsall\, British Judo National Training Centre\, University of Wolverhampton (Walsall Campus)\, Gorway Road\, Walsall\, Walsall\, WS1 3BD\, United Kingdom
GEO:52.5720336;-1.97105
X-APPLE-STRUCTURED-LOCATION;VALUE=URI;X-ADDRESS=BJA National Training Centre Walsall British Judo National Training Centre University of Wolverhampton (Walsall Campus) Gorway Road Walsall Walsall WS1 3BD United Kingdom;X-APPLE-RADIUS=500;X-TITLE=British Judo National Training Centre\, University of Wolverhampton (Walsall Campus)\, Gorway Road\, Walsall:geo:-1.97105,52.5720336
END:VEVENT
BEGIN:VEVENT
DTSTART;TZID=Europe/London:20260208T090000
DTEND;TZID=Europe/London:20260208T160000
DTSTAMP:20260423T040052
CREATED:20250821T073542Z
LAST-MODIFIED:20250922T113738Z
UID:462923-1770541200-1770566400@www.britishjudo.org.uk
SUMMARY:Adaptive Judo Conference with focus on Deaf & Visually Impaired our Clubs and Communities - 8 Feb 26 - Walsall
DESCRIPTION:Practical and informative workshops supporting the wider community to enhance their learning experience within the club and competition environments. Identifying technical content and applying applications that are inclusive and conducive to learning supported by research delivered by external professionals. \nThe course is both practical and educational\, judo suits\, tracksuits/comfortable clothing are required. Learning will take place in the dojo and classroom. Welcome to the wider judo community\, coaches\, officials\, referee’s and families. \nTea and coffee are provided throughout the day. Please bring your own food provisions. \nCoaches are welcome to come and learn how to enhance their skills\, knowledge and support the judoka of all levels of disability. covering different learning and delivery styles. Attendance all day is required to achieve revalidation criteria \nDate/Time: 8th February 2026 – 09:00-16:00 \nVenue: BJA National Training Centre\, Walsall \nBookings close: 7th February 2026 at 12:00 midday \nCost: £30\, the first 30x coaches to register using code: ADAPTIVE26 to get Free entry \nThis is a licenced Coach Education / Revalidation course \n\nIf the form does not appear below it is likely due to your device settings.\nPlease clear your “Cookies” and/or open this page in a private window IE. Incognito/InPrivate mode.
URL:https://www.britishjudo.org.uk/event/adaptive-judo-conference-with-focus-on-deaf-visually-impaired-our-clubs-and-communities-8-feb-26-walsall/
LOCATION:BJA National Training Centre Walsall\, British Judo National Training Centre\, University of Wolverhampton (Walsall Campus)\, Gorway Road\, Walsall\, Walsall\, WS1 3BD\, United Kingdom
CATEGORIES:Adaptive & Visually Impaired,Revalidation
ORGANIZER;CN="Kerry Tansey":MAILTO:ktansey1@gmail.com
GEO:52.5720336;-1.97105
X-APPLE-STRUCTURED-LOCATION;VALUE=URI;X-ADDRESS=BJA National Training Centre Walsall British Judo National Training Centre University of Wolverhampton (Walsall Campus) Gorway Road Walsall Walsall WS1 3BD United Kingdom;X-APPLE-RADIUS=500;X-TITLE=British Judo National Training Centre\, University of Wolverhampton (Walsall Campus)\, Gorway Road\, Walsall:geo:-1.97105,52.5720336
END:VEVENT
BEGIN:VEVENT
DTSTART;TZID=Europe/London:20260207T090000
DTEND;TZID=Europe/London:20260207T160000
DTSTAMP:20260423T040052
CREATED:20250821T071515Z
LAST-MODIFIED:20250922T113618Z
UID:462912-1770454800-1770480000@www.britishjudo.org.uk
SUMMARY:National Adaptive Inclusion Training Day - 7 Feb 26 - Walsall
DESCRIPTION:Welcome to everyone with a impairment of sensory\, physical\, mental\, from beginners to experienced. The day will consist of 40mins to 1 hour sessions\, with breaks for refreshments and lunch (not provided). \nSessions will be adapted to the levels of ability. \nParents/carers/support judoka are welcome to attend. \nThere will be plenty of support and opportunities to meet new friends\, ask questions and develop you and your judokas in a supportive environment. \nJudo suits\, fitness kits (shorts/t-shirt). \nBring your own Food and Drinks for your lunch and refreshments \nTea & Coffee will be provided for parents/carers/coaches. \nCost: This event is free to attend \nDate/Time: 7th February 2026 – 09:30-16:00 \nVenue: BJA National Training Centre\, Walsall \nBookings close: 6th February 2026 at 12:00 midday \nThis is a licenced Coach Education / Revalidation course (Attendance all day is required to achieve revalidation criteria). \n\nIf the form does not appear below it is likely due to your device settings.\nPlease clear your “Cookies” and/or open this page in a private window IE. Incognito/InPrivate mode.
URL:https://www.britishjudo.org.uk/event/national-adaptive-inclusion-training-day-7-feb-26-walsall/
LOCATION:BJA National Training Centre Walsall\, British Judo National Training Centre\, University of Wolverhampton (Walsall Campus)\, Gorway Road\, Walsall\, Walsall\, WS1 3BD\, United Kingdom
CATEGORIES:Adaptive & Visually Impaired,Revalidation
ORGANIZER;CN="Kerry Tansey":MAILTO:ktansey1@gmail.com
GEO:52.5720336;-1.97105
X-APPLE-STRUCTURED-LOCATION;VALUE=URI;X-ADDRESS=BJA National Training Centre Walsall British Judo National Training Centre University of Wolverhampton (Walsall Campus) Gorway Road Walsall Walsall WS1 3BD United Kingdom;X-APPLE-RADIUS=500;X-TITLE=British Judo National Training Centre\, University of Wolverhampton (Walsall Campus)\, Gorway Road\, Walsall:geo:-1.97105,52.5720336
END:VEVENT
BEGIN:VEVENT
DTSTART;TZID=Europe/London:20250209T100000
DTEND;TZID=Europe/London:20250209T160000
DTSTAMP:20260423T040052
CREATED:20241114T091142Z
LAST-MODIFIED:20241210T154042Z
UID:457762-1739095200-1739116800@www.britishjudo.org.uk
SUMMARY:Adaptive Judo Conference - Walsall - 9 Feb 25
DESCRIPTION:Open conference for all judo family – Coaches\, Players\, Referees\, Technical Officials\, Parents . Identifying two most common neurodiverse impairments within your clubs – ADHD\, Autism. \nGuest speakers share their experience on each of the subjects supporting the coaching within your clubs. Mat based sessions to follow offering adaptations to be inclusive and technical proficiency for all members within your Judo clubs. \nRelaxed informative day of information and physical engagement\, judogi or tracksuit is required. \nTea and coffee provided. You will need to bring your own lunch provisions. \nCost £30\, however on this occasion we are providing 30 fully funded places on a first come first served basis. Please use discount code ADAPTIVE25 to get your free space. \nDate/Time: 9th February 2025 – 10:00-16:00 \nCost: This event is £30\, but use discount code ADAPTIVE25 to get your free space. \nVenue: BJA National Training Centre\, Walsall \nThis is a licenced Coach Education / Revalidation course \n\nEvent Timetable\n\n\n\n9.00 – 9.30\nTea/Coffee registration\n\n\n9.40 to 10.00\nIntroduction to the day\n\n\n10:00 – 10:40\nUnderstanding Judoka with ADHD\n\n\n20 mins change into judogi\n\n\n11:00 – 12:00\nMat based session – Kerry Tansey\n\n\n12:00 – 12:50\nLunch with Chat & Talk with Rowan Kinsella -20 mins inclusive on the sofa (confirmed) about Rowan’s story\n\n\n1:00 – 1:40\nUnderstanding Judoka with Autism\n\n\n20 mins change into judogi\n\n\n2:00 – 3:00\n Mat based session – Kerry Tansey\n\n\n3:00 – 4:00\nCompetition\, Pathways structure – Kerry Tansey\n\n\nQuestions\, Feedback\, and open floor…
URL:https://www.britishjudo.org.uk/event/adaptive-judo-conference-walsall-9-feb-25/
LOCATION:BJA National Training Centre Walsall\, British Judo National Training Centre\, University of Wolverhampton (Walsall Campus)\, Gorway Road\, Walsall\, Walsall\, WS1 3BD\, United Kingdom
ORGANIZER;CN="Kerry Tansey":MAILTO:ktansey1@gmail.com
GEO:52.5720336;-1.97105
X-APPLE-STRUCTURED-LOCATION;VALUE=URI;X-ADDRESS=BJA National Training Centre Walsall British Judo National Training Centre University of Wolverhampton (Walsall Campus) Gorway Road Walsall Walsall WS1 3BD United Kingdom;X-APPLE-RADIUS=500;X-TITLE=British Judo National Training Centre\, University of Wolverhampton (Walsall Campus)\, Gorway Road\, Walsall:geo:-1.97105,52.5720336
END:VEVENT
END:VCALENDAR