BEGIN:VCALENDAR
VERSION:2.0
PRODID:-//British Judo Association - ECPv6.15.18//NONSGML v1.0//EN
CALSCALE:GREGORIAN
METHOD:PUBLISH
X-ORIGINAL-URL:https://www.britishjudo.org.uk
X-WR-CALDESC:Events for British Judo Association
REFRESH-INTERVAL;VALUE=DURATION:PT1H
X-Robots-Tag:noindex
X-PUBLISHED-TTL:PT1H
BEGIN:VTIMEZONE
TZID:Europe/London
BEGIN:DAYLIGHT
TZOFFSETFROM:+0000
TZOFFSETTO:+0100
TZNAME:BST
DTSTART:20250330T010000
END:DAYLIGHT
BEGIN:STANDARD
TZOFFSETFROM:+0100
TZOFFSETTO:+0000
TZNAME:GMT
DTSTART:20251026T010000
END:STANDARD
BEGIN:DAYLIGHT
TZOFFSETFROM:+0000
TZOFFSETTO:+0100
TZNAME:BST
DTSTART:20260329T010000
END:DAYLIGHT
BEGIN:STANDARD
TZOFFSETFROM:+0100
TZOFFSETTO:+0000
TZNAME:GMT
DTSTART:20261025T010000
END:STANDARD
BEGIN:DAYLIGHT
TZOFFSETFROM:+0000
TZOFFSETTO:+0100
TZNAME:BST
DTSTART:20270328T010000
END:DAYLIGHT
BEGIN:STANDARD
TZOFFSETFROM:+0100
TZOFFSETTO:+0000
TZNAME:GMT
DTSTART:20271031T010000
END:STANDARD
END:VTIMEZONE
BEGIN:VEVENT
DTSTART;TZID=Europe/London:20260531T080000
DTEND;TZID=Europe/London:20260531T170000
DTSTAMP:20260422T184924
CREATED:20260212T124048Z
LAST-MODIFIED:20260212T124101Z
UID:466282-1780214400-1780246800@www.britishjudo.org.uk
SUMMARY:L2 - Sussex Red Yellow and Orange U16 Open
DESCRIPTION:Venue: Ashington community centre\, Fosters Lane\, Ashington\, Sussex\, RH203PG \nWEIGH IN & REGISTRATION\nPlayers will be grouped according to weight\, age and experience and not in strict weights.\nYou will be emailed on or before 21.00 on 27th May confirming the contest time. \nCOMPETITION DETAILS: Contests: 2 minutes or 3 minutes depending on age & experience Players will be in pools of 3\,4 or 5\, and matched by age\, grade and weight. All players will receive medals as soon as possible after the end of their pool. Any queries or disputes on or off the mat will be decided by the Tournament Director whose decision is final. The competition is run under BJA rules as per the Tournament Handbook. ALL players must have a white compliant judogi. \n**CLOSING DATE: SUNDAY 23RD MAY 2026 AT 11:00PM** (or when entry reaches its limit) \n>>EVENT OUTLINES<<
URL:https://www.britishjudo.org.uk/event/l2-sussex-red-yellow-and-orange-u16-open/
LOCATION:Ashington Community Centre\, Foster Lane\, Ashington\, RH20 3PG\, United Kingdom
CATEGORIES:Cadets (14-16),Competition,Minors (8-11),Pre Cadet (12-13)
GEO:50.9327414;-0.395607
X-APPLE-STRUCTURED-LOCATION;VALUE=URI;X-ADDRESS=Ashington Community Centre Foster Lane Ashington RH20 3PG United Kingdom;X-APPLE-RADIUS=500;X-TITLE=Foster Lane:geo:-0.395607,50.9327414
END:VEVENT
END:VCALENDAR