BEGIN:VCALENDAR
VERSION:2.0
PRODID:-//British Judo Association - ECPv6.15.18//NONSGML v1.0//EN
CALSCALE:GREGORIAN
METHOD:PUBLISH
X-ORIGINAL-URL:https://www.britishjudo.org.uk
X-WR-CALDESC:Events for British Judo Association
REFRESH-INTERVAL;VALUE=DURATION:PT1H
X-Robots-Tag:noindex
X-PUBLISHED-TTL:PT1H
BEGIN:VTIMEZONE
TZID:Europe/London
BEGIN:DAYLIGHT
TZOFFSETFROM:+0000
TZOFFSETTO:+0100
TZNAME:BST
DTSTART:20240331T010000
END:DAYLIGHT
BEGIN:STANDARD
TZOFFSETFROM:+0100
TZOFFSETTO:+0000
TZNAME:GMT
DTSTART:20241027T010000
END:STANDARD
BEGIN:DAYLIGHT
TZOFFSETFROM:+0000
TZOFFSETTO:+0100
TZNAME:BST
DTSTART:20250330T010000
END:DAYLIGHT
BEGIN:STANDARD
TZOFFSETFROM:+0100
TZOFFSETTO:+0000
TZNAME:GMT
DTSTART:20251026T010000
END:STANDARD
BEGIN:DAYLIGHT
TZOFFSETFROM:+0000
TZOFFSETTO:+0100
TZNAME:BST
DTSTART:20260329T010000
END:DAYLIGHT
BEGIN:STANDARD
TZOFFSETFROM:+0100
TZOFFSETTO:+0000
TZNAME:GMT
DTSTART:20261025T010000
END:STANDARD
BEGIN:DAYLIGHT
TZOFFSETFROM:+0000
TZOFFSETTO:+0100
TZNAME:BST
DTSTART:20270328T010000
END:DAYLIGHT
BEGIN:STANDARD
TZOFFSETFROM:+0100
TZOFFSETTO:+0000
TZNAME:GMT
DTSTART:20271031T010000
END:STANDARD
END:VTIMEZONE
BEGIN:VEVENT
DTSTART;TZID=Europe/London:20260329T093000
DTEND;TZID=Europe/London:20260329T170000
DTSTAMP:20260421T171603
CREATED:20260105T122615Z
LAST-MODIFIED:20260105T122615Z
UID:465264-1774776600-1774803600@www.britishjudo.org.uk
SUMMARY:L2 - Samurai Girls Green & Ladies Blue & Under Championships
DESCRIPTION:Venue: Samurai Judo Club\, Zortech Avenue\, Kidderminster DY11 7DY \nNo British National Pre Cadet or Cadet Championships medallists allowed  \nCategories: \nGROUP A: Girls Red & Yellow Belts \nGROUP B: Girls Orange & Green belts \nGROUP C: Women Blue & Under \n**CLOSING DATE: FRIDAY 20TH MARCH 2026** (or when entry reaches its limit) \n>>ENTRY OUTLINES<<
URL:https://www.britishjudo.org.uk/event/l2-samurai-girls-green-ladies-blue-under-championships/
LOCATION:Samurai Judo Club\, Zortech Avenue\, Kidderminster\, Worcestershire\, DY11 7DY\, England
CATEGORIES:Cadets (14-16),Competition,Minors (8-11),Pre Cadet (12-13),Seniors (14+)
ORGANIZER;CN="Samurai Judo Club":MAILTO:club@samuraijudo.uk
GEO:52.3601249;-2.2750928
X-APPLE-STRUCTURED-LOCATION;VALUE=URI;X-ADDRESS=Samurai Judo Club Zortech Avenue Kidderminster Worcestershire DY11 7DY England;X-APPLE-RADIUS=500;X-TITLE=Zortech Avenue:geo:-2.2750928,52.3601249
END:VEVENT
BEGIN:VEVENT
DTSTART;TZID=Europe/London:20260328T093000
DTEND;TZID=Europe/London:20260328T170000
DTSTAMP:20260421T171603
CREATED:20260105T121525Z
LAST-MODIFIED:20260317T091119Z
UID:465261-1774690200-1774717200@www.britishjudo.org.uk
SUMMARY:L2 - Samurai Boys Green & Under Championships
DESCRIPTION:Venue: Samurai Judo Club\, Zortech Avenue\, Kidderminster DY11 7DY \nNo British National Pre Cadet or Cadet Championships medallists allowed \n**WEIGH IN TIMES** \nBoys Red & Yellow belts up to 32 kg:​  9.30 –   9.50 am \nBoys Red & Yellow belts 33-42 kg:​10.30 – 11.00 am \nBoys Red & Yellow belts over 42 kg:​12.00 – 12.30 pm \nBoys Orange & Green belts up to 46 kg:​ 2.00 –   2.30 pm \nBoys Orange & Green belts over 46 kg:​ ​ 3.00 –   3.30 pm \n>>EVENT OUTLINES<<
URL:https://www.britishjudo.org.uk/event/l2-samurai-boys-green-under-championships-2/
LOCATION:Samurai Judo Club\, Zortech Avenue\, Kidderminster\, Worcestershire\, DY11 7DY\, England
CATEGORIES:Cadets (14-16),Competition,Minors (8-11),Pre Cadet (12-13)
ORGANIZER;CN="Samurai Judo Club":MAILTO:club@samuraijudo.uk
GEO:52.3601249;-2.2750928
X-APPLE-STRUCTURED-LOCATION;VALUE=URI;X-ADDRESS=Samurai Judo Club Zortech Avenue Kidderminster Worcestershire DY11 7DY England;X-APPLE-RADIUS=500;X-TITLE=Zortech Avenue:geo:-2.2750928,52.3601249
END:VEVENT
BEGIN:VEVENT
DTSTART;VALUE=DATE:20251123
DTEND;VALUE=DATE:20251124
DTSTAMP:20260421T171603
CREATED:20250123T093114Z
LAST-MODIFIED:20251118T105449Z
UID:459117-1763856000-1763942399@www.britishjudo.org.uk
SUMMARY:Dan Grading for Men & Women - Samurai Judo Club\, Kidderminster - 23 Nov 25
DESCRIPTION:Categories:\nThis is a dan grading for men and women currently graded 1st kyu to 4th dan.\nThis follows our previous extremely successful gradings\, we average over 60 players at each\ngrading and usually have sufficient high grades that men can be graded to 5th dan on the day and\nwomen have line-ups and points for up to 4th dan. We therefore confidently expect a high turnout of\nall grades for this grading.\nMasters will be paired together where reasonably possible. \nWeigh-in Times Changed\nBecause of the large entry (even by our usual numbers)\, the weigh-in times have changed and are now: \nMale 1st kyu: 9.30 – 9.50 am\nAll women: 12.30 – 1.00 pm\nMale Dan grades: 2.00 – 2.30 pm \nEligibility:\nAll candidates must hold current BJA membership and be a minimum of 15 years of age. Candidates\nmust be BJA 1st kyu or above. Players holding AJA or BJC grades and wishing to convert to BJA\ngrades are also welcome\, please contact us by email to discuss\, well in advance of the event.\nFor dan grades\, please note that it is the COMPETITIVE dan grade which is the relevant grade. For\nexample\, a competitive 2nd dan who holds a technical 3rd dan is regarded for the purposes of this\ngrading as a 2nd dan. \nLate Entries \nWe are still accepting entries. However\, there is currently a technical problem with the Online Entries system. Therefore\, players can enter in advance by emailing their details to:\nclub@samuraijudo.uk \nThey can then pay on the day at the pre-entry rate of £20. \nPlayers can also enter on the day without notifying us in advance\, at a cost of £25. \nPlease ensure that ALL required information is on your entry.\nConfirmation of purchase is also confirmation of entry. \nEnquiries: e-mail: club@samuraijudo.uk website: www.samurai.org.uk or our Facebook page:\nwww.facebook.com/samuraijc\nFor contact in case of emergency on day of competition only: 07986 422335 \nCompetitors who are entering a category which is different to their sex assigned at birth are\nrequested to contact safeguarding@britishjudo.org.uk at the earliest opportunity. \nEVENT FLYER
URL:https://www.britishjudo.org.uk/event/dan-grading-for-men-women-samurai-judo-club-kidderminster-23-nov-25/
LOCATION:Samurai Judo Club\, Kidderminster\, Zortech Avenue\, Kidderminster\, Worcestershire\, DY11 7DY\, United Kingdom
ORGANIZER;CN="Samurai Judo Club":MAILTO:club@samuraijudo.uk
END:VEVENT
BEGIN:VEVENT
DTSTART;TZID=Europe/London:20251116T080000
DTEND;TZID=Europe/London:20251116T170000
DTSTAMP:20260421T171603
CREATED:20250124T141306Z
LAST-MODIFIED:20250124T141306Z
UID:459164-1763280000-1763312400@www.britishjudo.org.uk
SUMMARY:L2 - Samurai Girls Green & Ladies Blue & Under
DESCRIPTION:Venue: Samurai Judo Club\, Zortech Avenue\, Kidderminster DY11 7DY \nCategories:\nGROUP A: Girls Red & Yellow Belts \nGROUP B: Girls Orange & Green belts \nGROUP C: Women Blue & Under \nNo British National Pre Cadet or Cadet Championships medallists allowed \nWeigh-In\nAll weigh-in times will be posted on the club website and Facebook page a week before the event or\nwhen we have all the entries in. The first weigh-in will not start until 9.30 am.\nPlayers weigh in wearing judogi bottoms and a t-shirt. \n**CLOSING DATE: SATURDAY 15TH NOVEMBER 2025**
URL:https://www.britishjudo.org.uk/event/l2-samurai-girls-green-ladies-blue-under-2/
LOCATION:Samurai Judo Club\, Zortech Avenue\, Kidderminster\, Worcestershire\, DY11 7DY\, England
ORGANIZER;CN="Samurai Judo Club":MAILTO:club@samuraijudo.uk
GEO:52.3601249;-2.2750928
X-APPLE-STRUCTURED-LOCATION;VALUE=URI;X-ADDRESS=Samurai Judo Club Zortech Avenue Kidderminster Worcestershire DY11 7DY England;X-APPLE-RADIUS=500;X-TITLE=Zortech Avenue:geo:-2.2750928,52.3601249
END:VEVENT
BEGIN:VEVENT
DTSTART;TZID=Europe/London:20251115T080000
DTEND;TZID=Europe/London:20251115T170000
DTSTAMP:20260421T171603
CREATED:20250124T140811Z
LAST-MODIFIED:20250124T140811Z
UID:459161-1763193600-1763226000@www.britishjudo.org.uk
SUMMARY:L2 - Samurai Boys Green & Under Championships
DESCRIPTION:Venue: Samurai Judo Club\, Zortech Avenue\, Kidderminster DY11 7DY \nCategories:\nGROUP A: Boys Red & Yellow Belts\nGROUP B: Boys Orange & Green belts \nNo British National Pre Cadet or Cadet Championships medallists allowed \nWeigh-In:\nAll weigh-in times will be posted on the club website and Facebook page a week before the event or\nwhen we have all the entries in. The first weigh-in will not start until 9.30 am.\nPlayers weigh in wearing judogi bottoms and a t-shirt. \n**CLOSING DATE: FRIDAY 7TH NOVEMBER 2025**
URL:https://www.britishjudo.org.uk/event/l2-samurai-boys-green-under-championships/
LOCATION:Samurai Judo Club\, Zortech Avenue\, Kidderminster\, Worcestershire\, DY11 7DY\, England
ORGANIZER;CN="Samurai Judo Club":MAILTO:club@samuraijudo.uk
GEO:52.3601249;-2.2750928
X-APPLE-STRUCTURED-LOCATION;VALUE=URI;X-ADDRESS=Samurai Judo Club Zortech Avenue Kidderminster Worcestershire DY11 7DY England;X-APPLE-RADIUS=500;X-TITLE=Zortech Avenue:geo:-2.2750928,52.3601249
END:VEVENT
BEGIN:VEVENT
DTSTART;TZID=Europe/London:20251012T080000
DTEND;TZID=Europe/London:20251012T170000
DTSTAMP:20260421T171603
CREATED:20250124T140231Z
LAST-MODIFIED:20251006T122403Z
UID:459158-1760256000-1760288400@www.britishjudo.org.uk
SUMMARY:L2 - Rod Lane Senior Low Kyu Grades
DESCRIPTION:Venue: Samurai Judo Club\, Zortech Avenue\, Kidderminster DY11 7DY \nWeigh-in Times 2025\nSunday Oct 12 Rod Lane Kyu Grades\n(Samurai JC) \nGroup A (Men novice-yellow) up to U81: 9.30 – 9.50 am\nGroup A (Men novice-yellow) Over 81: 11.00 – 11.30 am\nGroup B (Men orange-blue) up to U73: 12.00 – 12.30 pm\nGroup B (Men orange-blue) Over 73: 1.30 – 2.00 pm\nGroups C and D (Women – all): 3.00 – 3.30 pm \nThe entry is now closed as we are full\, although any additional\nfemale players can contact us on club@samurai.co.uk and we\nshould be able to get you in. \n  \nCategories:\nGROUP A: Men novice to yellow belt\nGROUP B: Men orange to blue belt\nGROUP C: Women novice to yellow belt\nGROUP D: Women orange to blue belt \nWeigh-In:\nAll weigh-in times will be posted on the club website and Facebook page a week before the event or\nwhen we have all the entries in. The first weigh-in will not start until 9.30 am.\nPlayers weigh in wearing judogi bottoms and a t-shirt. \n**CLOSING DATE: SATURDAY 4TH OCTOBER 2025**
URL:https://www.britishjudo.org.uk/event/l2-rod-lane-senior-low-kyu-grades/
LOCATION:Samurai Judo Club\, Zortech Avenue\, Kidderminster\, Worcestershire\, DY11 7DY\, England
ORGANIZER;CN="Samurai Judo Club":MAILTO:club@samuraijudo.uk
GEO:52.3601249;-2.2750928
X-APPLE-STRUCTURED-LOCATION;VALUE=URI;X-ADDRESS=Samurai Judo Club Zortech Avenue Kidderminster Worcestershire DY11 7DY England;X-APPLE-RADIUS=500;X-TITLE=Zortech Avenue:geo:-2.2750928,52.3601249
END:VEVENT
BEGIN:VEVENT
DTSTART;TZID=Europe/London:20250719T080000
DTEND;TZID=Europe/London:20250719T170000
DTSTAMP:20260421T171603
CREATED:20250124T135538Z
LAST-MODIFIED:20250528T090314Z
UID:459153-1752912000-1752944400@www.britishjudo.org.uk
SUMMARY:L1 - Samurai Mini-Me’s Minimon
DESCRIPTION:Venue: Samurai Judo Club\, Zortech Avenue\, Kidderminster DY11 7DY \nCategories:\nBoys and Girls red and yellow belts.\nAll players will be sorted into categories of 4 or 5 where possible after weighing in. Every\ncompetitor will receive a medal. \nWeigh-In:\nAll weigh-in times will be posted on the club website and Facebook page a week before the event or\nwhen we have all the entries in. The first weigh-in will not start until 9.30 am.\nPlayers weigh in wearing judogi bottoms and a t-shirt. \n**CLOSING DATE: FRIDAY 11TH JULY 2025**
URL:https://www.britishjudo.org.uk/event/l1-samurai-mini-mes-minimon/
LOCATION:Samurai Judo Club\, Zortech Avenue\, Kidderminster\, Worcestershire\, DY11 7DY\, England
CATEGORIES:Cadets (14-16),Competition,Minors (8-11),Pre Cadet (12-13)
ORGANIZER;CN="Samurai Judo Club":MAILTO:club@samuraijudo.uk
GEO:52.3601249;-2.2750928
X-APPLE-STRUCTURED-LOCATION;VALUE=URI;X-ADDRESS=Samurai Judo Club Zortech Avenue Kidderminster Worcestershire DY11 7DY England;X-APPLE-RADIUS=500;X-TITLE=Zortech Avenue:geo:-2.2750928,52.3601249
END:VEVENT
BEGIN:VEVENT
DTSTART;VALUE=DATE:20250621
DTEND;VALUE=DATE:20250622
DTSTAMP:20260421T171603
CREATED:20250123T092041Z
LAST-MODIFIED:20250528T084759Z
UID:459112-1750464000-1750550399@www.britishjudo.org.uk
SUMMARY:Dan Grading for Men & Women - Samurai\, Kidderminster - 21 Jun 25
DESCRIPTION:Categories:\nThis is a dan grading for men and women currently graded 1st kyu to 4th dan.\nThis follows our previous extremely successful gradings\, we average over 60 players at each\ngrading and usually have sufficient high grades that men can be graded to 5th dan on the day and\nwomen have line-ups and points for up to 4th dan. We therefore confidently expect a high turnout of\nall grades for this grading.\nMasters will be paired together where reasonably possible. \nBook-In:\nMale 1st kyu: 9.30 – 9.50 am Male dan grades: 11.30-12.00 noon\nAll women: 11.30-12.00 noon \nEligibility:\nAll candidates must hold current BJA membership and be a minimum of 15 years of age. Candidates\nmust be BJA 1st kyu or above. Players holding AJA or BJC grades and wishing to convert to BJA\ngrades are also welcome\, please contact us by email to discuss\, well in advance of the event.\nFor dan grades\, please note that it is the COMPETITIVE dan grade which is the relevant grade. For\nexample\, a competitive 2nd dan who holds a technical 3rd dan is regarded for the purposes of this\ngrading as a 2nd dan. \nEntry:\nEntry fee: £20 if booked & paid online in advance. £25 if paid on the day. Spectators free.\nEven if you intend to pay on the day\, please email with your intention to enter so that we know who\nis coming.\nClosing date for entries: June 14. Early entry will help us plan\, so please get your entries in early.\nEnter and pay online instantly\, go to www.onlineentries.co.uk/samurai \nPlease ensure that ALL required information is on your entry.\nConfirmation of purchase is also confirmation of entry.\nEnquiries: e-mail: club@samuraijudo.uk website: www.samurai.org.uk or our Facebook page:\nwww.facebook.com/samuraijc\nFor contact in case of emergency on day of competition only: 07986 422335 \nCompetitors who are entering a category which is different to their sex assigned at birth are\nrequested to contact safeguarding@britishjudo.org.uk at the earliest opportunity. \nEvent Flyer
URL:https://www.britishjudo.org.uk/event/dan-grading-for-men-women-samurai-kidderminster-21-jun-25/
LOCATION:Samurai Judo Club\, Kidderminster\, Zortech Avenue\, Kidderminster\, Worcestershire\, DY11 7DY\, United Kingdom
CATEGORIES:Dan Gradings
ORGANIZER;CN="Samurai Judo Club":MAILTO:club@samuraijudo.uk
END:VEVENT
BEGIN:VEVENT
DTSTART;TZID=Europe/London:20250511T080000
DTEND;TZID=Europe/London:20250511T170000
DTSTAMP:20260421T171603
CREATED:20250124T134119Z
LAST-MODIFIED:20250506T065932Z
UID:459148-1746950400-1746982800@www.britishjudo.org.uk
SUMMARY:L2 - Samurai Girls Minimon & Senior Kyu Grades
DESCRIPTION:Venue: Samurai Judo Club\, Zortech Avenue\, Kidderminster DY11 7DY \nSunday May 11  \nSamurai Girls Orange & Under And Senior Low Grades \nGirls Red belts up to 36 kg: 9.30 – 9.50 am\nGirls Red belts over 36 kg: 10.30 – 11.00 am\nGirls Yellow & Orange belts (all): 12.00 – 12.30 pm\nSenior men and women (all): 1.30 – 2.00 pm \nThese are the times that players should arrive at the weigh-in. We aim to have players start competing within an hour of their weigh- in and finish not more than an hour after that\, but we can never guarantee this: a few contests with very long golden scores soon wrecks our plans\, as do late entries or no-shows. \n  \nIf you are delayed on the day due to traffic\, road closures and so on\, please ring us on 07986 422335. We will try to hold your category back\, although we cannot guarantee this. \n  \nSaturday’s event is now FULL. There are still spaces for Sunday and the Online Entry system is still open for that day. However\, anybody with a single Saturday entry should email us at club@samuraijudo.uk and we will see if we can fit them in. \n  \nSamurai Judo Club \nhttps://www.samurai.org.uk/find-us-contact-us
URL:https://www.britishjudo.org.uk/event/l2-samurai-girls-minimon-senior-kyu-grades/
LOCATION:Samurai Judo Club\, Zortech Avenue\, Kidderminster\, Worcestershire\, DY11 7DY\, England
ORGANIZER;CN="Samurai Judo Club":MAILTO:club@samuraijudo.uk
GEO:52.3601249;-2.2750928
X-APPLE-STRUCTURED-LOCATION;VALUE=URI;X-ADDRESS=Samurai Judo Club Zortech Avenue Kidderminster Worcestershire DY11 7DY England;X-APPLE-RADIUS=500;X-TITLE=Zortech Avenue:geo:-2.2750928,52.3601249
END:VEVENT
BEGIN:VEVENT
DTSTART;TZID=Europe/London:20250510T080000
DTEND;TZID=Europe/London:20250510T170000
DTSTAMP:20260421T171603
CREATED:20250124T133548Z
LAST-MODIFIED:20250506T065943Z
UID:459145-1746864000-1746896400@www.britishjudo.org.uk
SUMMARY:L2 - Samurai Boys Orange & Under Minimon
DESCRIPTION:Venue: Samurai Judo Club\, Zortech Avenue\, Kidderminster DY11 7DY \nSaturday May 10  \nSamurai Boys Orange & Under \nBoys Red belts up to 35 kg: 9.30 – 9.50 am\nBoys Red belts over 35 kg: 10.30 – 11.00 am\nBoys Yellow & Orange belts up to 40 kg: 12.30 – 1.00 pm\nBoys Yellow & Orange belts 41-56 kg: 2.30 – 3.00 pm\nBoys Yellow & Orange belts over 56 kg: 3.20 – 3.40 pm \nThese are the times that players should arrive at the weigh-in. We aim to have players start competing within an hour of their weigh- in and finish not more than an hour after that\, but we can never guarantee this: a few contests with very long golden scores soon wrecks our plans\, as do late entries or no-shows. \n  \nIf you are delayed on the day due to traffic\, road closures and so on\, please ring us on 07986 422335. We will try to hold your category back\, although we cannot guarantee this. \n  \nSaturday’s event is now FULL. There are still spaces for Sunday and the Online Entry system is still open for that day. However\, anybody with a single Saturday entry should email us at club@samuraijudo.uk and we will see if we can fit them in. \n  \nSamurai Judo Club \nhttps://www.samurai.org.uk/find-us-contact-us
URL:https://www.britishjudo.org.uk/event/l2-samurai-boys-orange-under-minimon/
LOCATION:Samurai Judo Club\, Zortech Avenue\, Kidderminster\, Worcestershire\, DY11 7DY\, England
ORGANIZER;CN="Samurai Judo Club":MAILTO:club@samuraijudo.uk
GEO:52.3601249;-2.2750928
X-APPLE-STRUCTURED-LOCATION;VALUE=URI;X-ADDRESS=Samurai Judo Club Zortech Avenue Kidderminster Worcestershire DY11 7DY England;X-APPLE-RADIUS=500;X-TITLE=Zortech Avenue:geo:-2.2750928,52.3601249
END:VEVENT
BEGIN:VEVENT
DTSTART;VALUE=DATE:20250420
DTEND;VALUE=DATE:20250421
DTSTAMP:20260421T171603
CREATED:20250123T091317Z
LAST-MODIFIED:20250409T094917Z
UID:459109-1745107200-1745193599@www.britishjudo.org.uk
SUMMARY:CANCELLED - Competitive Dan Grade Skills Course - Samurai\, Kidderminster - 20 Apr 25
DESCRIPTION:Details: \nThe course is aimed at players wanting Competitive Dan Grade Skills preparation and assessment.\nThere will be assessments at the end of the course and also\, to some extent\, continual assessment\nduring the course.\nThe course will cover the kata element for 1st and 2nd dan ONLY – candidates not fluent in kata who\nwant higher grade assessments should attend a kata course such as the one the day before this\ncourse\, also at the Samurai club. \nBooking & Times: \nCourse fee £20 (includes assessment where needed).\nPay on the day (cash or cheque) but book in advance by email to: club@samuraijudo.uk\nClosing date for bookings: April 11 or when event is full if earlier.\nCourse starts promptly at 10am on the mat (club open 9.30 to book in).Course is expected to end at 4.30pm with assessments possible afterwards. \nTechnical Dan Grade: \nThis course is aimed at competitive skills assessment. The plan is to alternate and do this one year\,\nand focus on Technical Dan Grade the following year.\nHowever\, candidates for Technical Dan Grade will find the course helpful and may be able to be\nassessed for some of the Technical Dan Grade sections at the end of the course. \nEnquiries: \ne-mail: club@samuraijudo.uk website: www.samurai.org.uk  or our Facebook page:\nwww.facebook.com/samuraijc \nEVENT FLYER PDF
URL:https://www.britishjudo.org.uk/event/competitive-dan-grade-skills-course-samurai-kidderminster-20-apr-25/
LOCATION:Samurai Judo Club\, Zortech Avenue\, Kidderminster\, Worcestershire\, DY11 7DY\, England
ORGANIZER;CN="Samurai Judo Club":MAILTO:club@samuraijudo.uk
GEO:52.3601249;-2.2750928
X-APPLE-STRUCTURED-LOCATION;VALUE=URI;X-ADDRESS=Samurai Judo Club Zortech Avenue Kidderminster Worcestershire DY11 7DY England;X-APPLE-RADIUS=500;X-TITLE=Zortech Avenue:geo:-2.2750928,52.3601249
END:VEVENT
BEGIN:VEVENT
DTSTART;TZID=Europe/London:20250330T080000
DTEND;TZID=Europe/London:20250330T170000
DTSTAMP:20260421T171603
CREATED:20250124T132802Z
LAST-MODIFIED:20250311T081342Z
UID:459138-1743321600-1743354000@www.britishjudo.org.uk
SUMMARY:L1 - Samurai Girls Yellow and Under
DESCRIPTION:  \n**CHANGES MADE TO THE EVENT** \nVenue: Samurai Judo Club\, Zortech Avenue\, Kidderminster DY11 7DY \nWeigh-In:\n09.30 am – 09:50AM (For All) \nThere are no weight categories. All players will be sorted into groups by weight\, age and grade.\nCompetition will be single pools with all players receiving a medal \n  \n**CLOSING DATE: SATURDAY 22ND MARCH 2025**
URL:https://www.britishjudo.org.uk/event/l1-samurai-girls-yellow-under/
LOCATION:Samurai Judo Club\, Zortech Avenue\, Kidderminster\, Worcestershire\, DY11 7DY\, England
ORGANIZER;CN="Samurai Judo Club":MAILTO:club@samuraijudo.uk
GEO:52.3601249;-2.2750928
X-APPLE-STRUCTURED-LOCATION;VALUE=URI;X-ADDRESS=Samurai Judo Club Zortech Avenue Kidderminster Worcestershire DY11 7DY England;X-APPLE-RADIUS=500;X-TITLE=Zortech Avenue:geo:-2.2750928,52.3601249
END:VEVENT
BEGIN:VEVENT
DTSTART;TZID=Europe/London:20250323T080000
DTEND;TZID=Europe/London:20250323T170000
DTSTAMP:20260421T171603
CREATED:20250124T141806Z
LAST-MODIFIED:20250124T142404Z
UID:459167-1742716800-1742749200@www.britishjudo.org.uk
SUMMARY:L3 - Samurai Senior & Veterans Men Kyu Grades
DESCRIPTION:Venue: Samurai Judo Club\, Zortech Avenue\, Kidderminster DY11 7DY \nCategories:\nGROUP A: Men +35 years green belt & below: -66 -73 -81 -90 +90 kg\nGROUP B: Men +35 years blue & brown belt: -66 -73 -81 -90 +90 kg\nGROUP C: Men green belt & below: -66 -73 -81 -90 +90 kg\nGROUP D: Men blue & brown belt: -66 -73 -81 -90 +90 kg \nWeigh-In:\nAll weigh-in times will be posted on the club website and Facebook page a week before the event or\nwhen we have all the entries in. The first weigh-in will not start until 9.30 am.\nPlayers weigh in wearing judogi bottoms (0.8kg allowance\, t-shirt also optional). \n**CLOSING DATE: FRIDAY 14TH MARCH 2025**
URL:https://www.britishjudo.org.uk/event/l3-samurai-senior-veterans-men-kyu-grades/
LOCATION:Samurai Judo Club\, Zortech Avenue\, Kidderminster\, Worcestershire\, DY11 7DY\, England
ORGANIZER;CN="Samurai Judo Club":MAILTO:club@samuraijudo.uk
GEO:52.3601249;-2.2750928
X-APPLE-STRUCTURED-LOCATION;VALUE=URI;X-ADDRESS=Samurai Judo Club Zortech Avenue Kidderminster Worcestershire DY11 7DY England;X-APPLE-RADIUS=500;X-TITLE=Zortech Avenue:geo:-2.2750928,52.3601249
END:VEVENT
BEGIN:VEVENT
DTSTART;TZID=Europe/London:20250301T080000
DTEND;TZID=Europe/London:20250301T170000
DTSTAMP:20260421T171603
CREATED:20250124T132036Z
LAST-MODIFIED:20250224T114446Z
UID:459134-1740816000-1740848400@www.britishjudo.org.uk
SUMMARY:L2 - Samurai Boys Green and Under Championships
DESCRIPTION:Please note that the entry for this event is now full. \n  \nVenue: Samurai Judo Club\, Zortech Avenue\, Kidderminster DY11 7DY \nWeigh-In: \nSaturday March 1 Samurai Boys Green & Under \nBoys Red & Yellow belts up to 32 kg: 9.30 – 9.50 am\nBoys Red & Yellow belts 33-36 kg: 10.30 – 11.00 am\nBoys Red & Yellow belts 37-50 kg: 12.00 – 12.30 pm\nBoys Red & Yellow belts over 50 kg: 1.30 – 2.00 pm\nBoys Orange & Green belts – all: 3.00 – 3.30 pm \nThese are the times that players should arrive at the weigh-in. We aim to have players start competing within an hour of their weigh-in and finish not more than an hour after that\, but we can never guarantee this: a few contests with very long golden scores soon wrecks our plans\, as does no-shows. \nPlease make sure your players bring their BJA membership books and not just rely on the app. \nPlayers weigh in wearing judogi bottoms and a t-shirt \n  \nGroup A: Level One event. BJA Technical Restrictions will apply in Group A.\nGroup B: Level Two event. \nEntry for this event is now full and has closed.
URL:https://www.britishjudo.org.uk/event/l2-samurai-boys-green-and-under-championships/
LOCATION:Samurai Judo Club\, Zortech Avenue\, Kidderminster\, Worcestershire\, DY11 7DY\, England
ORGANIZER;CN="Samurai Judo Club":MAILTO:club@samuraijudo.uk
GEO:52.3601249;-2.2750928
X-APPLE-STRUCTURED-LOCATION;VALUE=URI;X-ADDRESS=Samurai Judo Club Zortech Avenue Kidderminster Worcestershire DY11 7DY England;X-APPLE-RADIUS=500;X-TITLE=Zortech Avenue:geo:-2.2750928,52.3601249
END:VEVENT
END:VCALENDAR