BEGIN:VCALENDAR
VERSION:2.0
PRODID:-//British Judo Association - ECPv6.15.18//NONSGML v1.0//EN
CALSCALE:GREGORIAN
METHOD:PUBLISH
X-ORIGINAL-URL:https://www.britishjudo.org.uk
X-WR-CALDESC:Events for British Judo Association
REFRESH-INTERVAL;VALUE=DURATION:PT1H
X-Robots-Tag:noindex
X-PUBLISHED-TTL:PT1H
BEGIN:VTIMEZONE
TZID:Europe/London
BEGIN:DAYLIGHT
TZOFFSETFROM:+0000
TZOFFSETTO:+0100
TZNAME:BST
DTSTART:20240331T010000
END:DAYLIGHT
BEGIN:STANDARD
TZOFFSETFROM:+0100
TZOFFSETTO:+0000
TZNAME:GMT
DTSTART:20241027T010000
END:STANDARD
BEGIN:DAYLIGHT
TZOFFSETFROM:+0000
TZOFFSETTO:+0100
TZNAME:BST
DTSTART:20250330T010000
END:DAYLIGHT
BEGIN:STANDARD
TZOFFSETFROM:+0100
TZOFFSETTO:+0000
TZNAME:GMT
DTSTART:20251026T010000
END:STANDARD
BEGIN:DAYLIGHT
TZOFFSETFROM:+0000
TZOFFSETTO:+0100
TZNAME:BST
DTSTART:20260329T010000
END:DAYLIGHT
BEGIN:STANDARD
TZOFFSETFROM:+0100
TZOFFSETTO:+0000
TZNAME:GMT
DTSTART:20261025T010000
END:STANDARD
END:VTIMEZONE
BEGIN:VEVENT
DTSTART;TZID=Europe/London:20250511T080000
DTEND;TZID=Europe/London:20250511T170000
DTSTAMP:20260424T131000
CREATED:20250429T090055Z
LAST-MODIFIED:20250429T090055Z
UID:460849-1746950400-1746982800@www.britishjudo.org.uk
SUMMARY:L1 - Pro Judo Club Event
DESCRIPTION:Venue: Level 2\, Europa Building\, 450 Argyle St\, Glasgow\, G2 8LH \nThis is an entry-level event\, designed to give young judoka a taste of competitive judo and to let parents see the progress being made by their children. Medals will be awarded to competitors. Players will have at least 3 contests and contests will be 2-3 minutes in duration with a referee decision in the event of a draw. \nRegistration: \nGroup 1: 09:30am \nGroup 2: 11:30am \nGroup 3: 1:30om \n>>ENTER HERE<< \n  \n 
URL:https://www.britishjudo.org.uk/event/l1-pro-judo-club-event/
LOCATION:Europa Building\, Level 2 Europa Building 450 Argyle St Glasgow\, G2 8LH
ORGANIZER;CN="Pro Judo":MAILTO:supprt@projudo.co.uk
END:VEVENT
END:VCALENDAR