BEGIN:VCALENDAR
VERSION:2.0
PRODID:-//British Judo Association - ECPv6.15.18//NONSGML v1.0//EN
CALSCALE:GREGORIAN
METHOD:PUBLISH
X-ORIGINAL-URL:https://www.britishjudo.org.uk
X-WR-CALDESC:Events for British Judo Association
REFRESH-INTERVAL;VALUE=DURATION:PT1H
X-Robots-Tag:noindex
X-PUBLISHED-TTL:PT1H
BEGIN:VTIMEZONE
TZID:Europe/London
BEGIN:DAYLIGHT
TZOFFSETFROM:+0000
TZOFFSETTO:+0100
TZNAME:BST
DTSTART:20240331T010000
END:DAYLIGHT
BEGIN:STANDARD
TZOFFSETFROM:+0100
TZOFFSETTO:+0000
TZNAME:GMT
DTSTART:20241027T010000
END:STANDARD
BEGIN:DAYLIGHT
TZOFFSETFROM:+0000
TZOFFSETTO:+0100
TZNAME:BST
DTSTART:20250330T010000
END:DAYLIGHT
BEGIN:STANDARD
TZOFFSETFROM:+0100
TZOFFSETTO:+0000
TZNAME:GMT
DTSTART:20251026T010000
END:STANDARD
BEGIN:DAYLIGHT
TZOFFSETFROM:+0000
TZOFFSETTO:+0100
TZNAME:BST
DTSTART:20260329T010000
END:DAYLIGHT
BEGIN:STANDARD
TZOFFSETFROM:+0100
TZOFFSETTO:+0000
TZNAME:GMT
DTSTART:20261025T010000
END:STANDARD
END:VTIMEZONE
BEGIN:VEVENT
DTSTART;TZID=Europe/London:20250831T100000
DTEND;TZID=Europe/London:20250831T160000
DTSTAMP:20260424T040506
CREATED:20250730T073716Z
LAST-MODIFIED:20250730T073716Z
UID:462555-1756634400-1756656000@www.britishjudo.org.uk
SUMMARY:A guide to the modernised Dan Grade syllabus starting 1st Jan 2026 - Swinton Judo Club - 31 Aug 25
DESCRIPTION:This course is part of a National Program to update all members on the modernised Dan Grade processes and techniques to start on 1st Jan 2026 \nThis course is mandatory for all Senior Examiners to revalidate from 1st Jan 2026 for 3 years\nAll attending SEs will also convert to carrying out Kata exams for Nage-no-kata\, Katame-no-kata and Gonosen-no-kata up to Level 2. \nCoaches will benefit from gaining an understanding of the changes to the grading structure when preparing their judoka for promo-tion and also update their knowledge of the 100 IJF/Kodokan techniques\, which are also part of the IJF Academy coaching program\, whilst being signposted to all resources available. \nPlease bring packed lunch. \nRequirements: Senior Examiner and or a qualified coach. \nDate/Times: 31st August 2025 10:00-16:00 \nBooking: Contact the course organiser to book: patanddawnbyrne@talktalk.net or 07718 884 893 \nThis is a licensed Coach Education/Revalidation Course \n 
URL:https://www.britishjudo.org.uk/event/a-guide-to-the-modernised-dan-grade-syllabus-starting-1st-jan-2026-swinton-31aug25/
LOCATION:Swinton Judo Club\, 87-189 Moorside Road\, Swinton\, M27 9LL\, United Kingdom
CATEGORIES:Revalidation
ORGANIZER;CN="Patrick Byrne":MAILTO:patanddawnbyrne@talktalk.net
END:VEVENT
END:VCALENDAR