BEGIN:VCALENDAR
VERSION:2.0
PRODID:-//British Judo Association - ECPv6.15.18//NONSGML v1.0//EN
CALSCALE:GREGORIAN
METHOD:PUBLISH
X-WR-CALNAME:British Judo Association
X-ORIGINAL-URL:https://www.britishjudo.org.uk
X-WR-CALDESC:Events for British Judo Association
REFRESH-INTERVAL;VALUE=DURATION:PT1H
X-Robots-Tag:noindex
X-PUBLISHED-TTL:PT1H
BEGIN:VTIMEZONE
TZID:Europe/London
BEGIN:DAYLIGHT
TZOFFSETFROM:+0000
TZOFFSETTO:+0100
TZNAME:BST
DTSTART:20240331T010000
END:DAYLIGHT
BEGIN:STANDARD
TZOFFSETFROM:+0100
TZOFFSETTO:+0000
TZNAME:GMT
DTSTART:20241027T010000
END:STANDARD
BEGIN:DAYLIGHT
TZOFFSETFROM:+0000
TZOFFSETTO:+0100
TZNAME:BST
DTSTART:20250330T010000
END:DAYLIGHT
BEGIN:STANDARD
TZOFFSETFROM:+0100
TZOFFSETTO:+0000
TZNAME:GMT
DTSTART:20251026T010000
END:STANDARD
BEGIN:DAYLIGHT
TZOFFSETFROM:+0000
TZOFFSETTO:+0100
TZNAME:BST
DTSTART:20260329T010000
END:DAYLIGHT
BEGIN:STANDARD
TZOFFSETFROM:+0100
TZOFFSETTO:+0000
TZNAME:GMT
DTSTART:20261025T010000
END:STANDARD
BEGIN:DAYLIGHT
TZOFFSETFROM:+0000
TZOFFSETTO:+0100
TZNAME:BST
DTSTART:20270328T010000
END:DAYLIGHT
BEGIN:STANDARD
TZOFFSETFROM:+0100
TZOFFSETTO:+0000
TZNAME:GMT
DTSTART:20271031T010000
END:STANDARD
END:VTIMEZONE
BEGIN:VEVENT
DTSTART;TZID=Europe/London:20260321T100000
DTEND;TZID=Europe/London:20260321T170000
DTSTAMP:20260421T204729
CREATED:20260202T095529Z
LAST-MODIFIED:20260202T100220Z
UID:466031-1774087200-1774112400@www.britishjudo.org.uk
SUMMARY:National Rules Seminar - 21 Mar 26
DESCRIPTION:British Judo are pleased to offer a Rules Seminar primarily for referees and coaches\, it is mainly designed to disseminate the confirmed contest rules of 2026 and reinforce the key contest rules that are not changed. \nThe British seminar will include international referees at the sharp end on international duty. \nFurther to the IJF steer for the rules in 2026\, British Judo will disseminate this guidance using feedback from the Paris Grand Slam in February 2026 as clarity for the delivery. \nGBR encourage referees and coaches to work together to understand the interpretation principles more thoroughly to establish what is really happening and therefore the limits of what is allowed or not and why\, this will help referees to manage contests more accurately and help coaches to educate their athletes for compliance with the applicable rule set. It is hoped that athletes can learn to better manage contests within the rules by avoiding penalty situations and score more frequently once they have a better understanding of precisely how the rules are intended to work in detail. \nBritish Judo will continue their drive for excellence with VI and Adaptive rules tuition at the seminar with the hope to enable those matches to be managed more effectively across the country. \nTHIS IS A REVALIDATION EVENT FOR COACHES\, NATIONAL B AND ABOVE REFEREES \nDates / Times:  21st March 2026 Start 10.00\, End 17.00 \n\n  \n  \n  \n  \n\nIf the form does not appear below it is likely due to your device settings.\nPlease clear your “Cookies” and/or open this page in a private window IE. Incognito/InPrivate mode.
URL:https://www.britishjudo.org.uk/event/national-rules-seminar-21-mar-26/
LOCATION:British Judo National Training Centre\, University of Wolverhampton (Walsall Campus)\, Gorway Road\, Walsall­\, West Midlands\, WS1 3BD\, United Kingdom
CATEGORIES:Referees
END:VEVENT
BEGIN:VEVENT
DTSTART;TZID=Europe/London:20251122T090000
DTEND;TZID=Europe/London:20251122T170000
DTSTAMP:20260421T204729
CREATED:20241223T084517Z
LAST-MODIFIED:20251001T131308Z
UID:458487-1763802000-1763830800@www.britishjudo.org.uk
SUMMARY:Technical Grading Level 1 & Technical Grading Level 2 – 22 Nov 25 – Kidderminster
DESCRIPTION:Technical Grading Level 1 \n09:00 – 12:45 \nThe aim of this module is to deliver\, discuss and work with the technical requirement of British Judo’s ‘Mon and Kyu Grading Syllabus’ 1st to 9th Mon and the Kyu grade equivalent in order that coaches can confidently prepare and grade players Novice to 6th Mon and Novice to 5th Kyu. \nTechnical Grading Level 2 \n13:15 – 17:00 \nThe aim of this module is to deliver\, discuss and work with the technical requirement of British Judo’s ‘Mon and Kyu Grading Syllabus’ 10th to 18th Mon and the Kyu grade equivalent) in order that coaches can confidently prepare athletes for examination. \nUse the booking form below to complete your registration. \nCost: £20 each or £30 for both \nThis is a British Judo Association Licensed Coach Education Course \n\nIf the form does not appear below it is likely due to your device settings.\nPlease clear your “Cookies” and/or open this page in a private window IE. Incognito/InPrivate mode.
URL:https://www.britishjudo.org.uk/event/technical-grading-level-1-technical-grading-level-2-22-nov-25-kidderminster/
LOCATION:Samurai Judo Club\, Zortech Avenue\, Kidderminster\, Worcestershire\, DY11 7DY\, England
GEO:52.3601249;-2.2750928
X-APPLE-STRUCTURED-LOCATION;VALUE=URI;X-ADDRESS=Samurai Judo Club Zortech Avenue Kidderminster Worcestershire DY11 7DY England;X-APPLE-RADIUS=500;X-TITLE=Zortech Avenue:geo:-2.2750928,52.3601249
END:VEVENT
BEGIN:VEVENT
DTSTART;VALUE=DATE:20250517
DTEND;VALUE=DATE:20250518
DTSTAMP:20260421T204729
CREATED:20250204T120809Z
LAST-MODIFIED:20250515T073218Z
UID:459386-1747440000-1747526399@www.britishjudo.org.uk
SUMMARY:Technical Grading Level 1 & Technical Grading Level 2 - 17 May 25 - Higham and Rushden
DESCRIPTION:  \nTechnical Grading Level 1 \n09:30 – 13:15 \nThe aim of this module is to deliver\, discuss and work with the technical requirement of British Judo’s ‘Mon and Kyu Grading Syllabus’ 1st to 9th Mon and the Kyu grade equivalent in order that coaches can confidently prepare and grade players Novice to 6th Mon and Novice to 5th Kyu. \nTechnical Grading Level 2 \n13:45 – 17:30 \nThe aim of this module is to deliver\, discuss and work with the technical requirement of British Judo’s ‘Mon and Kyu Grading Syllabus’ 10th to 18th Mon and the Kyu grade equivalent) in order that coaches can confidently prepare athletes for examination. \nUse the booking form below to complete your registration. \nCost: £20 each or £30 for both \nThis is a British Judo Association Licensed Coach Education Course \n\n\n 
URL:https://www.britishjudo.org.uk/event/technical-grading-level-1-technical-grading-level-2-17-may-25-higham-and-rushden/
LOCATION:Higham and Rushden Judo Club\, Higham and Rushden - Unit 5\, Factory 2\, Sanders lodge industrial estate\, Wellingborough Road\, Rushden\, Northamptonshire\, NN10 6BQ\, United Kingdom
END:VEVENT
BEGIN:VEVENT
DTSTART;TZID=Europe/London:20250330T093000
DTEND;TZID=Europe/London:20250330T163000
DTSTAMP:20260421T204729
CREATED:20250203T131619Z
LAST-MODIFIED:20250203T131620Z
UID:459365-1743327000-1743352200@www.britishjudo.org.uk
SUMMARY:National Rules Seminar
DESCRIPTION:British Judo are pleased to offer a Rules Seminar Revalidation Module for primarily referees and coaches\, it is mainly designed to disseminate the new contest rules of 2025 and reinforce the key contest rules that are not changed.\nThe British seminar will be underpinned by international referees including attendee(s) from the IJF seminar. \nFurther to the international seminar delivered under the direction of Head Referee Director Daniel Lascau\, British Judo will disseminate this valuable detailed guidance using feedback from Paris and Baku Grand Slams by this point. \nGBR encourage referees and coaches to work together to understand the interpretation principles more thoroughly of what is really happening and therefore the limits of what is allowed or not and why\, this will help referees to manage contests more accurately and help coaches to educate their athletes for compliance with the applicable rule set\, it is hoped that athletes can learn to better manage contests within the rules by avoiding penalty situations and score more frequently once they have a better understanding of how the rules are intended to work in detail. Basic VI rules will also be presented to enable those matches to be managed more effectively. \nTHIS IS A BRITISH JUDO ASSOCIATION LICENSED REFEREE MODULE
URL:https://www.britishjudo.org.uk/event/national-rules-seminar/
LOCATION:British Judo National Training Centre\, University of Wolverhampton (Walsall Campus)\, Gorway Road\, Walsall­\, West Midlands\, WS1 3BD\, United Kingdom
END:VEVENT
BEGIN:VEVENT
DTSTART;TZID=Europe/London:20250202T100000
DTEND;TZID=Europe/London:20250202T160000
DTSTAMP:20260421T204729
CREATED:20241218T141520Z
LAST-MODIFIED:20241218T143027Z
UID:458464-1738490400-1738512000@www.britishjudo.org.uk
SUMMARY:Kanji – Refereeing and Officiating – Middlesbrough - 2 Feb 25
DESCRIPTION:Kanji – Refereeing and Officiating – Middlesbrough \nLocation: Middlesbrough Judo Club\, Pallister Park Sports Centre\, Ormesby Road TS3 7AP\n \nDate: 2nd February 2025 \nClosing Date: 1st February 2024 \nTimes: 10:00-16:00 \nCost: £20 for coaches\, under 16’s free (u16 maximum of 10) \n\nThis module is designed to help coaches teach club members the basics of refereeing and officiating to a level where the candidate will be able to referee and officiate at pre licenced events within the club environment\, i.e. those activities below competition level 1. The candidates will be taught in a club environment where the coaches are running activities to introduce new players\, referees\, officials and coaches to the principles of conducting a small event. Those referees and officials who wish to take the licenced pathway later in their career will be at a significant advantage in their knowledge which will enable them to progress through the licenced event pathway for refereeing and officiating more swiftly than they may have done without the Kanji training. \nAll levels can attend all courses\, but\, only level 2 or higher can deliver the courses. \n\nThis is a licenced coach education / revalidation course
URL:https://www.britishjudo.org.uk/event/kanji-refereeing-and-officiating-middlesbrough-2-feb-25/
LOCATION:Middlesbrough Judo Club\, Pallister Sports Centre\, 15 Ormsby Road\, Middlesbrough\, TS3 7AP\, United Kingdom
GEO:54.566159;-1.2090417
X-APPLE-STRUCTURED-LOCATION;VALUE=URI;X-ADDRESS=Middlesbrough Judo Club Pallister Sports Centre 15 Ormsby Road Middlesbrough TS3 7AP United Kingdom;X-APPLE-RADIUS=500;X-TITLE=Pallister Sports Centre\, 15 Ormsby Road:geo:-1.2090417,54.566159
END:VEVENT
BEGIN:VEVENT
DTSTART;TZID=Europe/London:20250201T100000
DTEND;TZID=Europe/London:20250201T160000
DTSTAMP:20260421T204729
CREATED:20241218T141143Z
LAST-MODIFIED:20241218T142439Z
UID:458462-1738404000-1738425600@www.britishjudo.org.uk
SUMMARY:Kanji - Refereeing and Officiating - North Shields - 1 Feb 25
DESCRIPTION:  \n\nKanji – Refereeing and Officiating – North Shields \nLocation: The Parks – Tyne Community Centre\, Chimside House\, Mariners’ Ln\, Tynemouth\, North Shields NE30 4AT \nDate: 1st February 2025 \nClosing Date: 31st January 2025 \nTimes: 10:00-16:00 \nCost: £20 for coaches\, under 16’s free (u16 maximum of 10) \nThis module is designed to help coaches teach club members the basics of refereeing and officiating to a level where the candidate will be able to referee and officiate at pre licenced events within the club environment\, i.e. those activities below competition level 1. The candidates will be taught in a club environment where the coaches are running activities to introduce new players\, referees\, officials and coaches to the principles of conducting a small event. Those referees and officials who wish to take the licenced pathway later in their career will be at a significant advantage in their knowledge which will enable them to progress through the licenced event pathway for refereeing and officiating more swiftly than they may have done without the Kanji training. \nAll levels can attend all courses\, but\, only level 2 or higher can deliver the courses. \nThis is a licenced coach education / revalidation course
URL:https://www.britishjudo.org.uk/event/kanji-refereeing-and-officiating-north-shields-1-feb-25/
LOCATION:Parks Judo Club\, Tyne Youth & Community Centre\, Chirnside House\, Mariners Lane\, Tynemouth\, Tyne and Wear\, NE30 4AT\, United Kingdom
GEO:55.0153991;-1.4317616
X-APPLE-STRUCTURED-LOCATION;VALUE=URI;X-ADDRESS=Parks Judo Club Tyne Youth & Community Centre Chirnside House Mariners Lane Tynemouth Tyne and Wear NE30 4AT United Kingdom;X-APPLE-RADIUS=500;X-TITLE=Tyne Youth & Community Centre\, Chirnside House\, Mariners Lane:geo:-1.4317616,55.0153991
END:VEVENT
END:VCALENDAR