BEGIN:VCALENDAR
VERSION:2.0
PRODID:-//British Judo Association - ECPv6.15.18//NONSGML v1.0//EN
CALSCALE:GREGORIAN
METHOD:PUBLISH
X-WR-CALNAME:British Judo Association
X-ORIGINAL-URL:https://www.britishjudo.org.uk
X-WR-CALDESC:Events for British Judo Association
REFRESH-INTERVAL;VALUE=DURATION:PT1H
X-Robots-Tag:noindex
X-PUBLISHED-TTL:PT1H
BEGIN:VTIMEZONE
TZID:Europe/London
BEGIN:DAYLIGHT
TZOFFSETFROM:+0000
TZOFFSETTO:+0100
TZNAME:BST
DTSTART:20240331T010000
END:DAYLIGHT
BEGIN:STANDARD
TZOFFSETFROM:+0100
TZOFFSETTO:+0000
TZNAME:GMT
DTSTART:20241027T010000
END:STANDARD
BEGIN:DAYLIGHT
TZOFFSETFROM:+0000
TZOFFSETTO:+0100
TZNAME:BST
DTSTART:20250330T010000
END:DAYLIGHT
BEGIN:STANDARD
TZOFFSETFROM:+0100
TZOFFSETTO:+0000
TZNAME:GMT
DTSTART:20251026T010000
END:STANDARD
BEGIN:DAYLIGHT
TZOFFSETFROM:+0000
TZOFFSETTO:+0100
TZNAME:BST
DTSTART:20260329T010000
END:DAYLIGHT
BEGIN:STANDARD
TZOFFSETFROM:+0100
TZOFFSETTO:+0000
TZNAME:GMT
DTSTART:20261025T010000
END:STANDARD
BEGIN:DAYLIGHT
TZOFFSETFROM:+0000
TZOFFSETTO:+0100
TZNAME:BST
DTSTART:20270328T010000
END:DAYLIGHT
BEGIN:STANDARD
TZOFFSETFROM:+0100
TZOFFSETTO:+0000
TZNAME:GMT
DTSTART:20271031T010000
END:STANDARD
END:VTIMEZONE
BEGIN:VEVENT
DTSTART;VALUE=DATE:20260215
DTEND;VALUE=DATE:20260216
DTSTAMP:20260423T115201
CREATED:20260112T080911Z
LAST-MODIFIED:20260112T081623Z
UID:465489-1771113600-1771199999@www.britishjudo.org.uk
SUMMARY:First Aid course - 15 Feb 25 - Bristol
DESCRIPTION:Only places remaining on the First Aid course please contact the provider direct to book \n\n 
URL:https://www.britishjudo.org.uk/event/first-aid-course-15-feb-25-bristol/
LOCATION:Faithspace\, Prewett St\, Bristol\, BS1 6PB
CATEGORIES:First Aid
ORGANIZER;CN="Kate Woolven":MAILTO:firstaidswimtraining@gmail.com
GEO:51.4474361;-2.5878473
X-APPLE-STRUCTURED-LOCATION;VALUE=URI;X-ADDRESS=Faithspace Prewett St Bristol BS1 6PB;X-APPLE-RADIUS=500;X-TITLE=Prewett St\, Bristol:geo:-2.5878473,51.4474361
END:VEVENT
BEGIN:VEVENT
DTSTART;TZID=Europe/London:20251102T090000
DTEND;TZID=Europe/London:20251102T160000
DTSTAMP:20260423T115201
CREATED:20250718T125132Z
LAST-MODIFIED:20250805T103056Z
UID:462376-1762074000-1762099200@www.britishjudo.org.uk
SUMMARY:First Aid and Safeguarding - 2 Nov 25 - Kidderminster
DESCRIPTION:British Judo Accredited Safeguarding & Protecting Children Course & Emergency Sports First Aid Course\nVenue: Samurai Judo Club\, Zortech Avenue\, Kidderminster. DY11 7DY\nSunday 2nd November 2025\nSafeguarding 9am to 1230 – Course Fee £35\nFirst Aid 1300 to 1600 – Course Fee £55 Course Tutor: Lee Holley 5th Dan \nCourses are suitable for those required to complete the face to face course requirements for new BJA coach awards or revalidation of existing awards. \nTo book and pay for your place\, please email Kate Woolven firstaidswimtraining@gmail.com \n\nTraining Details
URL:https://www.britishjudo.org.uk/event/first-aid-and-safeguarding-2-nov-25-kidderminster/
CATEGORIES:Coaching,First Aid,Safeguarding
ORGANIZER;CN="Kate Woolven":MAILTO:firstaidswimtraining@gmail.com
END:VEVENT
END:VCALENDAR