BEGIN:VCALENDAR
VERSION:2.0
PRODID:-//British Judo Association - ECPv6.15.18//NONSGML v1.0//EN
CALSCALE:GREGORIAN
METHOD:PUBLISH
X-ORIGINAL-URL:https://www.britishjudo.org.uk
X-WR-CALDESC:Events for British Judo Association
REFRESH-INTERVAL;VALUE=DURATION:PT1H
X-Robots-Tag:noindex
X-PUBLISHED-TTL:PT1H
BEGIN:VTIMEZONE
TZID:Europe/London
BEGIN:DAYLIGHT
TZOFFSETFROM:+0000
TZOFFSETTO:+0100
TZNAME:BST
DTSTART:20240331T010000
END:DAYLIGHT
BEGIN:STANDARD
TZOFFSETFROM:+0100
TZOFFSETTO:+0000
TZNAME:GMT
DTSTART:20241027T010000
END:STANDARD
BEGIN:DAYLIGHT
TZOFFSETFROM:+0000
TZOFFSETTO:+0100
TZNAME:BST
DTSTART:20250330T010000
END:DAYLIGHT
BEGIN:STANDARD
TZOFFSETFROM:+0100
TZOFFSETTO:+0000
TZNAME:GMT
DTSTART:20251026T010000
END:STANDARD
BEGIN:DAYLIGHT
TZOFFSETFROM:+0000
TZOFFSETTO:+0100
TZNAME:BST
DTSTART:20260329T010000
END:DAYLIGHT
BEGIN:STANDARD
TZOFFSETFROM:+0100
TZOFFSETTO:+0000
TZNAME:GMT
DTSTART:20261025T010000
END:STANDARD
END:VTIMEZONE
BEGIN:VEVENT
DTSTART;TZID=Europe/London:20251013T190000
DTEND;TZID=Europe/London:20251013T200000
DTSTAMP:20260421T225403
CREATED:20250217T105112Z
LAST-MODIFIED:20250217T105227Z
UID:459749-1760382000-1760385600@www.britishjudo.org.uk
SUMMARY:Timekeeper Education - 13 Oct 25 - MS Teams
DESCRIPTION:Timekeeper/Scorer qualifications maybe done over 3 competitions without pre training\, or 1 competition if preceded by a Timekeepers training module. The course module focuses on the basics of a judo contest and the role the timekeeper and scorer plays during competition judo. \nParticipants need to have a BJA membership (can be free volunteer membership) and be at least 10 years of age. Communication skills are a major advantage in this role. \nThe online module covers referee words\, signals\, and actions from them\, understanding the accurate use of the timing devices\, awareness of what to do and when in the case of Osaekomi timing and a basic understanding of scoring and penalties. \nTo complete the training\, candidates are required to either complete this module and be satisfactorily observed at one competition\, or attend 3 competitions for on the job training and have 3 observations successfully completed \, in both cases their activity form needs to be signed off at least once by either a Senior Recorder or Competition Controller \n13th October 2025 19:00-20:00 via Microsoft Teams \nContact joimrie@judoscotland.com to book \nTHIS IS A BRITISH JUDO ASSOCIATION LICENSED TIMEKEEPER MODULE
URL:https://www.britishjudo.org.uk/event/timekeeper-education-13-oct-25-ms-teams/
LOCATION:MS Teams
ORGANIZER;CN="Jo Imrie":MAILTO:events@judoscotland.com
END:VEVENT
BEGIN:VEVENT
DTSTART;TZID=Europe/London:20250816T093000
DTEND;TZID=Europe/London:20250816T163000
DTSTAMP:20260421T225403
CREATED:20250217T105806Z
LAST-MODIFIED:20250528T091031Z
UID:459752-1755336600-1755361800@www.britishjudo.org.uk
SUMMARY:Senior Recorder Course - 16 Aug 25 - Newbridge\, Scotland
DESCRIPTION:SENIOR RECORDER \nSenior Recorder is the third level of officiating offered by British Judo. \nThe training programme for Senior Recorders is a one day course\, culminating in a written examination. \nOn successful completion of the training programme\, candidates will be able to hold licences for multi-mat competitions up to level 3\, non-point scoring. \nWHAT DO YOU NEED BEFORE YOU CAN SIGN UP? \nYou will have: \n• Held a Competition Recorder qualification for a minimum of 3 years and be at least 18 years of age.\n• Have current evidence of recording activity at events.\n• Have good time management\, Communication and people skills.\n• Hold a membership of the British Judo Association. This is maintained by the BJA for as long as the Technical official fulfils the revalidation criteria. \nTRAINING DETAILS \nSenior Recorder training builds on the knowledge and skills of a Contest Recorder.\nCandidates sit an examination paper\, following a course. As part of their training course candidates learn: \n• Awareness of all the current competition methods in use\n• Timetabling\n• Multi-mat competition management\n• Movement of players through the various rounds of competition\n• Awareness of point scoring\n• Awareness of safeguarding both at the weigh-in and during competition \n16th August 2025 at EICA\, Ratho\, Newbridge\, EH28 8AA from 09:30-16:30 \nContact joimrie@judoscotland.com to book \nTHIS IS A BRITISH JUDO ASSOCIATION LICENSED SENIOR RECORDER MODULE \n 
URL:https://www.britishjudo.org.uk/event/senior-recorder-course-16-aug-25-newbridge-scotland/
LOCATION:EICA\, EICA\, South Platt Hill\, Ratho\, Newbridge\, Newbridge\, EH28 8AA
CATEGORIES:Course,Officials
ORGANIZER;CN="Jo Imrie":MAILTO:events@judoscotland.com
GEO:55.923409;-3.397706
X-APPLE-STRUCTURED-LOCATION;VALUE=URI;X-ADDRESS=EICA EICA South Platt Hill Ratho Newbridge Newbridge EH28 8AA;X-APPLE-RADIUS=500;X-TITLE=EICA\, South Platt Hill\, Ratho\, Newbridge:geo:-3.397706,55.923409
END:VEVENT
BEGIN:VEVENT
DTSTART;TZID=Europe/London:20250611T190000
DTEND;TZID=Europe/London:20250611T210000
DTSTAMP:20260421T225403
CREATED:20250217T104336Z
LAST-MODIFIED:20250528T084233Z
UID:459745-1749668400-1749675600@www.britishjudo.org.uk
SUMMARY:Contest Recorder Course - 11/16/23 June 2025 - MS Teams
DESCRIPTION:Contest Recorder is the second level of officiating offered by British Judo. \nIf you are already hold a Timekeeper/Scorer qualification\, or you are experienced in judo and want to help out at competitions then this level is the officiating role for you. \nThe training programme for the Contest Recorder is via Teams teaching and event mentoring. It builds on the elements learnt as a Timekeeper/Scorer and focuses on how to run an officiating table at a competition. \nOn successful completion of the training programme candidates will be able to run pools and knockout sections at a competition and run a officiating table. \nWhat do you need before you can sign up? \n\nBe at least 13 years of age\nBe a current member of the British Judo Association. If the candidate is not a current member British Judo will issue an associate membership (valid for table officiating only). This will last for three years and can be renewed free of charge at the end of that time if the person is still active\nHold a Timekeeper/Scorer qualification and have been active at a minimum of 3 events since qualification or an experienced judo participant.\nGood communication and ‘people skills’\n\nTraining details \nCandidates sit an examination paper\, usually following an education course. As part of their training course candidates learn: \n\nAwareness of legends and scores.\n• Awareness of usual contest times\, osaekomi times and rest times.\n• How to run a table in general.\n• How to run pools or knockout systems.\n• Understand the procedure when a player withdraws for any reason\n\nOnline Delivered over 3 consecutive weeks \n11th\, 16th and 23rd June 2025 19:00 – 21:00 via Microsoft Teams \nContact joimrie@judoscotland.com to sign up \nTHIS IS A BRITISH JUDO ASSOCIATION LICENSED CONTEST RECORDER MODULE
URL:https://www.britishjudo.org.uk/event/contest-recorder-course-11-16-23-june-2025-ms-teams/
LOCATION:MS Teams
CATEGORIES:Course,Officials
ORGANIZER;CN="Jo Imrie":MAILTO:events@judoscotland.com
END:VEVENT
BEGIN:VEVENT
DTSTART;TZID=Europe/London:20250326T190000
DTEND;TZID=Europe/London:20250326T200000
DTSTAMP:20260421T225403
CREATED:20250217T104706Z
LAST-MODIFIED:20250217T104706Z
UID:459747-1743015600-1743019200@www.britishjudo.org.uk
SUMMARY:Timekeeper Education - 26 Mar 25 - MS Teams
DESCRIPTION:Timekeeper/Scorer qualifications maybe done over 3 competitions without pre training\, or 1 competition if preceded by a Timekeepers training module. The course module focuses on the basics of a judo contest and the role the timekeeper and scorer plays during competition judo. \nParticipants need to have a BJA membership (can be free volunteer membership) and be at least 10 years of age. Communication skills are a major advantage in this role. \nThe online module covers referee words\, signals\, and actions from them\, understanding the accurate use of the timing devices\, awareness of what to do and when in the case of Osaekomi timing and a basic understanding of scoring and penalties. \nTo complete the training\, candidates are required to either complete this module and be satisfactorily observed at one competition\, or attend 3 competitions for on the job training and have 3 observations successfully completed \, in both cases their activity form needs to be signed off at least once by either a Senior Recorder or Competition Controller. \n26th March 2025 19:00-20:00 on Microsoft Teams \nContact joimrie@judoscotland.com to book \nTHIS IS A BRITISH JUDO ASSOCIATION LICENSED TIMEKEEPER MODULE
URL:https://www.britishjudo.org.uk/event/timekeeper-education-26-mar-25-ms-teams/
LOCATION:MS Teams
ORGANIZER;CN="Jo Imrie":MAILTO:events@judoscotland.com
END:VEVENT
END:VCALENDAR