BEGIN:VCALENDAR
VERSION:2.0
PRODID:-//British Judo Association - ECPv6.15.18//NONSGML v1.0//EN
CALSCALE:GREGORIAN
METHOD:PUBLISH
X-WR-CALNAME:British Judo Association
X-ORIGINAL-URL:https://www.britishjudo.org.uk
X-WR-CALDESC:Events for British Judo Association
REFRESH-INTERVAL;VALUE=DURATION:PT1H
X-Robots-Tag:noindex
X-PUBLISHED-TTL:PT1H
BEGIN:VTIMEZONE
TZID:Europe/London
BEGIN:DAYLIGHT
TZOFFSETFROM:+0000
TZOFFSETTO:+0100
TZNAME:BST
DTSTART:20250330T010000
END:DAYLIGHT
BEGIN:STANDARD
TZOFFSETFROM:+0100
TZOFFSETTO:+0000
TZNAME:GMT
DTSTART:20251026T010000
END:STANDARD
BEGIN:DAYLIGHT
TZOFFSETFROM:+0000
TZOFFSETTO:+0100
TZNAME:BST
DTSTART:20260329T010000
END:DAYLIGHT
BEGIN:STANDARD
TZOFFSETFROM:+0100
TZOFFSETTO:+0000
TZNAME:GMT
DTSTART:20261025T010000
END:STANDARD
BEGIN:DAYLIGHT
TZOFFSETFROM:+0000
TZOFFSETTO:+0100
TZNAME:BST
DTSTART:20270328T010000
END:DAYLIGHT
BEGIN:STANDARD
TZOFFSETFROM:+0100
TZOFFSETTO:+0000
TZNAME:GMT
DTSTART:20271031T010000
END:STANDARD
END:VTIMEZONE
BEGIN:VEVENT
DTSTART;TZID=Europe/London:20260301T080000
DTEND;TZID=Europe/London:20260301T170000
DTSTAMP:20260419T135906
CREATED:20260123T100743Z
LAST-MODIFIED:20260123T100743Z
UID:465783-1772352000-1772384400@www.britishjudo.org.uk
SUMMARY:L1 - Cherry Blossom
DESCRIPTION:Venue: Craigswood Sports Centre\, Livingston\, EH54 5ER \nCategories: \nUnder 8 Festival \nAge Group 8\, 9 & 10 Years Old (Maximum Grade 9th Mon) \nAge Group 11 & 12 Years Old (Maximum Grade 12th Mon) \nWeigh In Times: \nWill be emailed out once the event has reached its maximum participation or the closing date has been reached. \n**CLOSING DATE: FRIDAY 20TH FEBRUARY 2026** (or when entry reaches its limit) \n>>EVENT OUTLINES<<
URL:https://www.britishjudo.org.uk/event/l1-cherry-blossom-2/
LOCATION:Craigswood Sports Centre\, Livingston\, EH54 5ER\, United Kingdom
CATEGORIES:Competition,Minors (8-11),Pre Cadet (12-13),U8 (6-7)
ORGANIZER;CN="Jidel Judo 93":MAILTO:jo@jideljudo93.com
GEO:55.9013952;-3.5037045
X-APPLE-STRUCTURED-LOCATION;VALUE=URI;X-ADDRESS=Craigswood Sports Centre Livingston EH54 5ER United Kingdom;X-APPLE-RADIUS=500;X-TITLE=Livingston:geo:-3.5037045,55.9013952
END:VEVENT
END:VCALENDAR