BEGIN:VCALENDAR
VERSION:2.0
PRODID:-//British Judo Association - ECPv6.15.18//NONSGML v1.0//EN
CALSCALE:GREGORIAN
METHOD:PUBLISH
X-ORIGINAL-URL:https://www.britishjudo.org.uk
X-WR-CALDESC:Events for British Judo Association
REFRESH-INTERVAL;VALUE=DURATION:PT1H
X-Robots-Tag:noindex
X-PUBLISHED-TTL:PT1H
BEGIN:VTIMEZONE
TZID:Europe/London
BEGIN:DAYLIGHT
TZOFFSETFROM:+0000
TZOFFSETTO:+0100
TZNAME:BST
DTSTART:20250330T010000
END:DAYLIGHT
BEGIN:STANDARD
TZOFFSETFROM:+0100
TZOFFSETTO:+0000
TZNAME:GMT
DTSTART:20251026T010000
END:STANDARD
BEGIN:DAYLIGHT
TZOFFSETFROM:+0000
TZOFFSETTO:+0100
TZNAME:BST
DTSTART:20260329T010000
END:DAYLIGHT
BEGIN:STANDARD
TZOFFSETFROM:+0100
TZOFFSETTO:+0000
TZNAME:GMT
DTSTART:20261025T010000
END:STANDARD
BEGIN:DAYLIGHT
TZOFFSETFROM:+0000
TZOFFSETTO:+0100
TZNAME:BST
DTSTART:20270328T010000
END:DAYLIGHT
BEGIN:STANDARD
TZOFFSETFROM:+0100
TZOFFSETTO:+0000
TZNAME:GMT
DTSTART:20271031T010000
END:STANDARD
END:VTIMEZONE
BEGIN:VEVENT
DTSTART;TZID=Europe/London:20260418T080000
DTEND;TZID=Europe/London:20260418T170000
DTSTAMP:20260419T140645
CREATED:20251113T105827Z
LAST-MODIFIED:20251113T105916Z
UID:464510-1776499200-1776531600@www.britishjudo.org.uk
SUMMARY:L3 - Glasgow Student Teams Championships
DESCRIPTION:Venue: Stevenson Building\, University of Glasgow\, 77 Oakfield Avenue\, Glasgow G12 8LT \nCategories: \nMixed teams of Any grade: \nFemale: u63kgs\, o63kgs\nMale: u73kgs\, u81kgs\, u90kgs\, o90kgs \nWeigh In: \nWeigh in times will be emailed following the closing date. Provisional times are as follows: \nTime: TBC Friday 17th April\, The old School House\, Woodlands Road \nTime TBC: Saturday 18th April\, The Stevenson Building \n**CLOSING DATE: FRIDAY 27TH MARCH 2026 AT 5PM** (or when entry reaches its limit) \n>>EVENT OUTLINE<<
URL:https://www.britishjudo.org.uk/event/l3-glasgow-student-teams-championships/
LOCATION:University of Glasgow\, 77 Oakfield Avenue\,\, Glasgow\, G12 8LT
CATEGORIES:Competition,Juniors (14-19),Seniors (14+)
ORGANIZER;CN="Glasgow University Judo Club":MAILTO:mailto:glasgowjudoteams@gmail.com
GEO:55.8728685;-4.2853515
X-APPLE-STRUCTURED-LOCATION;VALUE=URI;X-ADDRESS=University of Glasgow 77 Oakfield Avenue Glasgow G12 8LT;X-APPLE-RADIUS=500;X-TITLE=77 Oakfield Avenue\,:geo:-4.2853515,55.8728685
END:VEVENT
END:VCALENDAR