BEGIN:VCALENDAR
VERSION:2.0
PRODID:-//British Judo Association - ECPv6.15.18//NONSGML v1.0//EN
CALSCALE:GREGORIAN
METHOD:PUBLISH
X-ORIGINAL-URL:https://www.britishjudo.org.uk
X-WR-CALDESC:Events for British Judo Association
REFRESH-INTERVAL;VALUE=DURATION:PT1H
X-Robots-Tag:noindex
X-PUBLISHED-TTL:PT1H
BEGIN:VTIMEZONE
TZID:Europe/London
BEGIN:DAYLIGHT
TZOFFSETFROM:+0000
TZOFFSETTO:+0100
TZNAME:BST
DTSTART:20240331T010000
END:DAYLIGHT
BEGIN:STANDARD
TZOFFSETFROM:+0100
TZOFFSETTO:+0000
TZNAME:GMT
DTSTART:20241027T010000
END:STANDARD
BEGIN:DAYLIGHT
TZOFFSETFROM:+0000
TZOFFSETTO:+0100
TZNAME:BST
DTSTART:20250330T010000
END:DAYLIGHT
BEGIN:STANDARD
TZOFFSETFROM:+0100
TZOFFSETTO:+0000
TZNAME:GMT
DTSTART:20251026T010000
END:STANDARD
BEGIN:DAYLIGHT
TZOFFSETFROM:+0000
TZOFFSETTO:+0100
TZNAME:BST
DTSTART:20260329T010000
END:DAYLIGHT
BEGIN:STANDARD
TZOFFSETFROM:+0100
TZOFFSETTO:+0000
TZNAME:GMT
DTSTART:20261025T010000
END:STANDARD
END:VTIMEZONE
BEGIN:VEVENT
DTSTART;TZID=Europe/London:20251019T090000
DTEND;TZID=Europe/London:20251019T170000
DTSTAMP:20260424T131000
CREATED:20250603T102209Z
LAST-MODIFIED:20250603T102722Z
UID:461520-1760864400-1760893200@www.britishjudo.org.uk
SUMMARY:L1 - Devizes Budo Club 5th Mini Mon
DESCRIPTION:Venue: Silverwood School\, Rowde\, Devizes\, Wiltshire\, SN10 2QQ \nCategories: \nAll players must be under 16 years old on the day (minimum age 8) \nGROUP A                  Boys Red Belts \nGROUP B                  Girls Red Belts \nGROUP C                  Boys Yellow & Orange Belts \nGROUP D                  Girls Yellow & Orange Belts \nWeigh-In Times: \nRed Belts: 09:00am – 09:30am \nYellow and Orange Belts: 11:00am – 11:30am \n>>EVENT OUTLINES<<\n**CLOSING DATE: MONDAY 13TH OCTOBER 2025** (or when entry reaches its limit)
URL:https://www.britishjudo.org.uk/event/l1-devizes-budo-club-5th-mini-mon/
LOCATION:Silverwood School\, Rowde\, Devizes\, Wiltshire\, SN10 2QQ
CATEGORIES:Cadets (14-16),Competition,Minors (8-11),Pre Cadet (12-13)
ORGANIZER;CN="Devizes Budo Club":MAILTO:devizesbudo@gmail.com
GEO:51.3691155;-2.0342832
X-APPLE-STRUCTURED-LOCATION;VALUE=URI;X-ADDRESS=Silverwood School Rowde Devizes Wiltshire SN10 2QQ;X-APPLE-RADIUS=500;X-TITLE=Rowde\, Devizes\, Wiltshire:geo:-2.0342832,51.3691155
END:VEVENT
BEGIN:VEVENT
DTSTART;TZID=Europe/London:20250525T080000
DTEND;TZID=Europe/London:20250525T170000
DTSTAMP:20260424T131000
CREATED:20241121T115639Z
LAST-MODIFIED:20241121T133542Z
UID:457914-1748160000-1748192400@www.britishjudo.org.uk
SUMMARY:L1 - Devizes Budo Club 4th Mini Mon
DESCRIPTION:  \nVenue: Silverwood School\, Rowde\, Devizes\, Wiltshire\, SN10 2QQ \nWeigh–in times will be 9am to 9.30am for Red Belts & 10.30am to 11am for yellow & Orange Belts. There are no weight categories. All players will be sorted into Groups by weight\, age and grade. All groups will be single pools with all players receiving a medal \n**CLOSING DATE: MONDAY 19TH MAY 2025**
URL:https://www.britishjudo.org.uk/event/l1-devizes-budo-club-4th-mini-mon/
LOCATION:Silverwood School\, Rowde\, Devizes\, Wiltshire\, SN10 2QQ
ORGANIZER;CN="Devizes Budo Club":MAILTO:devizesbudo@gmail.com
GEO:51.3691155;-2.0342832
X-APPLE-STRUCTURED-LOCATION;VALUE=URI;X-ADDRESS=Silverwood School Rowde Devizes Wiltshire SN10 2QQ;X-APPLE-RADIUS=500;X-TITLE=Rowde\, Devizes\, Wiltshire:geo:-2.0342832,51.3691155
END:VEVENT
END:VCALENDAR