BEGIN:VCALENDAR
VERSION:2.0
PRODID:-//British Judo Association - ECPv6.15.18//NONSGML v1.0//EN
CALSCALE:GREGORIAN
METHOD:PUBLISH
X-WR-CALNAME:British Judo Association
X-ORIGINAL-URL:https://www.britishjudo.org.uk
X-WR-CALDESC:Events for British Judo Association
REFRESH-INTERVAL;VALUE=DURATION:PT1H
X-Robots-Tag:noindex
X-PUBLISHED-TTL:PT1H
BEGIN:VTIMEZONE
TZID:Europe/London
BEGIN:DAYLIGHT
TZOFFSETFROM:+0000
TZOFFSETTO:+0100
TZNAME:BST
DTSTART:20250330T010000
END:DAYLIGHT
BEGIN:STANDARD
TZOFFSETFROM:+0100
TZOFFSETTO:+0000
TZNAME:GMT
DTSTART:20251026T010000
END:STANDARD
BEGIN:DAYLIGHT
TZOFFSETFROM:+0000
TZOFFSETTO:+0100
TZNAME:BST
DTSTART:20260329T010000
END:DAYLIGHT
BEGIN:STANDARD
TZOFFSETFROM:+0100
TZOFFSETTO:+0000
TZNAME:GMT
DTSTART:20261025T010000
END:STANDARD
BEGIN:DAYLIGHT
TZOFFSETFROM:+0000
TZOFFSETTO:+0100
TZNAME:BST
DTSTART:20270328T010000
END:DAYLIGHT
BEGIN:STANDARD
TZOFFSETFROM:+0100
TZOFFSETTO:+0000
TZNAME:GMT
DTSTART:20271031T010000
END:STANDARD
END:VTIMEZONE
BEGIN:VEVENT
DTSTART;TZID=Europe/London:20260425T130000
DTEND;TZID=Europe/London:20260425T170000
DTSTAMP:20260425T215818
CREATED:20260219T115734Z
LAST-MODIFIED:20260422T065632Z
UID:466394-1777122000-1777136400@www.britishjudo.org.uk
SUMMARY:Club\, Area and National C - Referee Module - 25 Apr 26 - York - FULLY BOOKED
DESCRIPTION:THIS COURSE IS NOW FULLY BOOKED THANK YOU FOR YOUR INTEREST\nThe Y&H area are proud to be running a Club\, Area and National C course on 25th April 2026 at the York RI judo club \, please see below the minimum requirements. \nLead tutors : Dave Francis SN-A and Dave Dunsford National A \nPlease bring a white Judogi\, paper and pen\, plus lunch if required. It will be a fun and interactive course whether you are interested in becoming a referee or just want to have a better understanding of the rules. All candidates will take the exam at the end of the session. \nWe have two events for successful candidates who pass the theory exam and wish to become a referee to practice or take the exam on May 3rd and May 30th \nDate / Time: 25th April 2026 – 13:00-17:00 \nBookings close: 23rd April 2026. \nPlease see below the minimum requirements. \nClub Referee: \n\n12 years of age\n10th Mon / 3rd Kyu\nA minimum of 1-year judo experience\nMust hold current BJA / Judo Scotland / NIJF / WJA membership\n\nArea Referee: \n\n15 years of age\n13th Mon / 2nd Kyu\nHave been a Club referee for at least 1 year\, unless entering directly at Area level\nMust hold current BJA / Judo Scotland / NIJF / WJA membership\n\n National C Referee: \n\n18 years of age (unless they started at Club level\, it is then 16)\n18th Mon / 1st Kyu (if going directly to National C\, must have satisfied Fast Track criteria)\nHave been an Area referee for 1 year\, unless entering directly at National C level\nMust hold current full BJA / Judo Scotland / NIJF / WJA membership\n\nIf you have any questions\, please feel free to email Davedunsford63@gmail.com or call 07760 161 030 \nTHIS IS A BRITISH JUDO ASSOCIATION LICENCED REFEREE MODULE \nTHIS COURSE IS NOW FULLY BOOKED THANK YOU FOR YOUR INTEREST\nFor further information on how we handle your data\, please read our Privacy Notice: https://www.britishjudo.org.uk/privacy-policy/
URL:https://www.britishjudo.org.uk/event/club-area-and-national-c-referee-module-25-apr-26-york/
LOCATION:York Railway Institute Judo Club\, York Gymnasium 22 Queen Street\, York\, Yorkshire\, YO24 1AD\, England
CATEGORIES:Officials,Referees
ORGANIZER;CN="Dave Dunsford":MAILTO:Davedunsford63@gmail.com
GEO:53.9561252;-1.0926028
X-APPLE-STRUCTURED-LOCATION;VALUE=URI;X-ADDRESS=York Railway Institute Judo Club York Gymnasium 22 Queen Street York Yorkshire YO24 1AD England;X-APPLE-RADIUS=500;X-TITLE=York Gymnasium 22 Queen Street:geo:-1.0926028,53.9561252
END:VEVENT
END:VCALENDAR