BEGIN:VCALENDAR
VERSION:2.0
PRODID:-//British Judo Association - ECPv6.15.18//NONSGML v1.0//EN
CALSCALE:GREGORIAN
METHOD:PUBLISH
X-ORIGINAL-URL:https://www.britishjudo.org.uk
X-WR-CALDESC:Events for British Judo Association
REFRESH-INTERVAL;VALUE=DURATION:PT1H
X-Robots-Tag:noindex
X-PUBLISHED-TTL:PT1H
BEGIN:VTIMEZONE
TZID:Europe/London
BEGIN:DAYLIGHT
TZOFFSETFROM:+0000
TZOFFSETTO:+0100
TZNAME:BST
DTSTART:20240331T010000
END:DAYLIGHT
BEGIN:STANDARD
TZOFFSETFROM:+0100
TZOFFSETTO:+0000
TZNAME:GMT
DTSTART:20241027T010000
END:STANDARD
BEGIN:DAYLIGHT
TZOFFSETFROM:+0000
TZOFFSETTO:+0100
TZNAME:BST
DTSTART:20250330T010000
END:DAYLIGHT
BEGIN:STANDARD
TZOFFSETFROM:+0100
TZOFFSETTO:+0000
TZNAME:GMT
DTSTART:20251026T010000
END:STANDARD
BEGIN:DAYLIGHT
TZOFFSETFROM:+0000
TZOFFSETTO:+0100
TZNAME:BST
DTSTART:20260329T010000
END:DAYLIGHT
BEGIN:STANDARD
TZOFFSETFROM:+0100
TZOFFSETTO:+0000
TZNAME:GMT
DTSTART:20261025T010000
END:STANDARD
END:VTIMEZONE
BEGIN:VEVENT
DTSTART;TZID=Europe/London:20250211T183000
DTEND;TZID=Europe/London:20250211T193000
DTSTAMP:20260424T014837
CREATED:20250129T121724Z
LAST-MODIFIED:20250129T121724Z
UID:459288-1739298600-1739302200@www.britishjudo.org.uk
SUMMARY:Internet Safety Day Free Online Session with West Mercia Police
DESCRIPTION:Join us on Tuesday\, 11th February 2025\, from 6:30 PM to 7:30 PM for an exclusive online session hosted by West Mercia Police.\nThis event is designed for those working with young people in sports and will cover critical topics such as:\n\n\n\nBest practices for sharing information online\nOfficial guidance from sporting\nThe rise of AI and its impact\nPractical tips and resources for support\n\nSpread the word and help us build a safer online space for everyone. \nTo join the meeting\, click this link: https://teams.microsoft.com/l/meetup-join/19%3ameeting_YzVlMzRlMDAtM2ZkMS00ZWIzLTlmMzYtMzA0N2I1MzcxNzgz%40thread.v2/0?context=%7b%22Tid%22%3a%22dd7d99f4-65c4-4822-bf7b-75d61ebc8f4a%22%2c%22Oid%22%3a%22fd780a27-1ec4-4fe5-991e-da75572501b2%22%7d
URL:https://www.britishjudo.org.uk/event/internet-safety-day-free-online-session-with-west-mercia-police/
ORGANIZER;CN="British Judo Safeguarding":MAILTO:safeguarding@britishjudo.org.uk
LOCATION:https://teams.microsoft.com/l/meetup-join/19%3ameeting_YzVlMzRlMDAtM2ZkMS00ZWIzLTlmMzYtMzA0N2I1MzcxNzgz%40thread.v2/0?context=%7b%22Tid%22%3a%22dd7d99f4-65c4-4822-bf7b-75d61ebc8f4a%22%2c%22Oid%22%3a%22fd780a27-1ec4-4fe5-991e-da75572501b2%22%7d
END:VEVENT
END:VCALENDAR