BEGIN:VCALENDAR
VERSION:2.0
PRODID:-//British Judo Association - ECPv6.15.18//NONSGML v1.0//EN
CALSCALE:GREGORIAN
METHOD:PUBLISH
X-WR-CALNAME:British Judo Association
X-ORIGINAL-URL:https://www.britishjudo.org.uk
X-WR-CALDESC:Events for British Judo Association
REFRESH-INTERVAL;VALUE=DURATION:PT1H
X-Robots-Tag:noindex
X-PUBLISHED-TTL:PT1H
BEGIN:VTIMEZONE
TZID:Europe/London
BEGIN:DAYLIGHT
TZOFFSETFROM:+0000
TZOFFSETTO:+0100
TZNAME:BST
DTSTART:20250330T010000
END:DAYLIGHT
BEGIN:STANDARD
TZOFFSETFROM:+0100
TZOFFSETTO:+0000
TZNAME:GMT
DTSTART:20251026T010000
END:STANDARD
BEGIN:DAYLIGHT
TZOFFSETFROM:+0000
TZOFFSETTO:+0100
TZNAME:BST
DTSTART:20260329T010000
END:DAYLIGHT
BEGIN:STANDARD
TZOFFSETFROM:+0100
TZOFFSETTO:+0000
TZNAME:GMT
DTSTART:20261025T010000
END:STANDARD
BEGIN:DAYLIGHT
TZOFFSETFROM:+0000
TZOFFSETTO:+0100
TZNAME:BST
DTSTART:20270328T010000
END:DAYLIGHT
BEGIN:STANDARD
TZOFFSETFROM:+0100
TZOFFSETTO:+0000
TZNAME:GMT
DTSTART:20271031T010000
END:STANDARD
END:VTIMEZONE
BEGIN:VEVENT
DTSTART;TZID=Europe/London:20260311T180000
DTEND;TZID=Europe/London:20260311T193000
DTSTAMP:20260421T101800
CREATED:20251215T151521Z
LAST-MODIFIED:20251216T092337Z
UID:465104-1773252000-1773257400@www.britishjudo.org.uk
SUMMARY:Marketing Foundations: Funnels and Automation Made Simple - 11 Mar 26 - Webinar
DESCRIPTION:Overview: \nEffective marketing starts with strong foundations. This webinar\, delivered in collaboration with NEST Management\, will guide you through the essentials of building a marketing strategy that works for your club.\nWe’ll cover how to create simple funnels to attract and convert leads\, and introduce automation tools that save time while improving member engagement. \nYou’ll learn how to: \nBuild a clear marketing funnel for your club\nUse automation to streamline communication and follow-ups\nApply practical techniques to attract and retain members \nWhy attend? \nGain confidence in marketing your club effectively\nLearn time-saving tools and strategies\nGet expert advice from NEST Management\n \n\n  \n  \n  \n  \n  \n\nFor further information on how we handle your data\, please read our Privacy Notice: https://www.britishjudo.org.uk/privacy-policy/ \n  \n  \n 
URL:https://www.britishjudo.org.uk/event/marketing-foundations-funnels-and-automation-made-simple-11-mar-26-webinar/
LOCATION:MS Teams
ORGANIZER;CN="Club Support Team":MAILTO:clubsupport@britishjudo.org.uk
END:VEVENT
END:VCALENDAR