BEGIN:VCALENDAR
VERSION:2.0
PRODID:-//British Judo Association - ECPv6.15.18//NONSGML v1.0//EN
CALSCALE:GREGORIAN
METHOD:PUBLISH
X-ORIGINAL-URL:https://www.britishjudo.org.uk
X-WR-CALDESC:Events for British Judo Association
REFRESH-INTERVAL;VALUE=DURATION:PT1H
X-Robots-Tag:noindex
X-PUBLISHED-TTL:PT1H
BEGIN:VTIMEZONE
TZID:Europe/London
BEGIN:DAYLIGHT
TZOFFSETFROM:+0000
TZOFFSETTO:+0100
TZNAME:BST
DTSTART:20250330T010000
END:DAYLIGHT
BEGIN:STANDARD
TZOFFSETFROM:+0100
TZOFFSETTO:+0000
TZNAME:GMT
DTSTART:20251026T010000
END:STANDARD
BEGIN:DAYLIGHT
TZOFFSETFROM:+0000
TZOFFSETTO:+0100
TZNAME:BST
DTSTART:20260329T010000
END:DAYLIGHT
BEGIN:STANDARD
TZOFFSETFROM:+0100
TZOFFSETTO:+0000
TZNAME:GMT
DTSTART:20261025T010000
END:STANDARD
BEGIN:DAYLIGHT
TZOFFSETFROM:+0000
TZOFFSETTO:+0100
TZNAME:BST
DTSTART:20270328T010000
END:DAYLIGHT
BEGIN:STANDARD
TZOFFSETFROM:+0100
TZOFFSETTO:+0000
TZNAME:GMT
DTSTART:20271031T010000
END:STANDARD
END:VTIMEZONE
BEGIN:VEVENT
DTSTART;TZID=Europe/London:20260211T180000
DTEND;TZID=Europe/London:20260211T193000
DTSTAMP:20260421T120350
CREATED:20251215T150903Z
LAST-MODIFIED:20260108T095257Z
UID:465095-1770832800-1770838200@www.britishjudo.org.uk
SUMMARY:Events as Growth: Maximising Major Sporting Opportunities and Introducing ‘Meet The Elite’ - 11 Feb 26 - Webinar
DESCRIPTION:Overview: \nEvents are one of the most effective ways to grow your club\, engage members\, and connect with your local community. This webinar will show you how to plan and deliver events that make an impact – from local activities to major sporting occasions – and how to use them to raise your club’s profile and attract new members.\nDelivered in collaboration with Sport England Buddle and the British Judo Events Team\, this session will also introduce an exciting new initiative: Meet The Elite. This programme gives clubs\, schools\, businesses\, and organisations the opportunity to book GB athletes for masterclasses\, appearances\, and inspirational talks\, bringing the elite experience directly to your events. The British Judo Club Support Team will showcase how this initiative works and how you can get involved. \nYou’ll learn how to: \nUse events strategically to drive growth and engagement\nCreate memorable experiences that strengthen member loyalty\nMaximise opportunities around major sporting events\nAccess the new Meet The Elite programme to inspire your community\n\nWhy attend?\nGain practical tips for planning and promoting successful events\nLearn how to connect your club with major sporting moments\nDiscover how to bring GB athletes to your events for a unique experience \nThis webinar is ideal for club administrators\, coaches\, and anyone involved in event planning or member engagement. \n\n  \n  \n  \n  \n  \n\nFor further information on how we handle your data\, please read our Privacy Notice: https://www.britishjudo.org.uk/privacy-policy/ \n 
URL:https://www.britishjudo.org.uk/event/events-as-growth-maximising-major-sporting-opportunities-and-introducing-meet-the-elite-11-feb-26-webinar/
LOCATION:MS Teams
ORGANIZER;CN="Club Support Team":MAILTO:clubsupport@britishjudo.org.uk
END:VEVENT
END:VCALENDAR