BEGIN:VCALENDAR
VERSION:2.0
PRODID:-//British Judo Association - ECPv6.15.18//NONSGML v1.0//EN
CALSCALE:GREGORIAN
METHOD:PUBLISH
X-WR-CALNAME:British Judo Association
X-ORIGINAL-URL:https://www.britishjudo.org.uk
X-WR-CALDESC:Events for British Judo Association
REFRESH-INTERVAL;VALUE=DURATION:PT1H
X-Robots-Tag:noindex
X-PUBLISHED-TTL:PT1H
BEGIN:VTIMEZONE
TZID:Europe/London
BEGIN:DAYLIGHT
TZOFFSETFROM:+0000
TZOFFSETTO:+0100
TZNAME:BST
DTSTART:20230326T010000
END:DAYLIGHT
BEGIN:STANDARD
TZOFFSETFROM:+0100
TZOFFSETTO:+0000
TZNAME:GMT
DTSTART:20231029T010000
END:STANDARD
BEGIN:DAYLIGHT
TZOFFSETFROM:+0000
TZOFFSETTO:+0100
TZNAME:BST
DTSTART:20240331T010000
END:DAYLIGHT
BEGIN:STANDARD
TZOFFSETFROM:+0100
TZOFFSETTO:+0000
TZNAME:GMT
DTSTART:20241027T010000
END:STANDARD
BEGIN:DAYLIGHT
TZOFFSETFROM:+0000
TZOFFSETTO:+0100
TZNAME:BST
DTSTART:20250330T010000
END:DAYLIGHT
BEGIN:STANDARD
TZOFFSETFROM:+0100
TZOFFSETTO:+0000
TZNAME:GMT
DTSTART:20251026T010000
END:STANDARD
END:VTIMEZONE
BEGIN:VEVENT
DTSTART;TZID=Europe/London:20241124T093000
DTEND;TZID=Europe/London:20241124T123000
DTSTAMP:20260421T153646
CREATED:20241023T125832Z
LAST-MODIFIED:20241122T084108Z
UID:456335-1732440600-1732451400@www.britishjudo.org.uk
SUMMARY:Safeguarding - Dartford Judo Club - 24 Nov 24 - FULLY BOOKED
DESCRIPTION:THIS COURSE IS NOW FULLY BOOKED\nSafeguarding\nCourse fee: £40.00 per course \nDate: 24th November 2024 \nVenue: Dartford Judo Club Cotton Lane\, Stone\, Dartford DA2 6PD \nSafeguarding Course Overview \nThis workshop will raise your awareness of the tell-tale signs of abuse\, and give you the tools and confidence you need to deal with any issues sensitively\, appropriately and effectively should the need ever arise in your coaching career. \nThis interactive workshop will help coaches recognise poor practice and the red flags of abuse\, while also prompting a review of your coaching practice to ensure that you provide a positive and enriching experience for all children. \nNearly half a million coaches have been through the Safeguarding and Protecting Children workshop in the last 20 years or so. \nThe workshop\, updated in May 2019\, has been developed in partnership with the NSPCC and CPSU and includes new scenarios giving you the opportunity to learn through discussion\, exploring the consequences of those decisions in a safe and supportive environment\, helping to increase your confidence. \nThe course has been awarded 3 CPD points by the Chartered Institute for the Management of Sport and Physical Activity (CIMSPA). \nTimes: 09:30 – 12:30 \n\n 
URL:https://www.britishjudo.org.uk/event/safeguarding-dartford-judo-club-24-nov-24/
LOCATION:Dartford Judo Club\, Cotton Lane\, Stone\, Kent\, DA2 6PD\, England
ORGANIZER;CN="Nick Shepherd":MAILTO:nick.shepherd@britishjudo.org.uk
GEO:51.4471055;0.2460365
X-APPLE-STRUCTURED-LOCATION;VALUE=URI;X-ADDRESS=Dartford Judo Club Cotton Lane Stone Kent DA2 6PD England;X-APPLE-RADIUS=500;X-TITLE=Cotton Lane:geo:0.2460365,51.4471055
END:VEVENT
END:VCALENDAR