BEGIN:VCALENDAR
VERSION:2.0
PRODID:-//British Judo Association - ECPv6.15.18//NONSGML v1.0//EN
CALSCALE:GREGORIAN
METHOD:PUBLISH
X-WR-CALNAME:British Judo Association
X-ORIGINAL-URL:https://www.britishjudo.org.uk
X-WR-CALDESC:Events for British Judo Association
REFRESH-INTERVAL;VALUE=DURATION:PT1H
X-Robots-Tag:noindex
X-PUBLISHED-TTL:PT1H
BEGIN:VTIMEZONE
TZID:Europe/London
BEGIN:DAYLIGHT
TZOFFSETFROM:+0000
TZOFFSETTO:+0100
TZNAME:BST
DTSTART:20240331T010000
END:DAYLIGHT
BEGIN:STANDARD
TZOFFSETFROM:+0100
TZOFFSETTO:+0000
TZNAME:GMT
DTSTART:20241027T010000
END:STANDARD
BEGIN:DAYLIGHT
TZOFFSETFROM:+0000
TZOFFSETTO:+0100
TZNAME:BST
DTSTART:20250330T010000
END:DAYLIGHT
BEGIN:STANDARD
TZOFFSETFROM:+0100
TZOFFSETTO:+0000
TZNAME:GMT
DTSTART:20251026T010000
END:STANDARD
BEGIN:DAYLIGHT
TZOFFSETFROM:+0000
TZOFFSETTO:+0100
TZNAME:BST
DTSTART:20260329T010000
END:DAYLIGHT
BEGIN:STANDARD
TZOFFSETFROM:+0100
TZOFFSETTO:+0000
TZNAME:GMT
DTSTART:20261025T010000
END:STANDARD
END:VTIMEZONE
BEGIN:VEVENT
DTSTART;TZID=Europe/London:20250211T070000
DTEND;TZID=Europe/London:20250211T210000
DTSTAMP:20260423T175902
CREATED:20250124T135044Z
LAST-MODIFIED:20250124T135059Z
UID:459151-1739257200-1739307600@www.britishjudo.org.uk
SUMMARY:Contest Rules Update Seminar
DESCRIPTION:Referees of all levels are invited to attend a virtual rule update seminar at 7:00pm on Tuesday 11th February led by British Judo’s Refereeing Commission.\nCoaches with other BJA members also welcome to attend. \nIt comes following the announcement that following approval by the BJA\, the International Judo Federation’s 2025 contest rules will be adopted\, with limited adaptations for younger judoka\, at all British events effective from 22nd February 2025\, beginning with the English Open. \nThe new rules have been introduced following a review of the 2022-24 Olympic cycle to increase the opportunities to score and win\, to provide greater technical freedom to judoka and to reduce the number of technical penalties and disqualifications awarded. \nWe are adopting the new ruleset at pace in the expectation that this will maximise the opportunity for judoka and officials to learn and benefit from the new rules. However\, this will be a learning experience for everyone – coaches\, athletes and referees – and we would ask that everyone acknowledge and show understanding that some mistakes will be a natural part of adapting to the new ruleset. We would like to remind the judo community of our morale code whilst all parties adapt to the new rules. \nFull details of the 2025 rules and the BJA application of them are available in our updated rulebooks on our Contest Rules section\, with all existing BJA amendments (eg. technical restrictions) will continue to apply alongside these changes.
URL:https://www.britishjudo.org.uk/event/contest-rules-update-seminar/
LOCATION:Zoom Online Session
ATTACH;FMTTYPE=image/jpeg:https://www.britishjudo.org.uk/wp-content/uploads/2025/01/Juniors-19.jpg
ORGANIZER;CN="British Judo Association":MAILTO:bja@britishjudo.org.uk
END:VEVENT
END:VCALENDAR