BEGIN:VCALENDAR
VERSION:2.0
PRODID:-//British Judo Association - ECPv6.15.18//NONSGML v1.0//EN
CALSCALE:GREGORIAN
METHOD:PUBLISH
X-WR-CALNAME:British Judo Association
X-ORIGINAL-URL:https://www.britishjudo.org.uk
X-WR-CALDESC:Events for British Judo Association
REFRESH-INTERVAL;VALUE=DURATION:PT1H
X-Robots-Tag:noindex
X-PUBLISHED-TTL:PT1H
BEGIN:VTIMEZONE
TZID:Europe/London
BEGIN:DAYLIGHT
TZOFFSETFROM:+0000
TZOFFSETTO:+0100
TZNAME:BST
DTSTART:20230326T010000
END:DAYLIGHT
BEGIN:STANDARD
TZOFFSETFROM:+0100
TZOFFSETTO:+0000
TZNAME:GMT
DTSTART:20231029T010000
END:STANDARD
BEGIN:DAYLIGHT
TZOFFSETFROM:+0000
TZOFFSETTO:+0100
TZNAME:BST
DTSTART:20240331T010000
END:DAYLIGHT
BEGIN:STANDARD
TZOFFSETFROM:+0100
TZOFFSETTO:+0000
TZNAME:GMT
DTSTART:20241027T010000
END:STANDARD
BEGIN:DAYLIGHT
TZOFFSETFROM:+0000
TZOFFSETTO:+0100
TZNAME:BST
DTSTART:20250330T010000
END:DAYLIGHT
BEGIN:STANDARD
TZOFFSETFROM:+0100
TZOFFSETTO:+0000
TZNAME:GMT
DTSTART:20251026T010000
END:STANDARD
END:VTIMEZONE
BEGIN:VEVENT
DTSTART;TZID=Europe/London:20241201T093000
DTEND;TZID=Europe/London:20241201T170000
DTSTAMP:20260423T210325
CREATED:20241106T105455Z
LAST-MODIFIED:20241106T105600Z
UID:457500-1733045400-1733072400@www.britishjudo.org.uk
SUMMARY:BJA Club and Area Refereeing Course - 1st Dec 2024 - Coventry
DESCRIPTION:This module is suitable for members who are at least 12 years old and green belt for Club award and 15 years and blue belt for Area award. \nReferee education modules are suitable for those candidates who wish to gain the theoretical knowledge to become a licenced event referee at the level they wish to be refereeing at. The module is also suitable for participants who have no intent to become a referee but do wish to improve their knowledge of the application of the rules. The module examines the structure\, referee pathway and the accurate application of the rules to the level being taught. \nThe module is a coach revalidation module for all levels of coach who fully qualify at least one referee level above their current level including the practical examination. \nThis is also a referee revalidation event for those referees who were already at Club or Area level but were not revalidated on 1st January 2024. \nDate/Time: 1st December 2024 from 09:30-17:00 \nBookings Close: 24th November 2024 \nVenue: FAB0.23 – Faculty of Arts Building. 6 University Road\, Coventry\, CV4 7EQ \nOrganiser: Carol Leverton – 07733 334726 – cazjudo5@gmail.com \nBook using the form below:
URL:https://www.britishjudo.org.uk/event/bja-club-and-area-refereeing-course-1st-dec-2024-coventry/
LOCATION:FAB0.23 – Faculty of Arts Building. 6 University Road\, Coventry\, CV4 7EQ\, 6 University Road\, Coventry\, CV4 7EQ\, United Kingdom
END:VEVENT
END:VCALENDAR