BEGIN:VCALENDAR
VERSION:2.0
PRODID:-//British Judo Association - ECPv6.15.18//NONSGML v1.0//EN
CALSCALE:GREGORIAN
METHOD:PUBLISH
X-ORIGINAL-URL:https://www.britishjudo.org.uk
X-WR-CALDESC:Events for British Judo Association
REFRESH-INTERVAL;VALUE=DURATION:PT1H
X-Robots-Tag:noindex
X-PUBLISHED-TTL:PT1H
BEGIN:VTIMEZONE
TZID:Europe/London
BEGIN:DAYLIGHT
TZOFFSETFROM:+0000
TZOFFSETTO:+0100
TZNAME:BST
DTSTART:20240331T010000
END:DAYLIGHT
BEGIN:STANDARD
TZOFFSETFROM:+0100
TZOFFSETTO:+0000
TZNAME:GMT
DTSTART:20241027T010000
END:STANDARD
BEGIN:DAYLIGHT
TZOFFSETFROM:+0000
TZOFFSETTO:+0100
TZNAME:BST
DTSTART:20250330T010000
END:DAYLIGHT
BEGIN:STANDARD
TZOFFSETFROM:+0100
TZOFFSETTO:+0000
TZNAME:GMT
DTSTART:20251026T010000
END:STANDARD
BEGIN:DAYLIGHT
TZOFFSETFROM:+0000
TZOFFSETTO:+0100
TZNAME:BST
DTSTART:20260329T010000
END:DAYLIGHT
BEGIN:STANDARD
TZOFFSETFROM:+0100
TZOFFSETTO:+0000
TZNAME:GMT
DTSTART:20261025T010000
END:STANDARD
END:VTIMEZONE
BEGIN:VEVENT
DTSTART;VALUE=DATE:20251129
DTEND;VALUE=DATE:20251130
DTSTAMP:20260422T022723
CREATED:20250303T101549Z
LAST-MODIFIED:20250303T101632Z
UID:459987-1764374400-1764460799@www.britishjudo.org.uk
SUMMARY:2025 National Ladies Dan Grading - 29th Nov 25 - Bishops Stortford
DESCRIPTION:2025 NATIONAL LADIES DAN GRADING \n  \nVENUE:    Bishops Stortford Judokwai\, The Herts & Essex Sports Centre\, Beldams Lane\, Bishops Stortford\, CM23 5LH \nDATE:       Saturday 29th November 2025 \nCOST:        £25 prior entries – online entry or £30 with Theory \nPLEASE NOTE THAT ONLINE ENTRY WILL CLOSE 1 WEEK PRIOR TO THE GRADING \nENTRY AFTER THIS DATE WILL STILL BE POSSIBLE BUT MUST BE PAID IN CASH ON THE DAY \n£30 on the day (CASH ONLY) \nGrading + Theory:  Additional £5.00 \nTHEORY EXAMS TO BE CARRIED OUT WHEN MAT AVAILABLE \nBOOK-IN:   10.00 to 10.30 \nWEIGH-IN: All candidates will be weighed \nIf there are enough veterans on the day\, they will be graded as a separate group \nPLEASE NOTE:  WHITE SUITS ONLY MUST BE WORN \nContest duration will be four minutes. \nFor further information\, please contact Kim Tilley:  07710 846864 \nNO CALLS AFTER 9PM \n\n\n 
URL:https://www.britishjudo.org.uk/event/2025-national-ladies-dan-grading-29th-nov-25-bishops-stortford/
LOCATION:Bishops Stortford Judokwai\, The Herts and Essex Sports Centre\, Beldans Lane\,\, Bishop's Stortford\, Hertfordshire\, CM23 5LH
ORGANIZER;CN="Kim Tilley":MAILTO:kimothy2812@gmail.com
GEO:51.8632138;0.1781818
X-APPLE-STRUCTURED-LOCATION;VALUE=URI;X-ADDRESS=Bishops Stortford Judokwai The Herts and Essex Sports Centre Beldans Lane Bishop's Stortford Hertfordshire CM23 5LH;X-APPLE-RADIUS=500;X-TITLE=The Herts and Essex Sports Centre\, Beldans Lane\,:geo:0.1781818,51.8632138
END:VEVENT
END:VCALENDAR