BEGIN:VCALENDAR
VERSION:2.0
PRODID:-//British Judo Association - ECPv6.15.18//NONSGML v1.0//EN
CALSCALE:GREGORIAN
METHOD:PUBLISH
X-ORIGINAL-URL:https://www.britishjudo.org.uk
X-WR-CALDESC:Events for British Judo Association
REFRESH-INTERVAL;VALUE=DURATION:PT1H
X-Robots-Tag:noindex
X-PUBLISHED-TTL:PT1H
BEGIN:VTIMEZONE
TZID:Europe/London
BEGIN:DAYLIGHT
TZOFFSETFROM:+0000
TZOFFSETTO:+0100
TZNAME:BST
DTSTART:20240331T010000
END:DAYLIGHT
BEGIN:STANDARD
TZOFFSETFROM:+0100
TZOFFSETTO:+0000
TZNAME:GMT
DTSTART:20241027T010000
END:STANDARD
BEGIN:DAYLIGHT
TZOFFSETFROM:+0000
TZOFFSETTO:+0100
TZNAME:BST
DTSTART:20250330T010000
END:DAYLIGHT
BEGIN:STANDARD
TZOFFSETFROM:+0100
TZOFFSETTO:+0000
TZNAME:GMT
DTSTART:20251026T010000
END:STANDARD
BEGIN:DAYLIGHT
TZOFFSETFROM:+0000
TZOFFSETTO:+0100
TZNAME:BST
DTSTART:20260329T010000
END:DAYLIGHT
BEGIN:STANDARD
TZOFFSETFROM:+0100
TZOFFSETTO:+0000
TZNAME:GMT
DTSTART:20261025T010000
END:STANDARD
END:VTIMEZONE
BEGIN:VEVENT
DTSTART;TZID=Europe/London:20250208T093000
DTEND;TZID=Europe/London:20250208T160000
DTSTAMP:20260424T074507
CREATED:20241114T085314Z
LAST-MODIFIED:20241114T093615Z
UID:457755-1739007000-1739030400@www.britishjudo.org.uk
SUMMARY:National Adaptive Training Day - Walsall - 8 Feb 25
DESCRIPTION:Coaches are welcome to come and support the adaptive judoka learning\, engaging\, participating throughout the day. \nEveryone welcome from beginners to Champions as the day will be suited to all levels. \nAdaptive covers all abilities – SEN\, Sensory\, Physical\, Learning\, Mental. \nParticipation on the mat is required for revalidation criteria for Coaches. \nBring your own lunches and drinks throughout the day. Tea and Coffee will be provided for coaches and parents. \nCost: This event is free to attend \nDate/Time: 8th February 2025 – 09:30-16:00 \nVenue: BJA National Training Centre\, Walsall \nThis is a licenced Coach Education / Revalidation course \n\n\n 
URL:https://www.britishjudo.org.uk/event/national-adaptive-training-day-walsall-8-feb-25/
LOCATION:British Judo National Training Centre\, University of Wolverhampton (Walsall Campus)\, Gorway Road\, Walsall­\, West Midlands\, WS1 3BD\, United Kingdom
ORGANIZER;CN="Kerry Tansey":MAILTO:ktansey1@gmail.com
END:VEVENT
END:VCALENDAR