BEGIN:VCALENDAR
VERSION:2.0
PRODID:-//British Judo Association - ECPv6.15.18//NONSGML v1.0//EN
CALSCALE:GREGORIAN
METHOD:PUBLISH
X-ORIGINAL-URL:https://www.britishjudo.org.uk
X-WR-CALDESC:Events for British Judo Association
REFRESH-INTERVAL;VALUE=DURATION:PT1H
X-Robots-Tag:noindex
X-PUBLISHED-TTL:PT1H
BEGIN:VTIMEZONE
TZID:Europe/London
BEGIN:DAYLIGHT
TZOFFSETFROM:+0000
TZOFFSETTO:+0100
TZNAME:BST
DTSTART:20240331T010000
END:DAYLIGHT
BEGIN:STANDARD
TZOFFSETFROM:+0100
TZOFFSETTO:+0000
TZNAME:GMT
DTSTART:20241027T010000
END:STANDARD
BEGIN:DAYLIGHT
TZOFFSETFROM:+0000
TZOFFSETTO:+0100
TZNAME:BST
DTSTART:20250330T010000
END:DAYLIGHT
BEGIN:STANDARD
TZOFFSETFROM:+0100
TZOFFSETTO:+0000
TZNAME:GMT
DTSTART:20251026T010000
END:STANDARD
BEGIN:DAYLIGHT
TZOFFSETFROM:+0000
TZOFFSETTO:+0100
TZNAME:BST
DTSTART:20260329T010000
END:DAYLIGHT
BEGIN:STANDARD
TZOFFSETFROM:+0100
TZOFFSETTO:+0000
TZNAME:GMT
DTSTART:20261025T010000
END:STANDARD
END:VTIMEZONE
BEGIN:VEVENT
DTSTART;TZID=Europe/London:20250727T100000
DTEND;TZID=Europe/London:20250727T170000
DTSTAMP:20260424T162240
CREATED:20250616T105951Z
LAST-MODIFIED:20250714T102312Z
UID:461741-1753610400-1753635600@www.britishjudo.org.uk
SUMMARY:Katame-no-kata and Nage-no-kata - 27 Jul 25 - Bristol
DESCRIPTION:The course will give an insight into the Katame-no-kata and Nage-no-kata. It will be suitable for all levels and aims to provide an introduction for those without previous experience or to extend the knowledge of those with experience and to prepare candidates for assessments. \nWhite judogi only. \n\nThis is a British Judo Association Licensed Coach Education/Revalidation Course \n  \n  \n 
URL:https://www.britishjudo.org.uk/event/katame-no-kata-and-nage-no-kata-27-jul-25-bristol/
LOCATION:Patchway Judo Club\, Coniston Road\, Patchway\, Bristol\, BS34 5JP
CATEGORIES:Coaching,Kata,Revalidation
ORGANIZER;CN="Jeremy Robinson":MAILTO:judojerm@hotmal.co.uk
GEO:51.5377402;-2.5836799
X-APPLE-STRUCTURED-LOCATION;VALUE=URI;X-ADDRESS=Patchway Judo Club Coniston Road Patchway Bristol BS34 5JP;X-APPLE-RADIUS=500;X-TITLE=Coniston Road\, Patchway:geo:-2.5836799,51.5377402
END:VEVENT
END:VCALENDAR