BEGIN:VCALENDAR
VERSION:2.0
PRODID:-//British Judo Association - ECPv6.15.18//NONSGML v1.0//EN
CALSCALE:GREGORIAN
METHOD:PUBLISH
X-ORIGINAL-URL:https://www.britishjudo.org.uk
X-WR-CALDESC:Events for British Judo Association
REFRESH-INTERVAL;VALUE=DURATION:PT1H
X-Robots-Tag:noindex
X-PUBLISHED-TTL:PT1H
BEGIN:VTIMEZONE
TZID:Europe/London
BEGIN:DAYLIGHT
TZOFFSETFROM:+0000
TZOFFSETTO:+0100
TZNAME:BST
DTSTART:20230326T010000
END:DAYLIGHT
BEGIN:STANDARD
TZOFFSETFROM:+0100
TZOFFSETTO:+0000
TZNAME:GMT
DTSTART:20231029T010000
END:STANDARD
BEGIN:DAYLIGHT
TZOFFSETFROM:+0000
TZOFFSETTO:+0100
TZNAME:BST
DTSTART:20240331T010000
END:DAYLIGHT
BEGIN:STANDARD
TZOFFSETFROM:+0100
TZOFFSETTO:+0000
TZNAME:GMT
DTSTART:20241027T010000
END:STANDARD
BEGIN:DAYLIGHT
TZOFFSETFROM:+0000
TZOFFSETTO:+0100
TZNAME:BST
DTSTART:20250330T010000
END:DAYLIGHT
BEGIN:STANDARD
TZOFFSETFROM:+0100
TZOFFSETTO:+0000
TZNAME:GMT
DTSTART:20251026T010000
END:STANDARD
END:VTIMEZONE
BEGIN:VEVENT
DTSTART;TZID=Europe/London:20241215T100000
DTEND;TZID=Europe/London:20241215T150000
DTSTAMP:20260425T032956
CREATED:20241112T121935Z
LAST-MODIFIED:20241112T134721Z
UID:457691-1734256800-1734274800@www.britishjudo.org.uk
SUMMARY:Nage-no-kata course - Jurassic Judo\, Weymouth - 15 Dec 24
DESCRIPTION:The course will give an insight into the Nage-no-kata. It will be suitable for all levels and aims to provide an introduction for those without previous experience or to extend the knowledge of those with experience. \nWhite judogi only. \nCourse Fee – £20 snr\, £15 jnr \nDate/Time – 15th December 2024 – 10:00-15:00 \nTo book contact Jeremy Robinson : judojerm@hotmail.co.uk \nThis is a British Judo Association Licensed Coach Education/Revalidation Course \n 
URL:https://www.britishjudo.org.uk/event/nage-no-kata-course-jurassic-judo-weymouth-15-dec-24/
LOCATION:Jurassic Judo\, Wessex Traditional Martial Arts Centre\, 83 Lynch Lane\, Weymouth\, DT4 9DN
ORGANIZER;CN="Jeremy Robinson":MAILTO:judojerm@hotmal.co.uk
GEO:50.605975;-2.4892325
X-APPLE-STRUCTURED-LOCATION;VALUE=URI;X-ADDRESS=Jurassic Judo Wessex Traditional Martial Arts Centre 83 Lynch Lane Weymouth DT4 9DN;X-APPLE-RADIUS=500;X-TITLE=Wessex Traditional Martial Arts Centre:geo:-2.4892325,50.605975
END:VEVENT
END:VCALENDAR