BEGIN:VCALENDAR
VERSION:2.0
PRODID:-//British Judo Association - ECPv6.15.18//NONSGML v1.0//EN
CALSCALE:GREGORIAN
METHOD:PUBLISH
X-WR-CALNAME:British Judo Association
X-ORIGINAL-URL:https://www.britishjudo.org.uk
X-WR-CALDESC:Events for British Judo Association
REFRESH-INTERVAL;VALUE=DURATION:PT1H
X-Robots-Tag:noindex
X-PUBLISHED-TTL:PT1H
BEGIN:VTIMEZONE
TZID:Europe/London
BEGIN:DAYLIGHT
TZOFFSETFROM:+0000
TZOFFSETTO:+0100
TZNAME:BST
DTSTART:20250330T010000
END:DAYLIGHT
BEGIN:STANDARD
TZOFFSETFROM:+0100
TZOFFSETTO:+0000
TZNAME:GMT
DTSTART:20251026T010000
END:STANDARD
BEGIN:DAYLIGHT
TZOFFSETFROM:+0000
TZOFFSETTO:+0100
TZNAME:BST
DTSTART:20260329T010000
END:DAYLIGHT
BEGIN:STANDARD
TZOFFSETFROM:+0100
TZOFFSETTO:+0000
TZNAME:GMT
DTSTART:20261025T010000
END:STANDARD
BEGIN:DAYLIGHT
TZOFFSETFROM:+0000
TZOFFSETTO:+0100
TZNAME:BST
DTSTART:20270328T010000
END:DAYLIGHT
BEGIN:STANDARD
TZOFFSETFROM:+0100
TZOFFSETTO:+0000
TZNAME:GMT
DTSTART:20271031T010000
END:STANDARD
END:VTIMEZONE
BEGIN:VEVENT
DTSTART;TZID=Europe/London:20260426T160000
DTEND;TZID=Europe/London:20260426T200000
DTSTAMP:20260421T165956
CREATED:20260316T111116Z
LAST-MODIFIED:20260316T111357Z
UID:466886-1777219200-1777233600@www.britishjudo.org.uk
SUMMARY:Judo Master Class with Lubjana Piovesana - 26 Apr 26 - Banbury
DESCRIPTION:  \n  \n  \n  \n  \nBanbury Judo Club is delighted to host a special masterclass with Lubjana Piovesana\, one of theworld’s leading competitors in the -63kg division. A 2024 IJF Grand Slam gold medallist and 5th-place finisher at the 2024 Olympic Games in Paris\, Lubjana has established herself among the elite on the international circuit. In this session she will share insights from top-level competition\, including gripping strategies\, attacking judo\, and transitions from standing to groundwork. This is a fantastic opportunity for judoka to learn directly from an Olympic-level athlete and experience the techniques and training approaches used at the highest level of the sport. \nDate / Times: 26th April 2026 – 16:00-20:00 \nVenue: Venue Banbury Judo Club\, Blessed George Napier Catholic School\, Addison Rd\, Banbury OX16 9DG \nContact for more information and to book: Tony Partridge – banburyjudo@gmail.com \nThis is a British Judo Licenced Coach Education / Revalidation Course
URL:https://www.britishjudo.org.uk/event/judo-master-class-with-lubjana-piovesana-26-apr-26-banbury/
LOCATION:Banbury Judo Club\, Large Sports Hall\, Blessed George Napier Catholic School\, Addison Road\, Banbury\, Oxfordshire\, OX16 9DG\, United Kingdom
CATEGORIES:Revalidation
ORGANIZER;CN="Tony Partridge":MAILTO:banburyjudo@gmail.com
GEO:52.04845;-1.340813
X-APPLE-STRUCTURED-LOCATION;VALUE=URI;X-ADDRESS=Banbury Judo Club Large Sports Hall Blessed George Napier Catholic School Addison Road Banbury Oxfordshire OX16 9DG United Kingdom;X-APPLE-RADIUS=500;X-TITLE=Large Sports Hall\, Blessed George Napier Catholic School\, Addison Road:geo:-1.340813,52.04845
END:VEVENT
END:VCALENDAR