BEGIN:VCALENDAR
VERSION:2.0
PRODID:-//British Judo Association - ECPv6.15.18//NONSGML v1.0//EN
CALSCALE:GREGORIAN
METHOD:PUBLISH
X-WR-CALNAME:British Judo Association
X-ORIGINAL-URL:https://www.britishjudo.org.uk
X-WR-CALDESC:Events for British Judo Association
REFRESH-INTERVAL;VALUE=DURATION:PT1H
X-Robots-Tag:noindex
X-PUBLISHED-TTL:PT1H
BEGIN:VTIMEZONE
TZID:Europe/London
BEGIN:DAYLIGHT
TZOFFSETFROM:+0000
TZOFFSETTO:+0100
TZNAME:BST
DTSTART:20250330T010000
END:DAYLIGHT
BEGIN:STANDARD
TZOFFSETFROM:+0100
TZOFFSETTO:+0000
TZNAME:GMT
DTSTART:20251026T010000
END:STANDARD
BEGIN:DAYLIGHT
TZOFFSETFROM:+0000
TZOFFSETTO:+0100
TZNAME:BST
DTSTART:20260329T010000
END:DAYLIGHT
BEGIN:STANDARD
TZOFFSETFROM:+0100
TZOFFSETTO:+0000
TZNAME:GMT
DTSTART:20261025T010000
END:STANDARD
BEGIN:DAYLIGHT
TZOFFSETFROM:+0000
TZOFFSETTO:+0100
TZNAME:BST
DTSTART:20270328T010000
END:DAYLIGHT
BEGIN:STANDARD
TZOFFSETFROM:+0100
TZOFFSETTO:+0000
TZNAME:GMT
DTSTART:20271031T010000
END:STANDARD
END:VTIMEZONE
BEGIN:VEVENT
DTSTART;VALUE=DATE:20260815
DTEND;VALUE=DATE:20260816
DTSTAMP:20260422T001549
CREATED:20260219T114512Z
LAST-MODIFIED:20260219T114954Z
UID:466390-1786752000-1786838399@www.britishjudo.org.uk
SUMMARY:Neil Adams MBE 9th Dan Master Class – York – 15 Aug 26
DESCRIPTION:  \n  \n  \n  \nLocation: York RI Judo Club \nDate: Saturday 15th August 2026 \nTimes: 10:30-14:30 \nCost: £25 \nCourse Description: \nTo celebrate the Centenary of the York RI Sports Centre we are bringing our greatest ever judo player to take a Master Class. \nRevalidation Course Suitable for All Level of Coaches \nThis is a British Judo Association Licenced Coach Education/Revalidation Course \n\nIf the form does not appear below it is likely due to your device settings.\nPlease clear your “Cookies” and/or open this page in a private window IE. Incognito/InPrivate mode.\n\n\n                \n                        \n                            Neil Adams MBE 9th Dan Master Class – York – 15 Aug 26\n                             \n                        \n                        Name*\n                            \n                            \n                                                    \n                                                    First\n                                                \n                            \n                            \n                                                    \n                                                    Last\n                                                \n                            \n                        Gender*MaleFemaleTransgenderDate of Birth*\n                            \n                            DD slash MM slash YYYY\n                        \n                        Are you a registered BJA member?*\n								\n								Yes\n							\n								\n								No\n							Please state which Association you are affiliated to*Please selectJudoScotlandNI JudoWelsh JudoLicence Number*Grade*Please select7th Kyu6th Kyu5th Kyu4th Kyu3rd Kyu2nd Kyu1st Kyu1st Dan2nd Dan3rd Dan4th Dan5th Dan6th DanContact Phone Number*Email*\n                                \n                                    \n                                    Enter Email\n                                \n                                \n                                    \n                                    Confirm Email\n                                \n                                \n                            Ethnicity*Please selectAsian British BangladeshiAsian British IndianBangladeshiBlack AfricanBlack BritishBlack CarribeanChineseIndianMixed White and AsianMixed White and Black AfricanMixed White and Black CaribbeanOtherOther AsianOther BlackOther MixedOther WhitePakistaniWhite BritishWhite EuropeanWhite IrishWhite Non EuropeanPrefer not to sayDisability*Do you consider yourself to have a disability?YesNoIf yes\, what is the nature of your disabilityHearingLearningPhysicalVisualMobilityMultipleOtherPrefer not to sayNeil Adams MBE 9th Dan Master Class – York – 15 Aug 26\n					\n					\n						Price:\n						\n					\n					\n				Total\n							£ 0.00\n							\n						Credit Card*
URL:https://www.britishjudo.org.uk/event/neil-adams-mbe-9th-dan-master-class-york-15-aug-26/
LOCATION:York Railway Institute Judo Club\, York Gymnasium 22 Queen Street\, York\, Yorkshire\, YO24 1AD\, England
CATEGORIES:Revalidation
ORGANIZER;CN="Dermot Heslop":MAILTO:dermot.heslop@britishjudo.org.uk
GEO:53.9561252;-1.0926028
X-APPLE-STRUCTURED-LOCATION;VALUE=URI;X-ADDRESS=York Railway Institute Judo Club York Gymnasium 22 Queen Street York Yorkshire YO24 1AD England;X-APPLE-RADIUS=500;X-TITLE=York Gymnasium 22 Queen Street:geo:-1.0926028,53.9561252
END:VEVENT
END:VCALENDAR