BEGIN:VCALENDAR
VERSION:2.0
PRODID:-//British Judo Association - ECPv6.15.18//NONSGML v1.0//EN
CALSCALE:GREGORIAN
METHOD:PUBLISH
X-WR-CALNAME:British Judo Association
X-ORIGINAL-URL:https://www.britishjudo.org.uk
X-WR-CALDESC:Events for British Judo Association
REFRESH-INTERVAL;VALUE=DURATION:PT1H
X-Robots-Tag:noindex
X-PUBLISHED-TTL:PT1H
BEGIN:VTIMEZONE
TZID:Europe/London
BEGIN:DAYLIGHT
TZOFFSETFROM:+0000
TZOFFSETTO:+0100
TZNAME:BST
DTSTART:20240331T010000
END:DAYLIGHT
BEGIN:STANDARD
TZOFFSETFROM:+0100
TZOFFSETTO:+0000
TZNAME:GMT
DTSTART:20241027T010000
END:STANDARD
BEGIN:DAYLIGHT
TZOFFSETFROM:+0000
TZOFFSETTO:+0100
TZNAME:BST
DTSTART:20250330T010000
END:DAYLIGHT
BEGIN:STANDARD
TZOFFSETFROM:+0100
TZOFFSETTO:+0000
TZNAME:GMT
DTSTART:20251026T010000
END:STANDARD
BEGIN:DAYLIGHT
TZOFFSETFROM:+0000
TZOFFSETTO:+0100
TZNAME:BST
DTSTART:20260329T010000
END:DAYLIGHT
BEGIN:STANDARD
TZOFFSETFROM:+0100
TZOFFSETTO:+0000
TZNAME:GMT
DTSTART:20261025T010000
END:STANDARD
END:VTIMEZONE
BEGIN:VEVENT
DTSTART;TZID=Europe/London:20251123T090000
DTEND;TZID=Europe/London:20251123T130000
DTSTAMP:20260422T020940
CREATED:20251016T095739Z
LAST-MODIFIED:20251016T143723Z
UID:463908-1763888400-1763902800@www.britishjudo.org.uk
SUMMARY:Master Class with Lele & Ethan Nairne - Bradford - 23 Nov 25
DESCRIPTION:Tachi-waza technical skills / Ne-waza technical skills/Competition tactical insights/New rules update/Q&A with performance players. \nDan grade theory update preceding masterclass. \n23 November 2025 – 09:00-13:00 \nSedbergh Leisure Centre\, Bradford\, BD12 0HQ \nFor further details on how to book: \nhttps://forms.gle/DvY35BGkFrNbYQAm9 \nThis is a British Judo Association Licensed Coach Education/Revalidation Course
URL:https://www.britishjudo.org.uk/event/master-class-with-lele-ethan-nairne-bradford-23-nov-25/
LOCATION:Sedbergh Leisure Centre\, Bradford\, BD12 0HQ\, United Kingdom
CATEGORIES:Revalidation
ORGANIZER;CN="Graham Takhar":MAILTO:graham_takhar@hotmail.com
END:VEVENT
END:VCALENDAR