BEGIN:VCALENDAR
VERSION:2.0
PRODID:-//British Judo Association - ECPv6.15.18//NONSGML v1.0//EN
CALSCALE:GREGORIAN
METHOD:PUBLISH
X-ORIGINAL-URL:https://www.britishjudo.org.uk
X-WR-CALDESC:Events for British Judo Association
REFRESH-INTERVAL;VALUE=DURATION:PT1H
X-Robots-Tag:noindex
X-PUBLISHED-TTL:PT1H
BEGIN:VTIMEZONE
TZID:Europe/London
BEGIN:DAYLIGHT
TZOFFSETFROM:+0000
TZOFFSETTO:+0100
TZNAME:BST
DTSTART:20240331T010000
END:DAYLIGHT
BEGIN:STANDARD
TZOFFSETFROM:+0100
TZOFFSETTO:+0000
TZNAME:GMT
DTSTART:20241027T010000
END:STANDARD
BEGIN:DAYLIGHT
TZOFFSETFROM:+0000
TZOFFSETTO:+0100
TZNAME:BST
DTSTART:20250330T010000
END:DAYLIGHT
BEGIN:STANDARD
TZOFFSETFROM:+0100
TZOFFSETTO:+0000
TZNAME:GMT
DTSTART:20251026T010000
END:STANDARD
BEGIN:DAYLIGHT
TZOFFSETFROM:+0000
TZOFFSETTO:+0100
TZNAME:BST
DTSTART:20260329T010000
END:DAYLIGHT
BEGIN:STANDARD
TZOFFSETFROM:+0100
TZOFFSETTO:+0000
TZNAME:GMT
DTSTART:20261025T010000
END:STANDARD
END:VTIMEZONE
BEGIN:VEVENT
DTSTART;TZID=Europe/London:20250919T170000
DTEND;TZID=Europe/London:20250919T210000
DTSTAMP:20260422T075855
CREATED:20250716T121515Z
LAST-MODIFIED:20250805T102818Z
UID:462308-1758301200-1758315600@www.britishjudo.org.uk
SUMMARY:Masterclass Lubjana Piovesana - 19 Sep 25 - Hebden Bridge
DESCRIPTION:This is a licenced Coach Education/Revalidation course
URL:https://www.britishjudo.org.uk/event/masterclass-lubjana-piovesana-19-sep-25-hebden-bridge/
LOCATION:Judo Excellence\, Judo Excellence\, Unit 7a\, Valley Road\, Hebden Bridge\, HX7 7BZ
CATEGORIES:Coaching,Revalidation
ORGANIZER;CN="Tony Devine":MAILTO:tonydevineuk@yahoo.co.uk
END:VEVENT
END:VCALENDAR