BEGIN:VCALENDAR
VERSION:2.0
PRODID:-//British Judo Association - ECPv6.15.18//NONSGML v1.0//EN
CALSCALE:GREGORIAN
METHOD:PUBLISH
X-ORIGINAL-URL:https://www.britishjudo.org.uk
X-WR-CALDESC:Events for British Judo Association
REFRESH-INTERVAL;VALUE=DURATION:PT1H
X-Robots-Tag:noindex
X-PUBLISHED-TTL:PT1H
BEGIN:VTIMEZONE
TZID:Europe/London
BEGIN:DAYLIGHT
TZOFFSETFROM:+0000
TZOFFSETTO:+0100
TZNAME:BST
DTSTART:20250330T010000
END:DAYLIGHT
BEGIN:STANDARD
TZOFFSETFROM:+0100
TZOFFSETTO:+0000
TZNAME:GMT
DTSTART:20251026T010000
END:STANDARD
BEGIN:DAYLIGHT
TZOFFSETFROM:+0000
TZOFFSETTO:+0100
TZNAME:BST
DTSTART:20260329T010000
END:DAYLIGHT
BEGIN:STANDARD
TZOFFSETFROM:+0100
TZOFFSETTO:+0000
TZNAME:GMT
DTSTART:20261025T010000
END:STANDARD
BEGIN:DAYLIGHT
TZOFFSETFROM:+0000
TZOFFSETTO:+0100
TZNAME:BST
DTSTART:20270328T010000
END:DAYLIGHT
BEGIN:STANDARD
TZOFFSETFROM:+0100
TZOFFSETTO:+0000
TZNAME:GMT
DTSTART:20271031T010000
END:STANDARD
END:VTIMEZONE
BEGIN:VEVENT
DTSTART;TZID=Europe/London:20260327T120000
DTEND;TZID=Europe/London:20260327T124500
DTSTAMP:20260421T102312
CREATED:20251215T152000Z
LAST-MODIFIED:20251216T094804Z
UID:465110-1774612800-1774615500@www.britishjudo.org.uk
SUMMARY:Judo Thinking with Ben Almond: Building Strategies for Growth and Success - 27 Mar 26 - Lunch & Learn (online)
DESCRIPTION:Overview: \nRunning a successful judo club or business takes more than effort on the mat\, it requires clear leadership and a strong plan. In this webinar\, Ben Almond\, author of Judo Thinking\, will share practical insights to help you develop and implement strategies that deliver results.\nYou’ll explore The Four Judo Models and The Five Judo Mindsets\, designed to help you structure your approach\, adapt to change\, and achieve long-term success. This session will focus on building your strategy framework and understanding how success evolves over time. \nYou’ll learn how to: \n– Apply leadership principles to guide your club or business\n– Develop and implement a strategy framework using The Four Judo Models\n– Adopt The Five Judo Mindsets to stay focused and adaptable\n– Understand the evolution of success and how to plan for the future \nWhy attend? \n– Gain expert insights from Ben Almond on leadership and strategic planning\n– Learn practical steps to grow and sustain your club or business\n– Discover proven models and mindsets that will transform your approach to success \nThis webinar is ideal for judo coaches\, volunteers\, club administrators\, and businesses looking to strengthen leadership and develop strategies for growth. \n\n  \n  \n  \n  \n  \nThank you for your interest this event is now closed for bookings. \nFor further information on how we handle your data\, please read our Privacy Notice: https://www.britishjudo.org.uk/privacy-policy/ \n 
URL:https://www.britishjudo.org.uk/event/judo-thinking-with-ben-almond-building-strategies-for-growth-and-success-27-mar-26-lunch-learn-online/
LOCATION:MS Teams
ORGANIZER;CN="Club Support Team":MAILTO:clubsupport@britishjudo.org.uk
END:VEVENT
END:VCALENDAR