BEGIN:VCALENDAR
VERSION:2.0
PRODID:-//British Judo Association - ECPv6.15.18//NONSGML v1.0//EN
CALSCALE:GREGORIAN
METHOD:PUBLISH
X-WR-CALNAME:British Judo Association
X-ORIGINAL-URL:https://www.britishjudo.org.uk
X-WR-CALDESC:Events for British Judo Association
REFRESH-INTERVAL;VALUE=DURATION:PT1H
X-Robots-Tag:noindex
X-PUBLISHED-TTL:PT1H
BEGIN:VTIMEZONE
TZID:Europe/London
BEGIN:DAYLIGHT
TZOFFSETFROM:+0000
TZOFFSETTO:+0100
TZNAME:BST
DTSTART:20250330T010000
END:DAYLIGHT
BEGIN:STANDARD
TZOFFSETFROM:+0100
TZOFFSETTO:+0000
TZNAME:GMT
DTSTART:20251026T010000
END:STANDARD
BEGIN:DAYLIGHT
TZOFFSETFROM:+0000
TZOFFSETTO:+0100
TZNAME:BST
DTSTART:20260329T010000
END:DAYLIGHT
BEGIN:STANDARD
TZOFFSETFROM:+0100
TZOFFSETTO:+0000
TZNAME:GMT
DTSTART:20261025T010000
END:STANDARD
BEGIN:DAYLIGHT
TZOFFSETFROM:+0000
TZOFFSETTO:+0100
TZNAME:BST
DTSTART:20270328T010000
END:DAYLIGHT
BEGIN:STANDARD
TZOFFSETFROM:+0100
TZOFFSETTO:+0000
TZNAME:GMT
DTSTART:20271031T010000
END:STANDARD
END:VTIMEZONE
BEGIN:VEVENT
DTSTART;TZID=Europe/London:20260227T120000
DTEND;TZID=Europe/London:20260227T124500
DTSTAMP:20260421T115739
CREATED:20251215T151203Z
LAST-MODIFIED:20251216T091727Z
UID:465099-1772193600-1772196300@www.britishjudo.org.uk
SUMMARY:Finance and Funding for Sustainability: Pricing\, Sponsorship\, Grants and Bid Writing - 27 Feb 26 - Lunch & Learn
DESCRIPTION:Overview:\nStrong financial planning is essential for a sustainable club. This webinar\, delivered by Sport England Buddle\, will provide practical guidance on managing your club’s finances\, setting pricing strategies\, and identifying funding opportunities to support long-term growth.\nWe will explore how to access sponsorship\, apply for grants\, and develop effective bids\, giving you the tools to secure additional income and strengthen your club’s financial position.\n\nYou’ll learn how to:\n\nPlan for financial sustainability and set appropriate pricing\nIdentify and secure sponsorship opportunities\nFind and apply for grants that fit your club’s needs\nWrite strong funding bids that stand out \nWhy attend? \nGain confidence in managing your club’s finances\nLearn practical strategies for generating income\nAccess expert advice from Sport England Buddle on funding and sustainability \nThis webinar is ideal for club administrators\, treasurers\, and anyone responsible for financial planning or fundraising. \n\n  \n  \n  \n  \n  \n\nFor further information on how we handle your data\, please read our Privacy Notice: https://www.britishjudo.org.uk/privacy-policy/ \n 
URL:https://www.britishjudo.org.uk/event/finance-and-funding-for-sustainability-pricing-sponsorship-grants-and-bid-writing-27-feb-26-lunch-learn/
LOCATION:MS Teams
ORGANIZER;CN="Club Support Team":MAILTO:clubsupport@britishjudo.org.uk
END:VEVENT
END:VCALENDAR