BEGIN:VCALENDAR
VERSION:2.0
PRODID:-//British Judo Association - ECPv6.15.18//NONSGML v1.0//EN
CALSCALE:GREGORIAN
METHOD:PUBLISH
X-ORIGINAL-URL:https://www.britishjudo.org.uk
X-WR-CALDESC:Events for British Judo Association
REFRESH-INTERVAL;VALUE=DURATION:PT1H
X-Robots-Tag:noindex
X-PUBLISHED-TTL:PT1H
BEGIN:VTIMEZONE
TZID:Europe/London
BEGIN:DAYLIGHT
TZOFFSETFROM:+0000
TZOFFSETTO:+0100
TZNAME:BST
DTSTART:20250330T010000
END:DAYLIGHT
BEGIN:STANDARD
TZOFFSETFROM:+0100
TZOFFSETTO:+0000
TZNAME:GMT
DTSTART:20251026T010000
END:STANDARD
BEGIN:DAYLIGHT
TZOFFSETFROM:+0000
TZOFFSETTO:+0100
TZNAME:BST
DTSTART:20260329T010000
END:DAYLIGHT
BEGIN:STANDARD
TZOFFSETFROM:+0100
TZOFFSETTO:+0000
TZNAME:GMT
DTSTART:20261025T010000
END:STANDARD
BEGIN:DAYLIGHT
TZOFFSETFROM:+0000
TZOFFSETTO:+0100
TZNAME:BST
DTSTART:20270328T010000
END:DAYLIGHT
BEGIN:STANDARD
TZOFFSETFROM:+0100
TZOFFSETTO:+0000
TZNAME:GMT
DTSTART:20271031T010000
END:STANDARD
END:VTIMEZONE
BEGIN:VEVENT
DTSTART;TZID=Europe/London:20260130T120000
DTEND;TZID=Europe/London:20260130T124500
DTSTAMP:20260421T135737
CREATED:20251215T150537Z
LAST-MODIFIED:20251216T091355Z
UID:465089-1769774400-1769777100@www.britishjudo.org.uk
SUMMARY:Three Quick Wins for January Retention (Experience\, Connection & Incentives) - 30 Jan 26 - Lunch & Learn (Online)
DESCRIPTION:Overview: \nStart the year by keeping your members engaged and motivated. This webinar will share three practical strategies to boost retention in January\, focusing on member experience\, building connections\, and creating incentives that encourage people to stay active and committed. \nDelivered in collaboration with NEST Management\, this session is packed with actionable ideas you can implement straight away to make a real difference to your club’s retention rates. \nYou’ll learn how to: \n\nEnhance the member experience to keep people coming back\nStrengthen connections within your club community\nUse simple incentives to maintain motivation and engagement\n\nThis webinar is ideal for club administrators\, coaches\, and anyone responsible for member retention and engagement. \nWhy attend? \n\nDiscover quick\, effective ways to improve retention\nLearn practical tips that work in real club environments\nGet expert advice and share ideas with other club leaders\n\n\n  \n  \n  \n  \n  \n\nFor further information on how we handle your data\, please read our Privacy Notice: https://www.britishjudo.org.uk/privacy-policy/
URL:https://www.britishjudo.org.uk/event/three-quick-wins-for-january-retention-experience-connection-incentives-30-jan-26-lunch-learn-online/
LOCATION:MS Teams
ORGANIZER;CN="Club Support Team":MAILTO:clubsupport@britishjudo.org.uk
END:VEVENT
END:VCALENDAR