BEGIN:VCALENDAR
VERSION:2.0
PRODID:-//British Judo Association - ECPv6.15.18//NONSGML v1.0//EN
CALSCALE:GREGORIAN
METHOD:PUBLISH
X-ORIGINAL-URL:https://www.britishjudo.org.uk
X-WR-CALDESC:Events for British Judo Association
REFRESH-INTERVAL;VALUE=DURATION:PT1H
X-Robots-Tag:noindex
X-PUBLISHED-TTL:PT1H
BEGIN:VTIMEZONE
TZID:Europe/London
BEGIN:DAYLIGHT
TZOFFSETFROM:+0000
TZOFFSETTO:+0100
TZNAME:BST
DTSTART:20240331T010000
END:DAYLIGHT
BEGIN:STANDARD
TZOFFSETFROM:+0100
TZOFFSETTO:+0000
TZNAME:GMT
DTSTART:20241027T010000
END:STANDARD
BEGIN:DAYLIGHT
TZOFFSETFROM:+0000
TZOFFSETTO:+0100
TZNAME:BST
DTSTART:20250330T010000
END:DAYLIGHT
BEGIN:STANDARD
TZOFFSETFROM:+0100
TZOFFSETTO:+0000
TZNAME:GMT
DTSTART:20251026T010000
END:STANDARD
BEGIN:DAYLIGHT
TZOFFSETFROM:+0000
TZOFFSETTO:+0100
TZNAME:BST
DTSTART:20260329T010000
END:DAYLIGHT
BEGIN:STANDARD
TZOFFSETFROM:+0100
TZOFFSETTO:+0000
TZNAME:GMT
DTSTART:20261025T010000
END:STANDARD
END:VTIMEZONE
BEGIN:VEVENT
DTSTART;VALUE=DATE:20250608
DTEND;VALUE=DATE:20250609
DTSTAMP:20260420T084140
CREATED:20250506T095054Z
LAST-MODIFIED:20250528T083953Z
UID:460956-1749340800-1749427199@www.britishjudo.org.uk
SUMMARY:Judo Fit Workshop\, First Aid & Safeguarding - 8 Jun 25 - Thetford
DESCRIPTION:8th June 2025 – Breckland Leisure Centre\, Croxton Road\, Thetford\, IP24 1JD \nFor further information on times and how to book please contact Denisemargaretoates@gmail.com direct \nJudo Fit Workshop \n£20 \nCourse Content To encourage BJA judo players and potential members to participate in the sport of judo in a non-contact (novice) or contact (experienced player’s) style while working to the beat of music. \nNon judo people are very welcome to participate in the workshop. \nThis is a British Judo Association Licensed Coach Education/Revalidation Course for the Judo Fit \nFirst Aid \n£30 \nSafeguarding \n£30 \n\nFurther information: Thetford
URL:https://www.britishjudo.org.uk/event/judo-fit-workshop-firstaid-safeguarding-8-jun-25-thetford/
LOCATION:Breckland Leisure Centre\, Crockford Road\, Thetford\, Norfolk\, IP24 1JD
CATEGORIES:Course,First Aid,Revalidation,Safeguarding
GEO:52.4199018;0.7502254
X-APPLE-STRUCTURED-LOCATION;VALUE=URI;X-ADDRESS=Breckland Leisure Centre Crockford Road Thetford Norfolk IP24 1JD;X-APPLE-RADIUS=500;X-TITLE=Crockford Road:geo:0.7502254,52.4199018
END:VEVENT
BEGIN:VEVENT
DTSTART;VALUE=DATE:20250608
DTEND;VALUE=DATE:20250609
DTSTAMP:20260420T084140
CREATED:20241108T084750Z
LAST-MODIFIED:20250528T083925Z
UID:457590-1749340800-1749427199@www.britishjudo.org.uk
SUMMARY:Southern Area (Sussex) Dan Gradings 2025 - Chichester - 8 Jun 25
DESCRIPTION:Grades:  Suitable for Male and Female 1st KYU to 4th DAN grades inclusive \n  \nDates:     Sunday 8th June \nSunday 14th December \n  \nTime:      13.00 pm booking in for all grades\, male and female (for 13:30 pm start) \nCost:       Pre-booked on line or by post (cheques made payable to “BJA Southern Area”) \n  \n                           Early bird Booking £20.00 closes 3 weeks before grading \n                       Pre-booking £25.00 closes 2 weeks before grading \n                       Late pre-booking £30.00 closes 2 days before grading \nEntries on the day will generally not be permitted unless authorised by the organiser £35 \n  \nVenue:   Chichester Ronin Judo club\, The New Dojo – Jubilee Hall\, New Park Road\,                                      Chichester\, Sussex PO19 7XY \nBook online : www.sajudo.org.uk/calendar  & click on the date of the grading                 \n  \nIf numbers permit\, we are happy to run and promote gradings targeted at DAN GRADE MEN\, \n1ST KYU/DAN GRADE WOMEN and MASTERS. All enquiries and pre-booking forms to – \nDerek Paxton. Contact 07778 670124 or email gradings@sajudo.org.uk \nAll gradings run with the Southern Area Promotions Sub-committee in attendance\, with (inter)national referees and first aid support. \nCompetitive Skills Theory examinations (£10 fee for 1st Dan and 2nd Dan; £15 fee for 3rd Dan and 4th Dan) and Technical Dan Grading examinations (£20 fee for 1st Dan and 2nd Dan) can also be conducted on the day if arranged in advance. \n 
URL:https://www.britishjudo.org.uk/event/southern-area-sussex-dan-gradings-2025-chichester-8-jun-25/
LOCATION:Chichester Ronin Judo Club\, The New Dojo\, The Jubilee Hall\, New Park Centre\, New Park Road\, Chichester\, Chichester\, Sussex\, PO19 7XY\, United Kingdom
CATEGORIES:Course,Dan Gradings
GEO:50.8376969;-0.7731469
X-APPLE-STRUCTURED-LOCATION;VALUE=URI;X-ADDRESS=Chichester Ronin Judo Club The New Dojo The Jubilee Hall New Park Centre New Park Road Chichester Chichester Sussex PO19 7XY United Kingdom;X-APPLE-RADIUS=500;X-TITLE=The New Dojo\, The Jubilee Hall\, New Park Centre\, New Park Road\, Chichester:geo:-0.7731469,50.8376969
END:VEVENT
BEGIN:VEVENT
DTSTART;VALUE=DATE:20250608
DTEND;VALUE=DATE:20250609
DTSTAMP:20260420T084140
CREATED:20241024T072152Z
LAST-MODIFIED:20250528T083909Z
UID:456339-1749340800-1749427199@www.britishjudo.org.uk
SUMMARY:BJA Level 1 Coaching Course FULLY BOOKED- 8th June and 6th July 2025 - York
DESCRIPTION:THIS COURSE IS NOW FULLY BOOKED – please email courseadmin@britishjudo.org.uk to be added to the reserve list\nThe BJA Level 1 award is the starting point for your coaching journey in judo.\nIf you are new to coaching judo\, have limited coaching knowledge or want to get more involved in your club\, then this is the course for you. \nThe course focuses on the ‘how to coach skills’ using practical technical examples (where relevant) to apply these skills; basic technical principles of ne-waza and tachi-waza; health and safety; and basic judo rules. \nOn successful completion of this course candidates will receive a British Judo Association Level 1 coaching award and will be equipped to work under supervision of BJA Level 2 or higher valid coach on any relevant coaching sessions. Once they have turned 18 years of age\, a BJA Level 1 coach may\, upon the discretion of BJA Level 2 or higher valid coach\, also work independently under supervised instruction. \nThe course will run across 2 separate days\, you will need to attend both. \nVenue: York RI Judo Club\, Queen Street\,  York YO24 1AD \nDay One: 8th June 2025 \nDay Two / Assessment: 6th July 2025 \nWhat do you need before you can sign up?\n\nBe at least 16 years of age\nBe a current member of the British Judo Association\nHold a minimum British Judo Association 2nd Kyu Grade\nHave a good knowledge of the British Judo Mon and Kyu Grade Syllabi\nBe able to communicate effectively in English (listening\, speaking\, reading and writing)\n\nCourse details\nCandidates are required to complete a Portfolio Tasks within six month of their assessment. These tasks include: \n\nFour session plans (minimum of two session plans to be completed before assessment day)\nTwo ne-waza and two tachi-waza coaching point diagrams\nHealth and Safety task – facility check and basic first aid\nSafeguarding and Protecting Children\nContest Rules\n\nFor more information about the course\, please contact dermot.heslop@britishjudo.org.uk\n\nFor further information on how we handle your data\, please read our Privacy Notice: https://www.britishjudo.org.uk/privacy-policy/
URL:https://www.britishjudo.org.uk/event/bja-level-1-coaching-course-8th-june-and-6th-july-2025-york/
LOCATION:York Railway Institute Judo Club\, York Gymnasium 22 Queen Street\, York\, Yorkshire\, YO24 1AD\, England
CATEGORIES:Coaching,Course
ORGANIZER;CN="Dermot Heslop":MAILTO:dermot.heslop@britishjudo.org.uk
GEO:53.9561252;-1.0926028
X-APPLE-STRUCTURED-LOCATION;VALUE=URI;X-ADDRESS=York Railway Institute Judo Club York Gymnasium 22 Queen Street York Yorkshire YO24 1AD England;X-APPLE-RADIUS=500;X-TITLE=York Gymnasium 22 Queen Street:geo:-1.0926028,53.9561252
END:VEVENT
BEGIN:VEVENT
DTSTART;VALUE=DATE:20250607
DTEND;VALUE=DATE:20250609
DTSTAMP:20260420T084140
CREATED:20241024T074334Z
LAST-MODIFIED:20250528T082032Z
UID:456351-1749254400-1749427199@www.britishjudo.org.uk
SUMMARY:British Judo 1st4Sport Level Two Coaching Course: 7th and 8th June\, 5th and 6th July and 17th August 2025 - York
DESCRIPTION:The 1st4Sport Level 2 Award in Coaching Judo is the second step on British Judo’s coaching pathway.\nThis course aims to provide candidates with an introduction to the processes and principles of coaching judo to adults and children. \nIf you are already a qualified coach and are looking to develop your knowledge and skills to deliver better and more sessions at your club\, then this is the course for you. \nOn successful completion of this course candidates will receive a 1st4Sport Level 2 coaching award and will be equipped to deliver sessions independently and work alongside a 1st4Sport Level 3 judo coach during club or other relevant coaching sessions. 1st4Sport Level 2 coaches are also able to set up their own judo club(s).  \nThe course will run on two weekends. \nWeekend 1: 7th and 8th June 2025\nWeekend 2: 5th and 6th July 2025 \n(Assessment Day: 17th August 2025) \nVenue: York RI Judo Club\, Queen Street\, York YO24 1AD \nWhat do you need before you can sign up?\n\nBe at least 18 years old\nBe a current member of the British Judo Association\nHold a minimum British Judo Association 1st Kyu Grade\nIt is recommended that candidates hold a BJA Level 1 coaching award\nBe able to communicate effectively in English (listening\, speaking\, reading and writing)\n\nCourse details\nCandidates are required to complete the 15 module programme\, a mock assessment and a personal action planning process as part of the training. This will be followed by a period of extended study and logged coaching practice prior to the final assessment. Candidates will work through the following units as part of this course: \n\nUnderstanding the Fundamentals of Coaching Sport\nUnderstanding how to Develop Participants through Coaching Sport\nSupporting Participants’ Lifestyle through Coaching Sport\nUnderstanding the Principles of Safe and Equitable Coaching Practice\nPlan a Series of Judo Coaching Sessions\nPrepare the Judo Coaching Environment\nDeliver a Series of Judo Coaching Sessions\nMonitor and Evaluate Judo Coaching Sessions\n\nThe final assessment day is held approximately 8 weeks after the learning programme has finished. \nFor more information about the course\, please contact dermot.heslop@britishjudo.org.uk\nPlease book your place below.\n\n\nFor further information on how we handle your data\, please read our Privacy Notice: https://www.britishjudo.org.uk/privacy-policy/
URL:https://www.britishjudo.org.uk/event/british-judo-1st4sport-level-two-coaching-course-7th-and-8th-june-5th-and-6th-july-and-17th-august-2025-york/
LOCATION:York Railway Institute Judo Club\, York Gymnasium 22 Queen Street\, York\, Yorkshire\, YO24 1AD\, England
CATEGORIES:Coaching,Course
ORGANIZER;CN="Dermot Heslop":MAILTO:dermot.heslop@britishjudo.org.uk
GEO:53.9561252;-1.0926028
X-APPLE-STRUCTURED-LOCATION;VALUE=URI;X-ADDRESS=York Railway Institute Judo Club York Gymnasium 22 Queen Street York Yorkshire YO24 1AD England;X-APPLE-RADIUS=500;X-TITLE=York Gymnasium 22 Queen Street:geo:-1.0926028,53.9561252
END:VEVENT
BEGIN:VEVENT
DTSTART;TZID=Europe/London:20250601T100000
DTEND;TZID=Europe/London:20250601T160000
DTSTAMP:20260420T084140
CREATED:20250414T094408Z
LAST-MODIFIED:20250528T081836Z
UID:460657-1748772000-1748793600@www.britishjudo.org.uk
SUMMARY:Finding Your Feet Coach Education Workshop – Worcester Judo Club – 1 June 2025
DESCRIPTION:In 2023 British Judo launched the Finding Your Feet programme\, giving coaches an opportunity that not only enhances a coaching portfolio but also allows them to make a significant impact upon individuals’ lives in within their community. \nDeveloped in collaboration with the University of Hertfordshire and Anglia Ruskin University\, “Finding Your Feet”\, is a program designed to revolutionise how we approach falls among older adults. \nWe are now pleased to launch the second batch of “Finding Your Feet” Coach Education Workshop. These workshops are designed to help coaches upskill in delivering safer falls/falls prevention sessions to elderly participants. \nLearn the essential techniques and strategies to ensure the safety and well-being of your participants while enhancing their physical fitness and confidence. \nDon’t miss out on this valuable workshop that will equip you with the knowledge and tools to make a positive impact in the lives of our senior community members. \nCost: £30 \nDate/Times: Sunday 1st June 2025 – 10:00-16:00 \nVenue: Worcester Judo Club\, Unit 12\, Lowesmoor Wharf\, Worcester WR1 2RS \nFor more information\, contact Laurence Kenyon – Club Support Officer – laurence.kenyon@britishjudo.org.uk or 07854 215 654 \nThis is a British Judo Association Licensed Coach Education / Revalidation Course
URL:https://www.britishjudo.org.uk/event/finding-your-feet-coach-education-workshop-worcester-judo-club-1-june-2025/
LOCATION:Worcester Judo Club\, Unit 12\, Lowesmoor Wharf\,\, Worcester\, Worcester\, WR1 2RS\, United Kingdom
CATEGORIES:Course,Other,Veterans (30+)
ORGANIZER;CN="Laurence Kenyon":MAILTO:Laurence.kenyon@britishjudo.org.uk
GEO:52.1957117;-2.2223063
X-APPLE-STRUCTURED-LOCATION;VALUE=URI;X-ADDRESS=Worcester Judo Club Unit 12 Lowesmoor Wharf Worcester Worcester WR1 2RS United Kingdom;X-APPLE-RADIUS=500;X-TITLE=Unit 12\, Lowesmoor Wharf\,:geo:-2.2223063,52.1957117
END:VEVENT
BEGIN:VEVENT
DTSTART;TZID=Europe/London:20250601T093000
DTEND;TZID=Europe/London:20250601T133000
DTSTAMP:20260420T084140
CREATED:20250210T113647Z
LAST-MODIFIED:20250528T081804Z
UID:459508-1748770200-1748784600@www.britishjudo.org.uk
SUMMARY:First Aid - 1 Jun 25 - Bromley\, Kent
DESCRIPTION:To book email info@nma-training.co.uk \n 
URL:https://www.britishjudo.org.uk/event/first-aid-1-jun-25-bromley-kent/
LOCATION:Norman Park Community Sports Centre\, Hayes Lane\, Bromley\, Kent\, BR2 9EG\, United Kingdom
CATEGORIES:Course,First Aid
ORGANIZER;CN="NMA Training":MAILTO:info@nma-training.co.uk
END:VEVENT
BEGIN:VEVENT
DTSTART;TZID=Europe/London:20250601T090000
DTEND;TZID=Europe/London:20250601T170000
DTSTAMP:20260420T084140
CREATED:20241209T091840Z
LAST-MODIFIED:20250528T081748Z
UID:458173-1748768400-1748797200@www.britishjudo.org.uk
SUMMARY:First Aid & Safeguarding - 1st Jun 25 - New Malden
DESCRIPTION:First Aid 09:00-13:00 & Safeguarding & Protecting Children (Face to Face BJA approved) 14:00-17:00 June 1st 2025 \nRay Stevens Academy\, 253 Burlington Road\, New Malden\, Surrey\, KT3 4NE\, UK \n£120 \nBooking Link \nFirst Aid 1st June 2025 – 09:00-13:00 \nRay Stevens Academy\, 253 Burlington Road\, New Malden\, Surrey\, KT3 4NE\, UK \n£60 \nBooking Link \nSafeguarding 1st June 2025 – 14:00-17:00 \nRay Stevens Academy\, 253 Burlington Road\, New Malden\, Surrey\, KT3 4NE\, UK \n£60 \nBooking Link 
URL:https://www.britishjudo.org.uk/event/first-aid-and-safeguarding-1st-jun-25-new-malden/
LOCATION:Ray Stevens Academy\, 253 Burlington Road\, New Malden\, KT3 4NE\, United Kingdom
CATEGORIES:Course,First Aid,Safeguarding
ORGANIZER;CN="Sarah Harris":MAILTO:sarah@raystevensacademy.co.uk
GEO:51.4006393;-0.2385926
X-APPLE-STRUCTURED-LOCATION;VALUE=URI;X-ADDRESS=Ray Stevens Academy 253 Burlington Road New Malden KT3 4NE United Kingdom;X-APPLE-RADIUS=500;X-TITLE=253 Burlington Road:geo:-0.2385926,51.4006393
END:VEVENT
BEGIN:VEVENT
DTSTART;VALUE=DATE:20250601
DTEND;VALUE=DATE:20250602
DTSTAMP:20260420T084140
CREATED:20250204T151845Z
LAST-MODIFIED:20250528T081627Z
UID:459404-1748736000-1748822399@www.britishjudo.org.uk
SUMMARY:Katame-No-Kata Course - Tatsfield Martial arts - 1 June 2025
DESCRIPTION:Title\nKatame-No-Kata Course\n\n\nVenue\nTatsfield Martial Arts\n\n\nStart Date\n01/06/2025 10:00 AM\n\n\nEnd date\n01/06/2025 4:00 PM\n\n\nTotal price\n£30.00\n\n\n\nThis is a British Judo Licences Coach Revalidation Course \nBooking Link \n 
URL:https://www.britishjudo.org.uk/event/katame-no-kata-course-tatsfield-martial-arts-1-june-2025/
LOCATION:Tatsfield Martial Arts\, Approach Road\, Tatsfield\, Surrey\, TN16 2JT
CATEGORIES:Course,Kata
ORGANIZER;CN="Adam Plinston":MAILTO:tatsfieldmartialarts@gmail.com
END:VEVENT
BEGIN:VEVENT
DTSTART;TZID=Europe/London:20250531T110000
DTEND;TZID=Europe/London:20250531T150000
DTSTAMP:20260420T084140
CREATED:20250516T092756Z
LAST-MODIFIED:20250528T081536Z
UID:461249-1748689200-1748703600@www.britishjudo.org.uk
SUMMARY:JP BELL FABRIZIO CALIO SUPER SEMINAR No GI Judo & BJJ fusion - 31 May 25 - Bishops Stortford
DESCRIPTION:4x Olympic Judo coach JP Bell and Fabrizio Calio 1st degree black belt under Roger Gracie present \nFusion No-Gi Judo & BJJ Seminar  master Takedowns & Submissions for Both Judo and BJJ\nJoin us for a one-of-a-kind seminar blending the dynamic elements of judo and Brazilian Jiu-Jitsu.\nLearn effective takedowns and grappling submissions that are fully transferable between both disciplines. \nWhether you’re a coach or an athlete\, this seminar is designed to elevate your skill set in both judo and BJJ. Don’t miss the chance to sharpen your game with techniques that bridge two powerful grappling arts. \nseminar 1 – No gi Takedowns\nSeminar 2 – submissions\nQ&A chance \nFor more information contact JP Bell email japes95@gmail.com Instagram @jpbelljudo \nThis is a British Judo Association Licensed Coach Education/Revalidation Course \nVenue: \n\n\n\nBishops Stortford judo club\nThe Herts and Essex\nSports Centre\, Beldams Ln\,\nBishop’s Stortford CM23 5LH\n\n\n\nCost £40 direct to the course organiser
URL:https://www.britishjudo.org.uk/event/jp-bell-fabrizio-calio-super-seminar-no-gi-judo-bjj-fusion-31-may-25-bishops-stortford/
LOCATION:Bishops Stortford Judo Club\, Beldams\, Bishops Stortford\, CM23 5LH
CATEGORIES:Course,Other
ORGANIZER;CN="Jean-Paul Bell":MAILTO:japes95@gmail.com
GEO:51.8626365;0.1765296
X-APPLE-STRUCTURED-LOCATION;VALUE=URI;X-ADDRESS=Bishops Stortford Judo Club Beldams Bishops Stortford CM23 5LH;X-APPLE-RADIUS=500;X-TITLE=Beldams:geo:0.1765296,51.8626365
END:VEVENT
END:VCALENDAR