BEGIN:VCALENDAR
VERSION:2.0
PRODID:-//British Judo Association - ECPv6.15.18//NONSGML v1.0//EN
CALSCALE:GREGORIAN
METHOD:PUBLISH
X-ORIGINAL-URL:https://www.britishjudo.org.uk
X-WR-CALDESC:Events for British Judo Association
REFRESH-INTERVAL;VALUE=DURATION:PT1H
X-Robots-Tag:noindex
X-PUBLISHED-TTL:PT1H
BEGIN:VTIMEZONE
TZID:Europe/London
BEGIN:DAYLIGHT
TZOFFSETFROM:+0000
TZOFFSETTO:+0100
TZNAME:BST
DTSTART:20250330T010000
END:DAYLIGHT
BEGIN:STANDARD
TZOFFSETFROM:+0100
TZOFFSETTO:+0000
TZNAME:GMT
DTSTART:20251026T010000
END:STANDARD
BEGIN:DAYLIGHT
TZOFFSETFROM:+0000
TZOFFSETTO:+0100
TZNAME:BST
DTSTART:20260329T010000
END:DAYLIGHT
BEGIN:STANDARD
TZOFFSETFROM:+0100
TZOFFSETTO:+0000
TZNAME:GMT
DTSTART:20261025T010000
END:STANDARD
BEGIN:DAYLIGHT
TZOFFSETFROM:+0000
TZOFFSETTO:+0100
TZNAME:BST
DTSTART:20270328T010000
END:DAYLIGHT
BEGIN:STANDARD
TZOFFSETFROM:+0100
TZOFFSETTO:+0000
TZNAME:GMT
DTSTART:20271031T010000
END:STANDARD
END:VTIMEZONE
BEGIN:VEVENT
DTSTART;VALUE=DATE:20261115
DTEND;VALUE=DATE:20261116
DTSTAMP:20260419T141551
CREATED:20260226T122906Z
LAST-MODIFIED:20260226T122906Z
UID:466547-1794700800-1794787199@www.britishjudo.org.uk
SUMMARY:Scottish Veterans Judo Session - 2026
DESCRIPTION:Monthly Veteran Training Sessions \nAll Veteran judoka are encouraged to come along to the monthly training sessions at the National Training Centre\, the sessions provide a valuable opportunity to socialise and train with like-minded judoka. \nYou must register before the session by booking onto the session via the JustGo membership portal. Sessions cost £5. \nIf you have a JudoScotland membership already\, the process is simple. Log in to your account\, using your membership number as your username and complete the event ticket for the session you wish to attend. If you are a member with another national association who is visiting for the Veterans session\, please contact JudoScotland on 0131 333 2981 to book your space. \nSessions are open to all players 29 years and above regardless of ability\, gender\, experience or grade\, everyone can take something away from these sessions. \nBook via the JudoScotland website events page and select the date you wish to book \nDates for 2026: \nSunday March 15th\nSunday April 12th\nSunday May 10th\nSunday June 7th\nSunday July 12th\nSunday August 9th\nSunday September 13th\nSunday October 11th\nSunday November 15th\nSunday December 13th
URL:https://www.britishjudo.org.uk/event/scottish-veterans-judo-session-2026/2026-11-15/
LOCATION:EICA\, EICA\, South Platt Hill\, Ratho\, Newbridge\, Newbridge\, EH28 8AA
CATEGORIES:Veterans (30+)
ORGANIZER;CN="JudoScotland":MAILTO:info@judoscotland.com
GEO:55.923409;-3.397706
X-APPLE-STRUCTURED-LOCATION;VALUE=URI;X-ADDRESS=EICA EICA South Platt Hill Ratho Newbridge Newbridge EH28 8AA;X-APPLE-RADIUS=500;X-TITLE=EICA\, South Platt Hill\, Ratho\, Newbridge:geo:-3.397706,55.923409
END:VEVENT
BEGIN:VEVENT
DTSTART;VALUE=DATE:20261129
DTEND;VALUE=DATE:20261130
DTSTAMP:20260419T141551
CREATED:20260226T122048Z
LAST-MODIFIED:20260226T122048Z
UID:466529-1795910400-1795996799@www.britishjudo.org.uk
SUMMARY:JudoScotland National 1st Kyu and Dan Grading -30 Years & JudoScotland National Veterans +30 years 1st Kyu and Dan Grading - 29 Nov 26
DESCRIPTION:Join us on Sunday 29th November 2026 for our final Dan Grade Grading event of 2026\, featuring theory exams\, competitive grading\, and promotional line-ups for eligible judoka across all levels.\nGrading Timetable \n9-10.45am Theory Exams \n10.00-10.45am Competitive Check In \n11.00am Formal Bow with theory awards and welcome \nPreliminary Contests \nDan Grade Promotional Line Ups \nBook via the JudoScotland website \n 
URL:https://www.britishjudo.org.uk/event/judoscotland-national-1st-kyu-and-dan-grading-30-years-judoscotland-national-veterans-30-years-1st-kyu-and-dan-grading-29-nov-26/
LOCATION:Ravenscraig Regional Sports Facilities\, 1 O'Donnell Way\, ML1 2TZ
CATEGORIES:Dan Gradings,Veterans (30+)
ORGANIZER;CN="JudoScotland":MAILTO:info@judoscotland.com
GEO:55.7921338;-3.9640091
X-APPLE-STRUCTURED-LOCATION;VALUE=URI;X-ADDRESS=Ravenscraig Regional Sports Facilities 1 O'Donnell Way ML1 2TZ;X-APPLE-RADIUS=500;X-TITLE=1 O'Donnell Way:geo:-3.9640091,55.7921338
END:VEVENT
END:VCALENDAR