BEGIN:VCALENDAR
VERSION:2.0
PRODID:-//British Judo Association - ECPv6.15.18//NONSGML v1.0//EN
CALSCALE:GREGORIAN
METHOD:PUBLISH
X-WR-CALNAME:British Judo Association
X-ORIGINAL-URL:https://www.britishjudo.org.uk
X-WR-CALDESC:Events for British Judo Association
REFRESH-INTERVAL;VALUE=DURATION:PT1H
X-Robots-Tag:noindex
X-PUBLISHED-TTL:PT1H
BEGIN:VTIMEZONE
TZID:Europe/London
BEGIN:DAYLIGHT
TZOFFSETFROM:+0000
TZOFFSETTO:+0100
TZNAME:BST
DTSTART:20240331T010000
END:DAYLIGHT
BEGIN:STANDARD
TZOFFSETFROM:+0100
TZOFFSETTO:+0000
TZNAME:GMT
DTSTART:20241027T010000
END:STANDARD
BEGIN:DAYLIGHT
TZOFFSETFROM:+0000
TZOFFSETTO:+0100
TZNAME:BST
DTSTART:20250330T010000
END:DAYLIGHT
BEGIN:STANDARD
TZOFFSETFROM:+0100
TZOFFSETTO:+0000
TZNAME:GMT
DTSTART:20251026T010000
END:STANDARD
BEGIN:DAYLIGHT
TZOFFSETFROM:+0000
TZOFFSETTO:+0100
TZNAME:BST
DTSTART:20260329T010000
END:DAYLIGHT
BEGIN:STANDARD
TZOFFSETFROM:+0100
TZOFFSETTO:+0000
TZNAME:GMT
DTSTART:20261025T010000
END:STANDARD
END:VTIMEZONE
BEGIN:VEVENT
DTSTART;VALUE=DATE:20250706
DTEND;VALUE=DATE:20250707
DTSTAMP:20260419T175634
CREATED:20250331T082457Z
LAST-MODIFIED:20250702T121426Z
UID:460473-1751760000-1751846399@www.britishjudo.org.uk
SUMMARY:L3 - British Veteran Championships
DESCRIPTION:**WEIGH IN TIMES UPDATE** \nSaturday 5th July  \n6.00 – 7.00 pm \nSunday 6th July  \nM1 – M3 8.30 – 9.00 am \nFemale – 10.00 – 11.00 am \nM4-6 weigh in 11.00-11.30\, \nM7-9 plus MK weigh in 11.30-12.00. \nVenue: Walsall Sports Centre\, The University of Wolverhampton\, Broadway\, Walsall WS1 3EZ \nFor full event information please read the >>EVENT OUTLINES<< \nCategories: \nSection 1 – Open Grade\nSection 2 – 2nd Kyu and Below \nAge Categories: \nAge Division Actual Age (in year of event)\nF1/M1 30-34 (1995-1991) – Players are eligible when they turn 30 in the year.\nF2/M2 35-39 (1990-1996)\nF3/M3 40-44(1985-1981)\nF4/M4 45-49 (1980-1976)\nF5/M5 50-54 (1975-1971)\nF6/M6 55-59 (1970-1966)\nF7/M7 60 – 64 (no shime-waza)(1965-1961)\nF8/M8 65 – 69 (no shime-waza) (1960-1956)\nF9/M9 70+ (no shime-waza) (1955 or earlier) \n  \nRegistration and Weigh In \nSaturday 5th July\n6.00 pm – 7.00pm – All ages and all weight groups \nSunday 6th July 2025\nGroup: M1 – M3: 8.30am – 9.00am\nGroup: All Female Groups – 10.00 – 11.00am \nThe following groups will be in this order with the precise weigh times being published on the BJA website and social media platforms after the closing date.\nGroup: M4 – M9\nGroup: MK1 and MK2 \nEntry is closed. Please contact the organiser to check if there is space in your category. Entry List below is as of Thursday 26th June. \n>> ENTRY LIST<<
URL:https://www.britishjudo.org.uk/event/british-veteran-championships/
LOCATION:University of Wolverhampton\, Lecture Theatre Room WA007\, Walsall Campus\, Gorway Road\, Walsall\, WS1 3BD
CATEGORIES:Competition,Veterans (30+)
GEO:52.5715171;-1.9689208
X-APPLE-STRUCTURED-LOCATION;VALUE=URI;X-ADDRESS=University of Wolverhampton Lecture Theatre Room WA007 Walsall Campus Gorway Road Walsall WS1 3BD;X-APPLE-RADIUS=500;X-TITLE=Lecture Theatre Room WA007\, Walsall Campus\, Gorway Road:geo:-1.9689208,52.5715171
END:VEVENT
BEGIN:VEVENT
DTSTART;TZID=Europe/London:20250713T080000
DTEND;TZID=Europe/London:20250713T170000
DTSTAMP:20260419T175634
CREATED:20250428T102537Z
LAST-MODIFIED:20250528T090211Z
UID:460810-1752393600-1752426000@www.britishjudo.org.uk
SUMMARY:L2 - Sussex Novice to 2nd Kyu Age and Grade Banded
DESCRIPTION:Venue: Worthing Leisure Centre\, Shaftesbury Avenue\, Worthing BN12 4ET \nAGE BANDED: \nUnder 25 \nUnder 40 \n40 and over \nGRADE BANDED: \nNovice AND 6th KYU \n5th KYU AND 4th KYU \n3rd KYU AND 2nd KYU \nWEIGHT BANDED: \nMen: u60 u66 u73 u81 u90 u100 +100 \nWomen: u48 u52 u57 u63 u70 u78 +78 \nGROUPS MAY BE MERGED BY 1. AGE 2.GRADE 3. WEIGHT. \n>>ENTER HERE<<\n**CLOSING DATE: 17:00 SUNDAY 6TH JULY 2025**
URL:https://www.britishjudo.org.uk/event/l2-sussex-novice-to-2nd-kyu-age-and-grade-banded/
LOCATION:Worthing Leisure Centre\, Shaftsbury Avenue\, BN12 4ET\, United Kingdom
CATEGORIES:Competition,Seniors (14+),Veterans (30+)
GEO:50.817045;-0.40901
X-APPLE-STRUCTURED-LOCATION;VALUE=URI;X-ADDRESS=Worthing Leisure Centre Shaftsbury Avenue BN12 4ET United Kingdom;X-APPLE-RADIUS=500;X-TITLE=Shaftsbury Avenue:geo:-0.40901,50.817045
END:VEVENT
END:VCALENDAR