BEGIN:VCALENDAR
VERSION:2.0
PRODID:-//British Judo Association - ECPv6.15.18//NONSGML v1.0//EN
CALSCALE:GREGORIAN
METHOD:PUBLISH
X-ORIGINAL-URL:https://www.britishjudo.org.uk
X-WR-CALDESC:Events for British Judo Association
REFRESH-INTERVAL;VALUE=DURATION:PT1H
X-Robots-Tag:noindex
X-PUBLISHED-TTL:PT1H
BEGIN:VTIMEZONE
TZID:Europe/London
BEGIN:DAYLIGHT
TZOFFSETFROM:+0000
TZOFFSETTO:+0100
TZNAME:BST
DTSTART:20240331T010000
END:DAYLIGHT
BEGIN:STANDARD
TZOFFSETFROM:+0100
TZOFFSETTO:+0000
TZNAME:GMT
DTSTART:20241027T010000
END:STANDARD
BEGIN:DAYLIGHT
TZOFFSETFROM:+0000
TZOFFSETTO:+0100
TZNAME:BST
DTSTART:20250330T010000
END:DAYLIGHT
BEGIN:STANDARD
TZOFFSETFROM:+0100
TZOFFSETTO:+0000
TZNAME:GMT
DTSTART:20251026T010000
END:STANDARD
BEGIN:DAYLIGHT
TZOFFSETFROM:+0000
TZOFFSETTO:+0100
TZNAME:BST
DTSTART:20260329T010000
END:DAYLIGHT
BEGIN:STANDARD
TZOFFSETFROM:+0100
TZOFFSETTO:+0000
TZNAME:GMT
DTSTART:20261025T010000
END:STANDARD
END:VTIMEZONE
BEGIN:VEVENT
DTSTART;TZID=Europe/London:20250615T080000
DTEND;TZID=Europe/London:20250615T170000
DTSTAMP:20260423T191737
CREATED:20250317T105227Z
LAST-MODIFIED:20250528T084707Z
UID:460243-1749974400-1750006800@www.britishjudo.org.uk
SUMMARY:L3 - BSJK Danny King Team Championships
DESCRIPTION:Venue: The Herts and Essex Sports Centre\, Beldams Lane\, Bishops Stortford\, Hertfordshire\, CM23 5LH \nCategories: \nU16 Boys\, Green Belt & Below; competitors aged 8 to 15 years on the day of the event\nU16 Girls\, Green Belt & Below; competitors aged 8 to 15 years on the day of the event\nCadet Males\, Orange Belt & Above; competitors born 2008\, 2009\, 2010\nCadet Females\, Orange Belt & Above; competitors born 2008\, 2009\, 2010\nMixed Seniors\, Blue Belt & Above; aged 14yrs or older on the day of the event \n**FRIDAY 30TH MAY 2025** (or when entry limit has been reached) 
URL:https://www.britishjudo.org.uk/event/l3-bsjk-danny-king-team-championships/
LOCATION:The Herts and Essex Sports Centre\, Beldams Lane\, Bishops Stortford\, CM23 5LH
CATEGORIES:Cadets (14-16),Competition,Minors (8-11),Pre Cadet (12-13),Seniors (14+)
ORGANIZER;CN="Bishops Stortford Judokwai":MAILTO:bishopsstortfordjudo@gmail.com
GEO:51.8626365;0.1765296
X-APPLE-STRUCTURED-LOCATION;VALUE=URI;X-ADDRESS=The Herts and Essex Sports Centre Beldams Lane Bishops Stortford CM23 5LH;X-APPLE-RADIUS=500;X-TITLE=Beldams Lane:geo:0.1765296,51.8626365
END:VEVENT
BEGIN:VEVENT
DTSTART;TZID=Europe/London:20250614T080000
DTEND;TZID=Europe/London:20250614T170000
DTSTAMP:20260423T191737
CREATED:20250317T111350Z
LAST-MODIFIED:20250528T084534Z
UID:460247-1749888000-1749920400@www.britishjudo.org.uk
SUMMARY:L3 - Y&H Senior and Veteran Open
DESCRIPTION:Venue: Railway Institute\, 24 Queen St\, York\, YO24 1AD \nCategories: \nA: Seniors novice – 5th kyu\nB: Seniors 4th – 2nd kyu\nC: Seniors 1st kyu+ (point scoring)\nC: Veterans 30-44 years\, novice – 2nd kyu\nD: Veterans 30-44 years\, 1st kyu+ (point scoring)\nE: Veterans 45+ years\, novice – 2nd kyu\nF: Veterans 45+ years\, 1st kyu+ (point scoring) \n**CLOSING DATE: TUESDAY 3RD JUNE 2025** (or when entry reaches full capacity) 
URL:https://www.britishjudo.org.uk/event/l3-yh-senior-and-veteran-open/
LOCATION:York Railway Institute\, Queen Street\, York\, YO24 1AD\, United Kingdom
CATEGORIES:Competition,Seniors (14+),Veterans (30+)
ORGANIZER;CN="Yorkshire and Humberside":MAILTO:web@yhjudo.org.uk
GEO:53.9563261;-1.0924766
X-APPLE-STRUCTURED-LOCATION;VALUE=URI;X-ADDRESS=York Railway Institute Queen Street York YO24 1AD United Kingdom;X-APPLE-RADIUS=500;X-TITLE=Queen Street:geo:-1.0924766,53.9563261
END:VEVENT
BEGIN:VEVENT
DTSTART;TZID=Europe/London:20250608T080000
DTEND;TZID=Europe/London:20250608T170000
DTSTAMP:20260423T191737
CREATED:20250416T093608Z
LAST-MODIFIED:20250528T084113Z
UID:460705-1749369600-1749402000@www.britishjudo.org.uk
SUMMARY:U8/L1 - Mike’s Judo 3rd Annual Inter-School Judo Competition
DESCRIPTION:  \nVenue: Haberdashers’ Boys’ School\, Butterfly Lane\, Elstree\, Borehamwood\, WD6 3AF \nThis is a development event and open only to players graded Novice – 6th Mon only who attend Judo sessions at school only and have not received a medal at any of the following events British Minor Nationals\, British National Schools\, Regional Area/Open Event Medallists. \nCategories: \nGROUP 1 – Females (aged 6 to 7 yrs on the day of the event)\nGROUP 2 – Males (aged 6 to 7 yrs on the day of the event)\nGROUP 3 – Females (aged 8 to 12 on the day of the event)\nGROUP 4 – Males (aged 8 to 12 yrs on the day of the event) \n**CLOSING DATE: FRIDAY 2ND MAY 2025** (or when entry limit has been reached) \n 
URL:https://www.britishjudo.org.uk/event/u8-l1-mikes-judo-3rd-annual-inter-school-judo-competition/
LOCATION:Haberdashers’ Boys’ School\, Butterfly Lane\, Elstree\, Radlett\, Borehamwood\, WD6 3AF\, United Kingdom
CATEGORIES:Competition,Minors (8-11),Pre Cadet (12-13),U8 (6-7)
GEO:40.3817947;-95.839072
X-APPLE-STRUCTURED-LOCATION;VALUE=URI;X-ADDRESS=Haberdashers’ Boys’ School Butterfly Lane Elstree Radlett Borehamwood WD6 3AF United Kingdom;X-APPLE-RADIUS=500;X-TITLE=Butterfly Lane\, Elstree\, Radlett:geo:-95.839072,40.3817947
END:VEVENT
BEGIN:VEVENT
DTSTART;TZID=Europe/London:20250608T080000
DTEND;TZID=Europe/London:20250608T170000
DTSTAMP:20260423T191737
CREATED:20250408T133724Z
LAST-MODIFIED:20250528T084017Z
UID:460604-1749369600-1749402000@www.britishjudo.org.uk
SUMMARY:L1 - Tanoshii Team Rumble
DESCRIPTION:Venue: James Gillespie’s High School\, Games Hall\, 120 Warrender Park Rd\, Edinburgh\, EH 9 1DD \n  \n09:30am – Registration and Weigh-in \n09:50am Coach led warm up for all judoka \n10:15am – Competition start time \n02:00pm – Expected Award Ceremony and event finish \n  \n**CLOSING DATE: SATURDAY 1ST JUNE 2025** \n  \n>>ENTER HERE<< \n 
URL:https://www.britishjudo.org.uk/event/l1-tanoshii-team-rumble/
LOCATION:James Gillespie’s High School\, James Gillespie’s High School\, Games Hall 120 Warrender Park Rd\, Edinburgh\, EH90 1DD
CATEGORIES:Competition,Teams
ORGANIZER;CN="JudoScotland":MAILTO:info@judoscotland.com
END:VEVENT
BEGIN:VEVENT
DTSTART;TZID=Europe/London:20250607T080000
DTEND;TZID=Europe/London:20250607T170000
DTSTAMP:20260423T191737
CREATED:20250429T093931Z
LAST-MODIFIED:20250528T083800Z
UID:460854-1749283200-1749315600@www.britishjudo.org.uk
SUMMARY:U8 - SKK Under 8 Festival
DESCRIPTION:Venue: SKK Judo Club\, Viaduct St\, Newton-le-Willows WA12 9NH \nAll Participants will receive the same colour medal. This event will be run in accordance with the 2023 BJA Judo Festival Guidelines. Judo warm-up activities and games will be run\, followed by friendly and informal randori match-ups. \nParticipants will be grouped into Pools of 4 or 5 depending on age and weight. Boys’ and girls’ groups may be merged if required. \n**CLOSING DATE: SATURDAY 31ST MAY 2025** (or when entry limit is reached).
URL:https://www.britishjudo.org.uk/event/u8-skk-under-8-festival/
LOCATION:SKK Judo Club\, Earlestown\, Newton-le-willows\, Merseyside\, WA12 9NW\, United Kingdom
CATEGORIES:Competition,U8 (6-7)
GEO:53.4532816;-2.6459915
X-APPLE-STRUCTURED-LOCATION;VALUE=URI;X-ADDRESS=SKK Judo Club Earlestown Newton-le-willows Merseyside WA12 9NW United Kingdom;X-APPLE-RADIUS=500;X-TITLE=Earlestown:geo:-2.6459915,53.4532816
END:VEVENT
BEGIN:VEVENT
DTSTART;TZID=Europe/London:20250607T080000
DTEND;TZID=Europe/London:20250607T170000
DTSTAMP:20260423T191737
CREATED:20250404T092916Z
LAST-MODIFIED:20250603T132552Z
UID:460550-1749283200-1749315600@www.britishjudo.org.uk
SUMMARY:L3 - East Anglian Fours
DESCRIPTION:Venue: Breckland Leisure Centre\, Croxton Road\, Thetford\, Norfolk\, IP24 1JD \nCategories: \nGroup 1: 8-12 years (Maximum grade 6th Mon) \nGroup 2: 12-16 years (Novice and above)  – No national medallists \nGroup 3: Seniors (Maximum 2nd Kyu) \nGroup 4: Masters 30 years and over (Maximum grade 2nd Kyu) \nGroup 5 : Seniors (2nd Kyu and above) \nGroup 6: Masters 30 years and over (1st Kyu and above) \n**EARLY CLOSING DATE: MONDAY 5TH MAY 2025** \n**LATE CLOSING DATE: FRIDAY 23RD MAY 2025** \n 
URL:https://www.britishjudo.org.uk/event/l3-east-anglian-fours/
LOCATION:Breckland Leisure Centre\, Crockford Road\, Thetford\, Norfolk\, IP24 1JD
CATEGORIES:Cadets (14-16),Competition,Minors (8-11),Pre Cadet (12-13),Seniors (14+),Veterans (30+)
GEO:52.4199018;0.7502254
X-APPLE-STRUCTURED-LOCATION;VALUE=URI;X-ADDRESS=Breckland Leisure Centre Crockford Road Thetford Norfolk IP24 1JD;X-APPLE-RADIUS=500;X-TITLE=Crockford Road:geo:0.7502254,52.4199018
END:VEVENT
BEGIN:VEVENT
DTSTART;TZID=Europe/London:20250607T080000
DTEND;TZID=Europe/London:20250607T170000
DTSTAMP:20260423T191737
CREATED:20241210T103609Z
LAST-MODIFIED:20250528T082728Z
UID:458225-1749283200-1749315600@www.britishjudo.org.uk
SUMMARY:L3 - High Wycombe Senior Open
DESCRIPTION:Venue: High Wycombe Judo Centre\, Barry Close\, High Wycombe\, Bucks\, HP12 4UE \nCategories: \nGroup 1 Male\, Novice to Blue Belt (2nd – 6th Kyu)\nGroup 2 Female\, Novice to Blue Belt (2nd – 6th Kyu)\nGroup 3 Male\, Brown belt (1st Kyu)\nGroup 4 Female\, Brown Belt (1st Kyu)\nGroup 5 Female\, Black Belt and Above (1st Dan and Above)\nGroup 6 Male\, 1st Dan\nGroup 7 Male\, 2nd Dan\nGroup 8 Male\, 3rd Dan and Above \n**CLOSING DATE: FRIDAY 23RD MAY 2025**
URL:https://www.britishjudo.org.uk/event/l3-high-wycombe-senior-open/
LOCATION:High Wycombe Judo Centre
CATEGORIES:Competition,Seniors (14+)
ORGANIZER;CN="High Wycombe Judo Centre":MAILTO:jackie@wycombejudocentre.co.uk
END:VEVENT
BEGIN:VEVENT
DTSTART;TZID=Europe/London:20250601T100000
DTEND;TZID=Europe/London:20250601T160000
DTSTAMP:20260423T191737
CREATED:20250414T094408Z
LAST-MODIFIED:20250528T081836Z
UID:460657-1748772000-1748793600@www.britishjudo.org.uk
SUMMARY:Finding Your Feet Coach Education Workshop – Worcester Judo Club – 1 June 2025
DESCRIPTION:In 2023 British Judo launched the Finding Your Feet programme\, giving coaches an opportunity that not only enhances a coaching portfolio but also allows them to make a significant impact upon individuals’ lives in within their community. \nDeveloped in collaboration with the University of Hertfordshire and Anglia Ruskin University\, “Finding Your Feet”\, is a program designed to revolutionise how we approach falls among older adults. \nWe are now pleased to launch the second batch of “Finding Your Feet” Coach Education Workshop. These workshops are designed to help coaches upskill in delivering safer falls/falls prevention sessions to elderly participants. \nLearn the essential techniques and strategies to ensure the safety and well-being of your participants while enhancing their physical fitness and confidence. \nDon’t miss out on this valuable workshop that will equip you with the knowledge and tools to make a positive impact in the lives of our senior community members. \nCost: £30 \nDate/Times: Sunday 1st June 2025 – 10:00-16:00 \nVenue: Worcester Judo Club\, Unit 12\, Lowesmoor Wharf\, Worcester WR1 2RS \nFor more information\, contact Laurence Kenyon – Club Support Officer – laurence.kenyon@britishjudo.org.uk or 07854 215 654 \nThis is a British Judo Association Licensed Coach Education / Revalidation Course
URL:https://www.britishjudo.org.uk/event/finding-your-feet-coach-education-workshop-worcester-judo-club-1-june-2025/
LOCATION:Worcester Judo Club\, Unit 12\, Lowesmoor Wharf\,\, Worcester\, Worcester\, WR1 2RS\, United Kingdom
CATEGORIES:Course,Other,Veterans (30+)
ORGANIZER;CN="Laurence Kenyon":MAILTO:Laurence.kenyon@britishjudo.org.uk
GEO:52.1957117;-2.2223063
X-APPLE-STRUCTURED-LOCATION;VALUE=URI;X-ADDRESS=Worcester Judo Club Unit 12 Lowesmoor Wharf Worcester Worcester WR1 2RS United Kingdom;X-APPLE-RADIUS=500;X-TITLE=Unit 12\, Lowesmoor Wharf\,:geo:-2.2223063,52.1957117
END:VEVENT
BEGIN:VEVENT
DTSTART;TZID=Europe/London:20250601T080000
DTEND;TZID=Europe/London:20250601T170000
DTSTAMP:20260423T191737
CREATED:20250428T101930Z
LAST-MODIFIED:20250528T081724Z
UID:460807-1748764800-1748797200@www.britishjudo.org.uk
SUMMARY:L2 - Sussex Red Yellow and Orange under 16 competition
DESCRIPTION:Venue: Ashington Community Centre\, Fosters Lane\, Ashington\, Sussex\, RH20 3PG \nCategories: \nPlayers will be grouped according to weight\, age and experience and not in strict weights. You will be emailed on or before 21.00 on 28th May confirming the contest time. Players not present by the given time may be fitted into any available pool. \n>>ENTER HERE<<\n**CLOSING DATE: 11.00PM SATURDAY 24TH MAY 2025** (or when entry reaches its limit) 
URL:https://www.britishjudo.org.uk/event/l2-sussex-red-yellow-and-orange-under-16-competition/
LOCATION:Ashington Community Centre\, Foster Lane\, Ashington\, RH20 3PG\, United Kingdom
CATEGORIES:Cadets (14-16),Competition,Minors (8-11),Pre Cadet (12-13)
GEO:50.9327414;-0.395607
X-APPLE-STRUCTURED-LOCATION;VALUE=URI;X-ADDRESS=Ashington Community Centre Foster Lane Ashington RH20 3PG United Kingdom;X-APPLE-RADIUS=500;X-TITLE=Foster Lane:geo:-0.395607,50.9327414
END:VEVENT
BEGIN:VEVENT
DTSTART;TZID=Europe/London:20250601T080000
DTEND;TZID=Europe/London:20250601T170000
DTSTAMP:20260423T191737
CREATED:20250325T133815Z
LAST-MODIFIED:20250528T081653Z
UID:460402-1748764800-1748797200@www.britishjudo.org.uk
SUMMARY:U8/L1 - Colin Oates Getting Started
DESCRIPTION:Venue: Lophams Village Hall\, Church Road\, North Lopham\, Diss\, Norfolk\, IP22 2HS \nCategories: \nUnder 8 Festival \nOver 8’s (Maximum Grade 6th Mon) \nPlayers will be pooled according to age\, weight and grade\, all will receive a participation medal. \n  \n**CLOSING DATE: WEDNESDAY 28TH MAY 2025** (or when the limit has been reached)
URL:https://www.britishjudo.org.uk/event/u8-l1-colin-oates-getting-started-2/
LOCATION:Lopham Village Hall\, Church Road\, North Lopham\, South Norfolk\, IP22 2HS\, United Kingdom
CATEGORIES:Competition,Minors (8-11),Pre Cadet (12-13),U8 (6-7)
GEO:52.3989101;0.9939038
X-APPLE-STRUCTURED-LOCATION;VALUE=URI;X-ADDRESS=Lopham Village Hall Church Road North Lopham South Norfolk IP22 2HS United Kingdom;X-APPLE-RADIUS=500;X-TITLE=Church Road:geo:0.9939038,52.3989101
END:VEVENT
BEGIN:VEVENT
DTSTART;TZID=Europe/London:20250531T080000
DTEND;TZID=Europe/London:20250531T170000
DTSTAMP:20260423T191737
CREATED:20250319T110539Z
LAST-MODIFIED:20250528T081445Z
UID:460330-1748678400-1748710800@www.britishjudo.org.uk
SUMMARY:L3 - Granite City Grand Prix Event
DESCRIPTION:  \n\nVenue: Aberdeen Sports Village\, Linksfield Road\, Aberdeen\, AB24 5RU \nCategories: \nAge Band AA – Year Born 2015/2016/2017 (Players must be 8 years of age on day of event)\nAge Band ‘A’ – Year Born -2013/2014\nAge Band ‘B’ – Year Born –2011/2012\nAge Band ‘C’ – Year Born –2008/2009/2010\nSeniors – 14+ Years – Kyu and Dan Grades Only-1st Kyu and above and 2nd Kyu and below \n**CLOSING DATE: FRIDAY 16TH MAY 2025 AT 12 NOON** (or when entry limit has been reached)
URL:https://www.britishjudo.org.uk/event/l3-granite-city-grand-prix-event/
LOCATION:Aberdeen Sports Village\, Linkfeild Road\, Aberdeen\, AB24 5RU\, United Kingdom
CATEGORIES:Cadets (14-16),Competition,Juniors (14-19),Minors (8-11),Pre Cadet (12-13),Seniors (14+)
ORGANIZER;CN="JudoScotland":MAILTO:info@judoscotland.com
GEO:57.1615631;-2.0941711
X-APPLE-STRUCTURED-LOCATION;VALUE=URI;X-ADDRESS=Aberdeen Sports Village Linkfeild Road Aberdeen AB24 5RU United Kingdom;X-APPLE-RADIUS=500;X-TITLE=Linkfeild Road:geo:-2.0941711,57.1615631
END:VEVENT
END:VCALENDAR