BEGIN:VCALENDAR
VERSION:2.0
PRODID:-//British Judo Association - ECPv6.15.18//NONSGML v1.0//EN
CALSCALE:GREGORIAN
METHOD:PUBLISH
X-WR-CALNAME:British Judo Association
X-ORIGINAL-URL:https://www.britishjudo.org.uk
X-WR-CALDESC:Events for British Judo Association
REFRESH-INTERVAL;VALUE=DURATION:PT1H
X-Robots-Tag:noindex
X-PUBLISHED-TTL:PT1H
BEGIN:VTIMEZONE
TZID:Europe/London
BEGIN:DAYLIGHT
TZOFFSETFROM:+0000
TZOFFSETTO:+0100
TZNAME:BST
DTSTART:20250330T010000
END:DAYLIGHT
BEGIN:STANDARD
TZOFFSETFROM:+0100
TZOFFSETTO:+0000
TZNAME:GMT
DTSTART:20251026T010000
END:STANDARD
BEGIN:DAYLIGHT
TZOFFSETFROM:+0000
TZOFFSETTO:+0100
TZNAME:BST
DTSTART:20260329T010000
END:DAYLIGHT
BEGIN:STANDARD
TZOFFSETFROM:+0100
TZOFFSETTO:+0000
TZNAME:GMT
DTSTART:20261025T010000
END:STANDARD
BEGIN:DAYLIGHT
TZOFFSETFROM:+0000
TZOFFSETTO:+0100
TZNAME:BST
DTSTART:20270328T010000
END:DAYLIGHT
BEGIN:STANDARD
TZOFFSETFROM:+0100
TZOFFSETTO:+0000
TZNAME:GMT
DTSTART:20271031T010000
END:STANDARD
END:VTIMEZONE
BEGIN:VEVENT
DTSTART;VALUE=DATE:20260425
DTEND;VALUE=DATE:20260427
DTSTAMP:20260425T050803
CREATED:20260107T115627Z
LAST-MODIFIED:20260423T125117Z
UID:465411-1777075200-1777247999@www.britishjudo.org.uk
SUMMARY:English Open 2026 (MIN\, PCAD\, VET\, ADAP & VI)
DESCRIPTION:English Minors\, Pre Cadets\, Veterans\, Adaptive and Visually Impaired Open 2026\nVenue: Breckland Leisure Centre\, Croxton Rd\, Thetford IP24 1JD\nDates: 25th and 26th April 2026 \n>> ENTRY LIST<<\n  \n>> EVENT PHOTOGRAPHER GALLERY<< \n  \nMinors: (Technical restrictions apply)\nYear of birth: 2014\, 2015 or 2016\nMinimum grade: 4th Mon or 5th Kyu\nContest duration: All contests will be 3 minute duration with 3 minute Golden Score followed by referee/judge decision. \nMinor Male: -27kg\, -30kg\, -34kg\, -38kg\, -42kg\, -46kg\, -50kg\, +50kg\nMinor Female: -28kg\, -32kg\, -36kg\, -40kg\, -44kg\, -48kg\, -52kg\, +52kg \n  \nPre Cadets: (NO Armlocks and Strangles allowed)\nYear of birth: 2012 or 2013\nMinimum grade: 7th Mon or 4th Kyu\nContest duration: All contests will be 4 minute duration and unlimited Golden Score. \nPre-Cadet Male: -34kg\, -38kg\, -42kg\, -46kg\, -50kg\, -55kg\, -60kg\, -66kg\, -73kg\, +73kg\nPre-Cadet Female: -32kg\, -36kg\, -40kg\, -44kg\, -48kg\, -52kg\, -57kg\, -63kg\, -70kg\, +70kg \n  \nVeterans:\nMinimum age: 30 years plus\nMinimum grade: 3rd Kyu\nContest duration: Contest times will be 3 minutes with unlimited golden score for M1-M6 and F1-F6. M7/F7 and above\, contest times are 2.5 minutes with 1 minute golden score. \nVeteran Male: -60kg\, -66kg\, -73kg\, -81kg\, -90kg\, -100kg\, +100kg\nVeteran Female: -48kg\, -52kg\, -57kg\, -63kg\, -70kg\, -78kg\, +78kg \n  \nAdaptive and Visually Impaired:\nMinimum age: 14 years or above (on the day)\nMin grade: 7th Mon or 4th Kyu\nAdaptive Level: 1\, 2 or 3\nVisually Impaired: If you have any queries about your eligability to enter this section please email: adaptive@britishjudo.org.uk \n  \nFull event information can be found in the event outlines. \n>>EVENT OUTLINES<<\nEntry can be made using the entry form below. If you have a group booking of 5 or more entries please email events@britishjudo.org.uk to make a group booking. \nBy entering and/or attending this event you agree to abide by all British Judo Association policies and codes of conduct. This includes but is not limited to:\n• Transgender policy LINK\n• Codes of conduct LINK\n• Contest rules LINK\n• Stoma bags: LINK\n• Prosthetic limbs: LINK\nYou must contact the organisers and events@britishjudo.org.uk if you require any support at the event or have any questions regarding the above points.\nPlease note that failure to comply with these policies and codes of conduct may result in not being able to compete/attend this event\, or removal from the event\, and notification to the British Judo \nInternational Entries: This event is open to all members of IJF recognised governing bodies. Please note for international entrants you must have a letter from your IJF recognised governing body confirming membership and grade for this event.
URL:https://www.britishjudo.org.uk/event/english-open-2026-min-pcad-vet-adap-vi/
CATEGORIES:Adaptive & Visually Impaired,Competition,Minors (8-11),Pre Cadet (12-13),Veterans (30+)
ATTACH;FMTTYPE=image/jpeg:https://www.britishjudo.org.uk/wp-content/uploads/2025/06/2024-CadetPre-Moments-38-scaled.jpg
END:VEVENT
BEGIN:VEVENT
DTSTART;TZID=Europe/London:20260425T100000
DTEND;TZID=Europe/London:20260425T120000
DTSTAMP:20260425T050803
CREATED:20251215T083554Z
LAST-MODIFIED:20251219T101557Z
UID:465058-1777111200-1777118400@www.britishjudo.org.uk
SUMMARY:Finding Your Feet Series- Dynamic Balance the next steps - 25 Apr 26 - Online Webinar
DESCRIPTION:Date/Times: 25th April 2026 – 10:00-12:00 – Online via MS Teams \nCost: £20 \nFor Coaches who have already completed Finding Your Feet course\, a 2 hour webinar delivered by Dr Agathe Jadczak\, Dr Meera Verma Godan and Mr Michael Headland Rokudan\, supported by Adelaide University. Offering a review of another successful judo programme to the older adults. Content to include: \n• Review the research to date\, both what we’ve done and other teams published work\n• Outline of the Dynamic Balance for Life 10-week program – with a focus on ‘avoiding a fall’ ‘how to land safely’ and ‘how to recover from a fall’.\n• Working with older adults with a range of limitations and challenges (case studies from peripheral neuropathies to double hip or knee replacements)\nSharing our experience of the risk management approach and things to be aware and careful about.\n• Next Steps – transitioning people from an Introductory program to becoming members of your Club\n• Adaptive syllabus we’ve developed for people we call ‘Continuing Balancers’ to get them to a DBfL Yellow belt\, through to DBfL Blue belt. \nGeneral information about the program – https://www.revolutionise.com.au/aujudo/dynamic-balance \nAnd a link to our Latest video https://www.youtube.com/watch?v=6PGrlnVhVA0&t=2s \nhttps://www.facebook.com/reel/1626831761626395 \nPlease contact Laurence Kenyon for any further information: \n07854215654 or laurence.kenyon@britishjudo.org.uk \nThis course is for those who have attended the initial Finding Your Feet coach development course  \nThis is a British Judo Licenced Coach Education / Revalidation Course \n\n  \n  \n  \n  \n  \n\n\n                \n                        \n                            Finding Your Feet Series- Dynamic Balance the next steps - 25 Apr 26 - Online\n                             \n                        \n                        Name*\n                            \n                            \n                                                    \n                                                    First\n                                                \n                            \n                            \n                                                    \n                                                    Last\n                                                \n                            \n                        Gender*MaleFemaleTransgenderDate of Birth*\n                            \n                            DD slash MM slash YYYY\n                        \n                        Club Name*If you are not a member of a club please put N/AAre you a registered BJA member?*\n								\n								Yes\n							\n								\n								No\n							Please state which Association you are affiliated to*Please selectJudoScotlandNI JudoWelsh JudoLicence Number*Are you a Coach?*\n			\n				\n				Yes\n			\n			\n				\n				No\n			Coaching level*Please advise your coaching levelContact Phone Number*Email*\n                                \n                                    \n                                    Enter Email\n                                \n                                \n                                    \n                                    Confirm Email\n                                \n                                \n                            Finding Your Feet Series- Dynamic Balance the next steps  - 25 Apr 26 - Online\n					\n					\n						Price:\n						\n					\n					\n				Discount Code If you have been given a discount code please use it hereTotal\n							£ 0.00\n							\n						Credit Card*
URL:https://www.britishjudo.org.uk/event/finding-your-feet-series-dynamic-balance-the-next-steps-25-apr-26-online-webinar/
LOCATION:MS Teams
CATEGORIES:Finding Your Feet,Revalidation
ORGANIZER;CN="Laurence Kenyon":MAILTO:Laurence.kenyon@britishjudo.org.uk
END:VEVENT
BEGIN:VEVENT
DTSTART;TZID=Europe/London:20260425T100000
DTEND;TZID=Europe/London:20260425T160000
DTSTAMP:20260425T050803
CREATED:20250929T090241Z
LAST-MODIFIED:20260302T094503Z
UID:463632-1777111200-1777132800@www.britishjudo.org.uk
SUMMARY:Katame-No-Kata - 25 Apr 26 - Leigh
DESCRIPTION:Katame-No-Kata \nSaturday 25th April 2026 – 10am – 4pm \nLeigh Judo Club  Lowton Community Hub\, Newton Road\, Lowton\, WA3 2BH \nEmail for further details: \npatanddawnbyrne@talktalk.net \nBOOKING FORM \nThis is a British Judo Licenced Coach Revalidation/Revalidation Course
URL:https://www.britishjudo.org.uk/event/katame-no-kata-25-apr-26-leigh/
LOCATION:Leigh Judo Academy\, Lowton Community Hub\, Newton Road\, Lowton\, Greater Manchester\, WA3 2BH\, United Kingdom
CATEGORIES:Kata,Revalidation
ORGANIZER;CN="Pat Byrne":MAILTO:patanddawnbyrne@talktalk.net
END:VEVENT
BEGIN:VEVENT
DTSTART;TZID=Europe/London:20260425T130000
DTEND;TZID=Europe/London:20260425T170000
DTSTAMP:20260425T050803
CREATED:20260219T115734Z
LAST-MODIFIED:20260422T065632Z
UID:466394-1777122000-1777136400@www.britishjudo.org.uk
SUMMARY:Club\, Area and National C - Referee Module - 25 Apr 26 - York - FULLY BOOKED
DESCRIPTION:THIS COURSE IS NOW FULLY BOOKED THANK YOU FOR YOUR INTEREST\nThe Y&H area are proud to be running a Club\, Area and National C course on 25th April 2026 at the York RI judo club \, please see below the minimum requirements. \nLead tutors : Dave Francis SN-A and Dave Dunsford National A \nPlease bring a white Judogi\, paper and pen\, plus lunch if required. It will be a fun and interactive course whether you are interested in becoming a referee or just want to have a better understanding of the rules. All candidates will take the exam at the end of the session. \nWe have two events for successful candidates who pass the theory exam and wish to become a referee to practice or take the exam on May 3rd and May 30th \nDate / Time: 25th April 2026 – 13:00-17:00 \nBookings close: 23rd April 2026. \nPlease see below the minimum requirements. \nClub Referee: \n\n12 years of age\n10th Mon / 3rd Kyu\nA minimum of 1-year judo experience\nMust hold current BJA / Judo Scotland / NIJF / WJA membership\n\nArea Referee: \n\n15 years of age\n13th Mon / 2nd Kyu\nHave been a Club referee for at least 1 year\, unless entering directly at Area level\nMust hold current BJA / Judo Scotland / NIJF / WJA membership\n\n National C Referee: \n\n18 years of age (unless they started at Club level\, it is then 16)\n18th Mon / 1st Kyu (if going directly to National C\, must have satisfied Fast Track criteria)\nHave been an Area referee for 1 year\, unless entering directly at National C level\nMust hold current full BJA / Judo Scotland / NIJF / WJA membership\n\nIf you have any questions\, please feel free to email Davedunsford63@gmail.com or call 07760 161 030 \nTHIS IS A BRITISH JUDO ASSOCIATION LICENCED REFEREE MODULE \nTHIS COURSE IS NOW FULLY BOOKED THANK YOU FOR YOUR INTEREST\nFor further information on how we handle your data\, please read our Privacy Notice: https://www.britishjudo.org.uk/privacy-policy/
URL:https://www.britishjudo.org.uk/event/club-area-and-national-c-referee-module-25-apr-26-york/
LOCATION:York Railway Institute Judo Club\, York Gymnasium 22 Queen Street\, York\, Yorkshire\, YO24 1AD\, England
CATEGORIES:Officials,Referees
ORGANIZER;CN="Dave Dunsford":MAILTO:Davedunsford63@gmail.com
GEO:53.9561252;-1.0926028
X-APPLE-STRUCTURED-LOCATION;VALUE=URI;X-ADDRESS=York Railway Institute Judo Club York Gymnasium 22 Queen Street York Yorkshire YO24 1AD England;X-APPLE-RADIUS=500;X-TITLE=York Gymnasium 22 Queen Street:geo:-1.0926028,53.9561252
END:VEVENT
END:VCALENDAR