BEGIN:VCALENDAR
VERSION:2.0
PRODID:-//British Judo Association - ECPv6.15.18//NONSGML v1.0//EN
CALSCALE:GREGORIAN
METHOD:PUBLISH
X-WR-CALNAME:British Judo Association
X-ORIGINAL-URL:https://www.britishjudo.org.uk
X-WR-CALDESC:Events for British Judo Association
REFRESH-INTERVAL;VALUE=DURATION:PT1H
X-Robots-Tag:noindex
X-PUBLISHED-TTL:PT1H
BEGIN:VTIMEZONE
TZID:Europe/London
BEGIN:DAYLIGHT
TZOFFSETFROM:+0000
TZOFFSETTO:+0100
TZNAME:BST
DTSTART:20250330T010000
END:DAYLIGHT
BEGIN:STANDARD
TZOFFSETFROM:+0100
TZOFFSETTO:+0000
TZNAME:GMT
DTSTART:20251026T010000
END:STANDARD
BEGIN:DAYLIGHT
TZOFFSETFROM:+0000
TZOFFSETTO:+0100
TZNAME:BST
DTSTART:20260329T010000
END:DAYLIGHT
BEGIN:STANDARD
TZOFFSETFROM:+0100
TZOFFSETTO:+0000
TZNAME:GMT
DTSTART:20261025T010000
END:STANDARD
BEGIN:DAYLIGHT
TZOFFSETFROM:+0000
TZOFFSETTO:+0100
TZNAME:BST
DTSTART:20270328T010000
END:DAYLIGHT
BEGIN:STANDARD
TZOFFSETFROM:+0100
TZOFFSETTO:+0000
TZNAME:GMT
DTSTART:20271031T010000
END:STANDARD
END:VTIMEZONE
BEGIN:VEVENT
DTSTART;TZID=Europe/London:20260421T183000
DTEND;TZID=Europe/London:20260421T194500
DTSTAMP:20260421T114628
CREATED:20260409T095507Z
LAST-MODIFIED:20260409T095507Z
UID:467269-1776796200-1776800700@www.britishjudo.org.uk
SUMMARY:Refereeing and Officials Safeguarding Update 2026
DESCRIPTION:Aimed at Refereeing and Officials a Safeguarding Update for CPD. \n21st April\, 18.30-19.45pm \nMicrosoft Teams meeting \nJoin: https://teams.microsoft.com/meet/35001752560041?p=UoAy3gaelfJTiNuvRY \nMeeting ID: 350 017 525 600 41 \nPasscode: 2g7jL9dN \nAny queries on this training please contact safeguarding@britishjudo.org.uk \nPlease note this is not accepted for revalidation of Safeguarding for Coaches or Club Welfare Officers just for officials as a refresher on Safeguarding \n  \n 
URL:https://www.britishjudo.org.uk/event/refereeing-and-officials-safeguarding-update-2026/
LOCATION:MS Teams
CATEGORIES:Safeguarding
ORGANIZER;CN="British Judo Safeguarding":MAILTO:safeguarding@britishjudo.org.uk
END:VEVENT
END:VCALENDAR