BEGIN:VCALENDAR
VERSION:2.0
PRODID:-//British Judo Association - ECPv6.15.18//NONSGML v1.0//EN
CALSCALE:GREGORIAN
METHOD:PUBLISH
X-WR-CALNAME:British Judo Association
X-ORIGINAL-URL:https://www.britishjudo.org.uk
X-WR-CALDESC:Events for British Judo Association
REFRESH-INTERVAL;VALUE=DURATION:PT1H
X-Robots-Tag:noindex
X-PUBLISHED-TTL:PT1H
BEGIN:VTIMEZONE
TZID:Europe/London
BEGIN:DAYLIGHT
TZOFFSETFROM:+0000
TZOFFSETTO:+0100
TZNAME:BST
DTSTART:20250330T010000
END:DAYLIGHT
BEGIN:STANDARD
TZOFFSETFROM:+0100
TZOFFSETTO:+0000
TZNAME:GMT
DTSTART:20251026T010000
END:STANDARD
BEGIN:DAYLIGHT
TZOFFSETFROM:+0000
TZOFFSETTO:+0100
TZNAME:BST
DTSTART:20260329T010000
END:DAYLIGHT
BEGIN:STANDARD
TZOFFSETFROM:+0100
TZOFFSETTO:+0000
TZNAME:GMT
DTSTART:20261025T010000
END:STANDARD
BEGIN:DAYLIGHT
TZOFFSETFROM:+0000
TZOFFSETTO:+0100
TZNAME:BST
DTSTART:20270328T010000
END:DAYLIGHT
BEGIN:STANDARD
TZOFFSETFROM:+0100
TZOFFSETTO:+0000
TZNAME:GMT
DTSTART:20271031T010000
END:STANDARD
END:VTIMEZONE
BEGIN:VEVENT
DTSTART;VALUE=DATE:20260530
DTEND;VALUE=DATE:20260531
DTSTAMP:20260421T132649
CREATED:20260420T122017Z
LAST-MODIFIED:20260420T122017Z
UID:467363-1780099200-1780185599@www.britishjudo.org.uk
SUMMARY:Emergency First Aid at Work and Safeguarding 1 Day Course - Newton Abbott
DESCRIPTION:Ensure the safety and well-being of your workplace or Training Centre with our Emergency First Aid at Work and Safeguarding Adults and Children Course\, designed to provide you with the essential skills and knowledge to respond effectively in an emergency. \nWhat You’ll Learn: \nBasic Life Support (BLS): Learn how to perform CPR\, manage breathing difficulties\, and handle situations like choking or unconsciousness.\nInjury Management: Gain the skills to treat a wide range of injuries\, from minor cuts and burns to sprains\, fractures\, and head injuries.\nEmergency Protocols: Understand how to assess a situation quickly\, make life-saving decisions\, and provide first aid until professional help arrives.\nFirst Aid Kit Knowledge: Know how to use the contents of a first aid kit effectively and when to replace or replenish supplies.\nLegal Responsibilities: Understand the legal aspects of providing first aid\, including your duty of care and how to protect yourself when giving aid. \nYou will learn the importance of person-centred care and the profound benefits of putting the child’s voice at the heart of every session. Every child has the fundamental right to play\, the right to be heard\, and the right to develop.\nThis course will help you explore how to embed child-first principles to empower you to fulfil your safeguarding responsibilities by demonstrating a robust level of care that ensures the welfare and happiness of every child\, young person and adult. \nMultiple Dates: \nSat 30th May\nMon 15th June\nSat 27th June\nMon 13th July\nMon 14th September\nSat 26th September\nSat 31st October\nMon 16th November\nSat 8th November \nFree Parking on site \nThis is a combined 1 day course so it would be advisable to bring lunch. \nContact 3cptraining@gmail.com to book
URL:https://www.britishjudo.org.uk/event/emergency-first-aid-at-work-and-safeguarding-1-day-course-newton-abbott/2026-05-30/
LOCATION:WBB Judo Club\, Abbrook Park\, Strap Lane\, Sandygate\, Newton Abbot\, Devon\, TQ12 3LN\, United Kingdom
CATEGORIES:First Aid,Safeguarding
ORGANIZER;CN="Matthew Williams":MAILTO:3cptraining@gmail.com
END:VEVENT
BEGIN:VEVENT
DTSTART;VALUE=DATE:20260615
DTEND;VALUE=DATE:20260616
DTSTAMP:20260421T132649
CREATED:20260420T122017Z
LAST-MODIFIED:20260420T122017Z
UID:467364-1781481600-1781567999@www.britishjudo.org.uk
SUMMARY:Emergency First Aid at Work and Safeguarding 1 Day Course - Newton Abbott
DESCRIPTION:Ensure the safety and well-being of your workplace or Training Centre with our Emergency First Aid at Work and Safeguarding Adults and Children Course\, designed to provide you with the essential skills and knowledge to respond effectively in an emergency. \nWhat You’ll Learn: \nBasic Life Support (BLS): Learn how to perform CPR\, manage breathing difficulties\, and handle situations like choking or unconsciousness.\nInjury Management: Gain the skills to treat a wide range of injuries\, from minor cuts and burns to sprains\, fractures\, and head injuries.\nEmergency Protocols: Understand how to assess a situation quickly\, make life-saving decisions\, and provide first aid until professional help arrives.\nFirst Aid Kit Knowledge: Know how to use the contents of a first aid kit effectively and when to replace or replenish supplies.\nLegal Responsibilities: Understand the legal aspects of providing first aid\, including your duty of care and how to protect yourself when giving aid. \nYou will learn the importance of person-centred care and the profound benefits of putting the child’s voice at the heart of every session. Every child has the fundamental right to play\, the right to be heard\, and the right to develop.\nThis course will help you explore how to embed child-first principles to empower you to fulfil your safeguarding responsibilities by demonstrating a robust level of care that ensures the welfare and happiness of every child\, young person and adult. \nMultiple Dates: \nSat 30th May\nMon 15th June\nSat 27th June\nMon 13th July\nMon 14th September\nSat 26th September\nSat 31st October\nMon 16th November\nSat 8th November \nFree Parking on site \nThis is a combined 1 day course so it would be advisable to bring lunch. \nContact 3cptraining@gmail.com to book
URL:https://www.britishjudo.org.uk/event/emergency-first-aid-at-work-and-safeguarding-1-day-course-newton-abbott/2026-06-15/
LOCATION:WBB Judo Club\, Abbrook Park\, Strap Lane\, Sandygate\, Newton Abbot\, Devon\, TQ12 3LN\, United Kingdom
CATEGORIES:First Aid,Safeguarding
ORGANIZER;CN="Matthew Williams":MAILTO:3cptraining@gmail.com
END:VEVENT
BEGIN:VEVENT
DTSTART;VALUE=DATE:20260627
DTEND;VALUE=DATE:20260628
DTSTAMP:20260421T132649
CREATED:20260420T122017Z
LAST-MODIFIED:20260420T122017Z
UID:467365-1782518400-1782604799@www.britishjudo.org.uk
SUMMARY:Emergency First Aid at Work and Safeguarding 1 Day Course - Newton Abbott
DESCRIPTION:Ensure the safety and well-being of your workplace or Training Centre with our Emergency First Aid at Work and Safeguarding Adults and Children Course\, designed to provide you with the essential skills and knowledge to respond effectively in an emergency. \nWhat You’ll Learn: \nBasic Life Support (BLS): Learn how to perform CPR\, manage breathing difficulties\, and handle situations like choking or unconsciousness.\nInjury Management: Gain the skills to treat a wide range of injuries\, from minor cuts and burns to sprains\, fractures\, and head injuries.\nEmergency Protocols: Understand how to assess a situation quickly\, make life-saving decisions\, and provide first aid until professional help arrives.\nFirst Aid Kit Knowledge: Know how to use the contents of a first aid kit effectively and when to replace or replenish supplies.\nLegal Responsibilities: Understand the legal aspects of providing first aid\, including your duty of care and how to protect yourself when giving aid. \nYou will learn the importance of person-centred care and the profound benefits of putting the child’s voice at the heart of every session. Every child has the fundamental right to play\, the right to be heard\, and the right to develop.\nThis course will help you explore how to embed child-first principles to empower you to fulfil your safeguarding responsibilities by demonstrating a robust level of care that ensures the welfare and happiness of every child\, young person and adult. \nMultiple Dates: \nSat 30th May\nMon 15th June\nSat 27th June\nMon 13th July\nMon 14th September\nSat 26th September\nSat 31st October\nMon 16th November\nSat 8th November \nFree Parking on site \nThis is a combined 1 day course so it would be advisable to bring lunch. \nContact 3cptraining@gmail.com to book
URL:https://www.britishjudo.org.uk/event/emergency-first-aid-at-work-and-safeguarding-1-day-course-newton-abbott/2026-06-27/
LOCATION:WBB Judo Club\, Abbrook Park\, Strap Lane\, Sandygate\, Newton Abbot\, Devon\, TQ12 3LN\, United Kingdom
CATEGORIES:First Aid,Safeguarding
ORGANIZER;CN="Matthew Williams":MAILTO:3cptraining@gmail.com
END:VEVENT
BEGIN:VEVENT
DTSTART;VALUE=DATE:20260713
DTEND;VALUE=DATE:20260714
DTSTAMP:20260421T132649
CREATED:20260420T122017Z
LAST-MODIFIED:20260420T122017Z
UID:467366-1783900800-1783987199@www.britishjudo.org.uk
SUMMARY:Emergency First Aid at Work and Safeguarding 1 Day Course - Newton Abbott
DESCRIPTION:Ensure the safety and well-being of your workplace or Training Centre with our Emergency First Aid at Work and Safeguarding Adults and Children Course\, designed to provide you with the essential skills and knowledge to respond effectively in an emergency. \nWhat You’ll Learn: \nBasic Life Support (BLS): Learn how to perform CPR\, manage breathing difficulties\, and handle situations like choking or unconsciousness.\nInjury Management: Gain the skills to treat a wide range of injuries\, from minor cuts and burns to sprains\, fractures\, and head injuries.\nEmergency Protocols: Understand how to assess a situation quickly\, make life-saving decisions\, and provide first aid until professional help arrives.\nFirst Aid Kit Knowledge: Know how to use the contents of a first aid kit effectively and when to replace or replenish supplies.\nLegal Responsibilities: Understand the legal aspects of providing first aid\, including your duty of care and how to protect yourself when giving aid. \nYou will learn the importance of person-centred care and the profound benefits of putting the child’s voice at the heart of every session. Every child has the fundamental right to play\, the right to be heard\, and the right to develop.\nThis course will help you explore how to embed child-first principles to empower you to fulfil your safeguarding responsibilities by demonstrating a robust level of care that ensures the welfare and happiness of every child\, young person and adult. \nMultiple Dates: \nSat 30th May\nMon 15th June\nSat 27th June\nMon 13th July\nMon 14th September\nSat 26th September\nSat 31st October\nMon 16th November\nSat 8th November \nFree Parking on site \nThis is a combined 1 day course so it would be advisable to bring lunch. \nContact 3cptraining@gmail.com to book
URL:https://www.britishjudo.org.uk/event/emergency-first-aid-at-work-and-safeguarding-1-day-course-newton-abbott/2026-07-13/
LOCATION:WBB Judo Club\, Abbrook Park\, Strap Lane\, Sandygate\, Newton Abbot\, Devon\, TQ12 3LN\, United Kingdom
CATEGORIES:First Aid,Safeguarding
ORGANIZER;CN="Matthew Williams":MAILTO:3cptraining@gmail.com
END:VEVENT
BEGIN:VEVENT
DTSTART;VALUE=DATE:20260914
DTEND;VALUE=DATE:20260915
DTSTAMP:20260421T132649
CREATED:20260420T122017Z
LAST-MODIFIED:20260420T122017Z
UID:467367-1789344000-1789430399@www.britishjudo.org.uk
SUMMARY:Emergency First Aid at Work and Safeguarding 1 Day Course - Newton Abbott
DESCRIPTION:Ensure the safety and well-being of your workplace or Training Centre with our Emergency First Aid at Work and Safeguarding Adults and Children Course\, designed to provide you with the essential skills and knowledge to respond effectively in an emergency. \nWhat You’ll Learn: \nBasic Life Support (BLS): Learn how to perform CPR\, manage breathing difficulties\, and handle situations like choking or unconsciousness.\nInjury Management: Gain the skills to treat a wide range of injuries\, from minor cuts and burns to sprains\, fractures\, and head injuries.\nEmergency Protocols: Understand how to assess a situation quickly\, make life-saving decisions\, and provide first aid until professional help arrives.\nFirst Aid Kit Knowledge: Know how to use the contents of a first aid kit effectively and when to replace or replenish supplies.\nLegal Responsibilities: Understand the legal aspects of providing first aid\, including your duty of care and how to protect yourself when giving aid. \nYou will learn the importance of person-centred care and the profound benefits of putting the child’s voice at the heart of every session. Every child has the fundamental right to play\, the right to be heard\, and the right to develop.\nThis course will help you explore how to embed child-first principles to empower you to fulfil your safeguarding responsibilities by demonstrating a robust level of care that ensures the welfare and happiness of every child\, young person and adult. \nMultiple Dates: \nSat 30th May\nMon 15th June\nSat 27th June\nMon 13th July\nMon 14th September\nSat 26th September\nSat 31st October\nMon 16th November\nSat 8th November \nFree Parking on site \nThis is a combined 1 day course so it would be advisable to bring lunch. \nContact 3cptraining@gmail.com to book
URL:https://www.britishjudo.org.uk/event/emergency-first-aid-at-work-and-safeguarding-1-day-course-newton-abbott/2026-09-14/
LOCATION:WBB Judo Club\, Abbrook Park\, Strap Lane\, Sandygate\, Newton Abbot\, Devon\, TQ12 3LN\, United Kingdom
CATEGORIES:First Aid,Safeguarding
ORGANIZER;CN="Matthew Williams":MAILTO:3cptraining@gmail.com
END:VEVENT
BEGIN:VEVENT
DTSTART;VALUE=DATE:20260926
DTEND;VALUE=DATE:20260927
DTSTAMP:20260421T132649
CREATED:20260420T122017Z
LAST-MODIFIED:20260420T122017Z
UID:467368-1790380800-1790467199@www.britishjudo.org.uk
SUMMARY:Emergency First Aid at Work and Safeguarding 1 Day Course - Newton Abbott
DESCRIPTION:Ensure the safety and well-being of your workplace or Training Centre with our Emergency First Aid at Work and Safeguarding Adults and Children Course\, designed to provide you with the essential skills and knowledge to respond effectively in an emergency. \nWhat You’ll Learn: \nBasic Life Support (BLS): Learn how to perform CPR\, manage breathing difficulties\, and handle situations like choking or unconsciousness.\nInjury Management: Gain the skills to treat a wide range of injuries\, from minor cuts and burns to sprains\, fractures\, and head injuries.\nEmergency Protocols: Understand how to assess a situation quickly\, make life-saving decisions\, and provide first aid until professional help arrives.\nFirst Aid Kit Knowledge: Know how to use the contents of a first aid kit effectively and when to replace or replenish supplies.\nLegal Responsibilities: Understand the legal aspects of providing first aid\, including your duty of care and how to protect yourself when giving aid. \nYou will learn the importance of person-centred care and the profound benefits of putting the child’s voice at the heart of every session. Every child has the fundamental right to play\, the right to be heard\, and the right to develop.\nThis course will help you explore how to embed child-first principles to empower you to fulfil your safeguarding responsibilities by demonstrating a robust level of care that ensures the welfare and happiness of every child\, young person and adult. \nMultiple Dates: \nSat 30th May\nMon 15th June\nSat 27th June\nMon 13th July\nMon 14th September\nSat 26th September\nSat 31st October\nMon 16th November\nSat 8th November \nFree Parking on site \nThis is a combined 1 day course so it would be advisable to bring lunch. \nContact 3cptraining@gmail.com to book
URL:https://www.britishjudo.org.uk/event/emergency-first-aid-at-work-and-safeguarding-1-day-course-newton-abbott/2026-09-26/
LOCATION:WBB Judo Club\, Abbrook Park\, Strap Lane\, Sandygate\, Newton Abbot\, Devon\, TQ12 3LN\, United Kingdom
CATEGORIES:First Aid,Safeguarding
ORGANIZER;CN="Matthew Williams":MAILTO:3cptraining@gmail.com
END:VEVENT
BEGIN:VEVENT
DTSTART;VALUE=DATE:20261031
DTEND;VALUE=DATE:20261101
DTSTAMP:20260421T132649
CREATED:20260420T122017Z
LAST-MODIFIED:20260420T122017Z
UID:467369-1793404800-1793491199@www.britishjudo.org.uk
SUMMARY:Emergency First Aid at Work and Safeguarding 1 Day Course - Newton Abbott
DESCRIPTION:Ensure the safety and well-being of your workplace or Training Centre with our Emergency First Aid at Work and Safeguarding Adults and Children Course\, designed to provide you with the essential skills and knowledge to respond effectively in an emergency. \nWhat You’ll Learn: \nBasic Life Support (BLS): Learn how to perform CPR\, manage breathing difficulties\, and handle situations like choking or unconsciousness.\nInjury Management: Gain the skills to treat a wide range of injuries\, from minor cuts and burns to sprains\, fractures\, and head injuries.\nEmergency Protocols: Understand how to assess a situation quickly\, make life-saving decisions\, and provide first aid until professional help arrives.\nFirst Aid Kit Knowledge: Know how to use the contents of a first aid kit effectively and when to replace or replenish supplies.\nLegal Responsibilities: Understand the legal aspects of providing first aid\, including your duty of care and how to protect yourself when giving aid. \nYou will learn the importance of person-centred care and the profound benefits of putting the child’s voice at the heart of every session. Every child has the fundamental right to play\, the right to be heard\, and the right to develop.\nThis course will help you explore how to embed child-first principles to empower you to fulfil your safeguarding responsibilities by demonstrating a robust level of care that ensures the welfare and happiness of every child\, young person and adult. \nMultiple Dates: \nSat 30th May\nMon 15th June\nSat 27th June\nMon 13th July\nMon 14th September\nSat 26th September\nSat 31st October\nMon 16th November\nSat 8th November \nFree Parking on site \nThis is a combined 1 day course so it would be advisable to bring lunch. \nContact 3cptraining@gmail.com to book
URL:https://www.britishjudo.org.uk/event/emergency-first-aid-at-work-and-safeguarding-1-day-course-newton-abbott/2026-10-31/
LOCATION:WBB Judo Club\, Abbrook Park\, Strap Lane\, Sandygate\, Newton Abbot\, Devon\, TQ12 3LN\, United Kingdom
CATEGORIES:First Aid,Safeguarding
ORGANIZER;CN="Matthew Williams":MAILTO:3cptraining@gmail.com
END:VEVENT
BEGIN:VEVENT
DTSTART;VALUE=DATE:20261108
DTEND;VALUE=DATE:20261109
DTSTAMP:20260421T132649
CREATED:20260420T122017Z
LAST-MODIFIED:20260420T122017Z
UID:467370-1794096000-1794182399@www.britishjudo.org.uk
SUMMARY:Emergency First Aid at Work and Safeguarding 1 Day Course - Newton Abbott
DESCRIPTION:Ensure the safety and well-being of your workplace or Training Centre with our Emergency First Aid at Work and Safeguarding Adults and Children Course\, designed to provide you with the essential skills and knowledge to respond effectively in an emergency. \nWhat You’ll Learn: \nBasic Life Support (BLS): Learn how to perform CPR\, manage breathing difficulties\, and handle situations like choking or unconsciousness.\nInjury Management: Gain the skills to treat a wide range of injuries\, from minor cuts and burns to sprains\, fractures\, and head injuries.\nEmergency Protocols: Understand how to assess a situation quickly\, make life-saving decisions\, and provide first aid until professional help arrives.\nFirst Aid Kit Knowledge: Know how to use the contents of a first aid kit effectively and when to replace or replenish supplies.\nLegal Responsibilities: Understand the legal aspects of providing first aid\, including your duty of care and how to protect yourself when giving aid. \nYou will learn the importance of person-centred care and the profound benefits of putting the child’s voice at the heart of every session. Every child has the fundamental right to play\, the right to be heard\, and the right to develop.\nThis course will help you explore how to embed child-first principles to empower you to fulfil your safeguarding responsibilities by demonstrating a robust level of care that ensures the welfare and happiness of every child\, young person and adult. \nMultiple Dates: \nSat 30th May\nMon 15th June\nSat 27th June\nMon 13th July\nMon 14th September\nSat 26th September\nSat 31st October\nMon 16th November\nSat 8th November \nFree Parking on site \nThis is a combined 1 day course so it would be advisable to bring lunch. \nContact 3cptraining@gmail.com to book
URL:https://www.britishjudo.org.uk/event/emergency-first-aid-at-work-and-safeguarding-1-day-course-newton-abbott/2026-11-08/
LOCATION:WBB Judo Club\, Abbrook Park\, Strap Lane\, Sandygate\, Newton Abbot\, Devon\, TQ12 3LN\, United Kingdom
CATEGORIES:First Aid,Safeguarding
ORGANIZER;CN="Matthew Williams":MAILTO:3cptraining@gmail.com
END:VEVENT
BEGIN:VEVENT
DTSTART;VALUE=DATE:20261116
DTEND;VALUE=DATE:20261117
DTSTAMP:20260421T132649
CREATED:20260420T122017Z
LAST-MODIFIED:20260420T122017Z
UID:467371-1794787200-1794873599@www.britishjudo.org.uk
SUMMARY:Emergency First Aid at Work and Safeguarding 1 Day Course - Newton Abbott
DESCRIPTION:Ensure the safety and well-being of your workplace or Training Centre with our Emergency First Aid at Work and Safeguarding Adults and Children Course\, designed to provide you with the essential skills and knowledge to respond effectively in an emergency. \nWhat You’ll Learn: \nBasic Life Support (BLS): Learn how to perform CPR\, manage breathing difficulties\, and handle situations like choking or unconsciousness.\nInjury Management: Gain the skills to treat a wide range of injuries\, from minor cuts and burns to sprains\, fractures\, and head injuries.\nEmergency Protocols: Understand how to assess a situation quickly\, make life-saving decisions\, and provide first aid until professional help arrives.\nFirst Aid Kit Knowledge: Know how to use the contents of a first aid kit effectively and when to replace or replenish supplies.\nLegal Responsibilities: Understand the legal aspects of providing first aid\, including your duty of care and how to protect yourself when giving aid. \nYou will learn the importance of person-centred care and the profound benefits of putting the child’s voice at the heart of every session. Every child has the fundamental right to play\, the right to be heard\, and the right to develop.\nThis course will help you explore how to embed child-first principles to empower you to fulfil your safeguarding responsibilities by demonstrating a robust level of care that ensures the welfare and happiness of every child\, young person and adult. \nMultiple Dates: \nSat 30th May\nMon 15th June\nSat 27th June\nMon 13th July\nMon 14th September\nSat 26th September\nSat 31st October\nMon 16th November\nSat 8th November \nFree Parking on site \nThis is a combined 1 day course so it would be advisable to bring lunch. \nContact 3cptraining@gmail.com to book
URL:https://www.britishjudo.org.uk/event/emergency-first-aid-at-work-and-safeguarding-1-day-course-newton-abbott/2026-11-16/
LOCATION:WBB Judo Club\, Abbrook Park\, Strap Lane\, Sandygate\, Newton Abbot\, Devon\, TQ12 3LN\, United Kingdom
CATEGORIES:First Aid,Safeguarding
ORGANIZER;CN="Matthew Williams":MAILTO:3cptraining@gmail.com
END:VEVENT
END:VCALENDAR